| Back to Multiple platform build/check report for BioC 3.9 | 
 | 
This page was generated on 2019-04-09 13:14:25 -0400 (Tue, 09 Apr 2019).
| Package 1370/1703 | Hostname | OS / Arch | INSTALL | BUILD | CHECK | BUILD BIN | ||||||
| rnaseqcomp 1.13.0 Mingxiang Teng 
 | malbec2 | Linux (Ubuntu 18.04.2 LTS) / x86_64 | OK | OK | OK |  | ||||||
| tokay2 | Windows Server 2012 R2 Standard / x64 | OK | OK | OK | OK |  | ||||||
| celaya2 | OS X 10.11.6 El Capitan / x86_64 | OK | OK | [ OK ] | OK |  | ||||||
| merida2 | OS X 10.11.6 El Capitan / x86_64 | OK | OK | OK | OK | 
| Package: rnaseqcomp | 
| Version: 1.13.0 | 
| Command: /Library/Frameworks/R.framework/Versions/Current/Resources/bin/R CMD check --install=check:rnaseqcomp.install-out.txt --library=/Library/Frameworks/R.framework/Versions/Current/Resources/library --no-vignettes --timings rnaseqcomp_1.13.0.tar.gz | 
| StartedAt: 2019-04-09 05:04:32 -0400 (Tue, 09 Apr 2019) | 
| EndedAt: 2019-04-09 05:05:38 -0400 (Tue, 09 Apr 2019) | 
| EllapsedTime: 66.1 seconds | 
| RetCode: 0 | 
| Status: OK | 
| CheckDir: rnaseqcomp.Rcheck | 
| Warnings: 0 | 
##############################################################################
##############################################################################
###
### Running command:
###
###   /Library/Frameworks/R.framework/Versions/Current/Resources/bin/R CMD check --install=check:rnaseqcomp.install-out.txt --library=/Library/Frameworks/R.framework/Versions/Current/Resources/library --no-vignettes --timings rnaseqcomp_1.13.0.tar.gz
###
##############################################################################
##############################################################################
* using log directory ‘/Users/biocbuild/bbs-3.9-bioc/meat/rnaseqcomp.Rcheck’
* using R Under development (unstable) (2019-03-18 r76245)
* using platform: x86_64-apple-darwin15.6.0 (64-bit)
* using session charset: UTF-8
* using option ‘--no-vignettes’
* checking for file ‘rnaseqcomp/DESCRIPTION’ ... OK
* this is package ‘rnaseqcomp’ version ‘1.13.0’
* checking package namespace information ... OK
* checking package dependencies ... OK
* checking if this is a source package ... OK
* checking if there is a namespace ... OK
* checking for hidden files and directories ... OK
* checking for portable file names ... OK
* checking for sufficient/correct file permissions ... OK
* checking whether package ‘rnaseqcomp’ can be installed ... OK
* checking installed package size ... OK
* checking package directory ... OK
* checking ‘build’ directory ... OK
* checking DESCRIPTION meta-information ... OK
* checking top-level files ... OK
* checking for left-over files ... OK
* checking index information ... OK
* checking package subdirectories ... OK
* checking R files for non-ASCII characters ... OK
* checking R files for syntax errors ... OK
* checking whether the package can be loaded ... OK
* checking whether the package can be loaded with stated dependencies ... OK
* checking whether the package can be unloaded cleanly ... OK
* checking whether the namespace can be loaded with stated dependencies ... OK
* checking whether the namespace can be unloaded cleanly ... OK
* checking dependencies in R code ... OK
* checking S3 generic/method consistency ... OK
* checking replacement functions ... OK
* checking foreign function calls ... OK
* checking R code for possible problems ... NOTE
plot2TX: no visible global function definition for ‘plot’
plot2TX: no visible global function definition for ‘lines’
plot2TX: no visible global function definition for ‘box’
plot2TX: no visible global function definition for ‘legend’
plot2TX : <anonymous>: no visible binding for global variable ‘sd’
plot2TX : <anonymous>: no visible global function definition for ‘sd’
plotFC: no visible global function definition for ‘loess.smooth’
plotFC: no visible global function definition for ‘plot’
plotFC: no visible global function definition for ‘lines’
plotFC: no visible global function definition for ‘legend’
plotFC : <anonymous>: no visible global function definition for
  ‘median’
plotFC : <anonymous>: no visible global function definition for ‘sd’
plotNE: no visible global function definition for ‘plot’
plotNE: no visible global function definition for ‘lines’
plotNE: no visible global function definition for ‘points’
plotNE: no visible global function definition for ‘box’
plotNE: no visible global function definition for ‘legend’
plotROC: no visible global function definition for ‘median’
plotROC: no visible global function definition for ‘sd’
plotROC: no visible global function definition for ‘plot’
plotROC: no visible global function definition for ‘lines’
plotROC: no visible global function definition for ‘arrows’
plotROC: no visible global function definition for ‘abline’
plotROC: no visible global function definition for ‘legend’
plotSD : <anonymous>: no visible binding for global variable ‘sd’
plotSD: no visible global function definition for ‘loess.smooth’
plotSD: no visible global function definition for ‘plot’
plotSD: no visible global function definition for ‘lines’
plotSD: no visible global function definition for ‘box’
plotSD: no visible global function definition for ‘legend’
plotSD : <anonymous> : <anonymous>: no visible global function
  definition for ‘median’
plotSD : <anonymous> : <anonymous>: no visible global function
  definition for ‘mad’
signalCalibrate : <anonymous>: no visible binding for global variable
  ‘median’
signalCalibrate: no visible global function definition for ‘median’
Undefined global functions or variables:
  abline arrows box legend lines loess.smooth mad median plot points sd
Consider adding
  importFrom("graphics", "abline", "arrows", "box", "legend", "lines",
             "plot", "points")
  importFrom("stats", "loess.smooth", "mad", "median", "sd")
to your NAMESPACE file.
* checking Rd files ... OK
* checking Rd metadata ... OK
* checking Rd cross-references ... OK
* checking for missing documentation entries ... OK
* checking for code/documentation mismatches ... OK
* checking Rd \usage sections ... OK
* checking Rd contents ... OK
* checking for unstated dependencies in examples ... OK
* checking contents of ‘data’ directory ... OK
* checking data for non-ASCII characters ... OK
* checking data for ASCII and uncompressed saves ... OK
* checking sizes of PDF files under ‘inst/doc’ ... OK
* checking files in ‘vignettes’ ... OK
* checking examples ... OK
Examples with CPU or elapsed time > 5s
         user system elapsed
plotROC 9.877  4.759  14.636
plotNE  3.843  1.553   5.397
* checking for unstated dependencies in vignettes ... OK
* checking package vignettes in ‘inst/doc’ ... OK
* checking running R code from vignettes ... SKIPPED
* checking re-building of vignette outputs ... SKIPPED
* checking PDF version of manual ... OK
* DONE
Status: 1 NOTE
See
  ‘/Users/biocbuild/bbs-3.9-bioc/meat/rnaseqcomp.Rcheck/00check.log’
for details.
rnaseqcomp.Rcheck/00install.out
############################################################################## ############################################################################## ### ### Running command: ### ### /Library/Frameworks/R.framework/Versions/Current/Resources/bin/R CMD INSTALL rnaseqcomp ### ############################################################################## ############################################################################## * installing to library ‘/Library/Frameworks/R.framework/Versions/3.6/Resources/library’ * installing *source* package ‘rnaseqcomp’ ... ** using staged installation ** R ** data ** inst ** byte-compile and prepare package for lazy loading ** help *** installing help indices ** building package indices ** installing vignettes ** testing if installed package can be loaded from temporary location ** testing if installed package can be loaded from final location ** testing if installed package keeps a record of temporary installation path * DONE (rnaseqcomp)
rnaseqcomp.Rcheck/rnaseqcomp-Ex.timings
| name | user | system | elapsed | |
| plot2TX | 0.743 | 0.160 | 0.903 | |
| plotFC | 0.345 | 0.061 | 0.406 | |
| plotNE | 3.843 | 1.553 | 5.397 | |
| plotROC | 9.877 | 4.759 | 14.636 | |
| plotSD | 2.267 | 0.095 | 2.362 | |
| signalCalibrate | 0.191 | 0.032 | 0.222 | |