| Back to Multiple platform build/check report for BioC 3.9 |
|
This page was generated on 2019-04-09 12:20:17 -0400 (Tue, 09 Apr 2019).
| Package 1351/1703 | Hostname | OS / Arch | INSTALL | BUILD | CHECK | BUILD BIN | ||||||
| riboSeqR 1.17.0 Thomas J. Hardcastle
| malbec2 | Linux (Ubuntu 18.04.2 LTS) / x86_64 | OK | OK | OK | |||||||
| tokay2 | Windows Server 2012 R2 Standard / x64 | OK | OK | OK | [ OK ] | |||||||
| celaya2 | OS X 10.11.6 El Capitan / x86_64 | OK | OK | OK | OK | |||||||
| merida2 | OS X 10.11.6 El Capitan / x86_64 | OK | OK | OK | OK |
| Package: riboSeqR |
| Version: 1.17.0 |
| Command: rm -rf riboSeqR.buildbin-libdir && mkdir riboSeqR.buildbin-libdir && C:\Users\biocbuild\bbs-3.9-bioc\R\bin\R.exe CMD INSTALL --merge-multiarch --build --library=riboSeqR.buildbin-libdir riboSeqR_1.17.0.tar.gz |
| StartedAt: 2019-04-09 08:50:24 -0400 (Tue, 09 Apr 2019) |
| EndedAt: 2019-04-09 08:51:04 -0400 (Tue, 09 Apr 2019) |
| EllapsedTime: 40.0 seconds |
| RetCode: 0 |
| Status: OK |
| PackageFile: riboSeqR_1.17.0.zip |
| PackageFileSize: 3.897 MiB |
##############################################################################
##############################################################################
###
### Running command:
###
### rm -rf riboSeqR.buildbin-libdir && mkdir riboSeqR.buildbin-libdir && C:\Users\biocbuild\bbs-3.9-bioc\R\bin\R.exe CMD INSTALL --merge-multiarch --build --library=riboSeqR.buildbin-libdir riboSeqR_1.17.0.tar.gz
###
##############################################################################
##############################################################################
install for i386
* installing *source* package 'riboSeqR' ...
** R
** inst
** byte-compile and prepare package for lazy loading
** help
*** installing help indices
converting help for package 'riboSeqR'
finding HTML links ... done
filterHits html
findCDS html
frameCounting html
frameShift html
lengthDist html
libScales html
logoContext html
plotCDS html
plotTranscript html
readRibodata html
riboCoding-class html
riboData-class html
riboSeqR-package html
rnaCounts html
sliceCounts html
** building package indices
** installing vignettes
** testing if installed package can be loaded from temporary location
** testing if installed package can be loaded from final location
** testing if installed package keeps a record of temporary installation path
install for x64
* installing *source* package 'riboSeqR' ...
** testing if installed package can be loaded
* MD5 sums
packaged installation of 'riboSeqR' as riboSeqR_1.17.0.zip
* DONE (riboSeqR)