| Back to Multiple platform build/check report for BioC 3.9 |
|
This page was generated on 2019-04-09 12:23:28 -0400 (Tue, 09 Apr 2019).
| Package 1299/1703 | Hostname | OS / Arch | INSTALL | BUILD | CHECK | BUILD BIN | ||||||
| rcellminer 2.5.0 Augustin Luna
| malbec2 | Linux (Ubuntu 18.04.2 LTS) / x86_64 | OK | OK | OK | |||||||
| tokay2 | Windows Server 2012 R2 Standard / x64 | OK | OK | OK | [ OK ] | |||||||
| celaya2 | OS X 10.11.6 El Capitan / x86_64 | OK | OK | OK | OK | |||||||
| merida2 | OS X 10.11.6 El Capitan / x86_64 | OK | OK | OK | OK |
| Package: rcellminer |
| Version: 2.5.0 |
| Command: rm -rf rcellminer.buildbin-libdir && mkdir rcellminer.buildbin-libdir && C:\Users\biocbuild\bbs-3.9-bioc\R\bin\R.exe CMD INSTALL --merge-multiarch --build --library=rcellminer.buildbin-libdir rcellminer_2.5.0.tar.gz |
| StartedAt: 2019-04-09 08:47:20 -0400 (Tue, 09 Apr 2019) |
| EndedAt: 2019-04-09 08:47:54 -0400 (Tue, 09 Apr 2019) |
| EllapsedTime: 34.2 seconds |
| RetCode: 0 |
| Status: OK |
| PackageFile: rcellminer_2.5.0.zip |
| PackageFileSize: 6.077 MiB |
##############################################################################
##############################################################################
###
### Running command:
###
### rm -rf rcellminer.buildbin-libdir && mkdir rcellminer.buildbin-libdir && C:\Users\biocbuild\bbs-3.9-bioc\R\bin\R.exe CMD INSTALL --merge-multiarch --build --library=rcellminer.buildbin-libdir rcellminer_2.5.0.tar.gz
###
##############################################################################
##############################################################################
install for i386
* installing *source* package 'rcellminer' ...
** R
** data
*** moving datasets to lazyload DB
** inst
** byte-compile and prepare package for lazy loading
** help
*** installing help indices
converting help for package 'rcellminer'
finding HTML links ... done
DrugData-class html
DrugData-eSet-eSet-MIAxE-method html
DrugData html
Drug_MOA_Key html
MolData-class html
MolData-list-MIAxE-method html
MolData html
cmVersion html
compareFingerprints html
crossCors html
crossCorsSpearman html
drugDB html
elNetMolDataNCI60 html
fingerprintList html
getAct-DrugData-method html
getAct html
getActivityRangeStats html
getAllFeatureData-MolData-method html
getAllFeatureData html
getBinaryMutationData html
getColumnQuantiles html
getDrugActivityData html
getDrugActivityRange html
getDrugActivityRepeatData html
getDrugMoaList html
getDrugName html
getESetList-MolData-method html
getESetList html
getFeatureAnnot-DrugData-method html
getFeatureAnnot-MolData-method html
getFeatureAnnot html
getFeatureDataFromMatList html
getFingerprintList html
getMedSenLineActivity html
getMinDrugActivityRepeatCor html
getMoaStr html
getMoaToCompounds html
getMolDataMatrices html
getMolDataType html
getNumDrugActivityRepeats html
getNumMissingLines html
getRepeatAct-DrugData-method html
getRepeatAct html
getRsd html
getSampleData-DrugData-method html
getSampleData-MolData-method html
getSampleData html
getSmiles html
hasMoa html
initialize-DrugData-method html
initialize-MolData-method html
isPublic html
loadCellminerPlotInfo html
loadNciColorSet html
parCorPatternComparison html
passRuleOf5 html
passRuleOf5FromNsc html
patternComparison html
plotCellMiner html
plotCellMiner2D html
plotDrugActivityRepeats html
plotDrugSets html
plotStructures html
plotStructuresFromNscs html
rcdkplot html
removeMolDataType html
restrictFeatureMat html
rowCors html
runShinyApp html
runShinyComparePlots html
runShinyCompareStructures html
runShinyCompoundBrowser html
searchForNscs html
selectCorrelatedRows html
selectCorrelatedRowsFromMatrices html
sub-sub-MolData-method html
sub-subset-MolData-method html
** building package indices
** installing vignettes
** testing if installed package can be loaded from temporary location
** testing if installed package can be loaded from final location
** testing if installed package keeps a record of temporary installation path
install for x64
* installing *source* package 'rcellminer' ...
** testing if installed package can be loaded
* MD5 sums
packaged installation of 'rcellminer' as rcellminer_2.5.0.zip
* DONE (rcellminer)