| Back to Multiple platform build/check report for BioC 3.9 |
|
This page was generated on 2019-04-09 11:59:26 -0400 (Tue, 09 Apr 2019).
| Package 1284/1703 | Hostname | OS / Arch | INSTALL | BUILD | CHECK | BUILD BIN | ||||||
| randPack 1.29.0 Robert Gentleman
| malbec2 | Linux (Ubuntu 18.04.2 LTS) / x86_64 | OK | OK | OK | |||||||
| tokay2 | Windows Server 2012 R2 Standard / x64 | OK | OK | OK | [ OK ] | |||||||
| celaya2 | OS X 10.11.6 El Capitan / x86_64 | OK | OK | OK | OK | |||||||
| merida2 | OS X 10.11.6 El Capitan / x86_64 | OK | OK | OK | OK |
| Package: randPack |
| Version: 1.29.0 |
| Command: rm -rf randPack.buildbin-libdir && mkdir randPack.buildbin-libdir && C:\Users\biocbuild\bbs-3.9-bioc\R\bin\R.exe CMD INSTALL --merge-multiarch --build --library=randPack.buildbin-libdir randPack_1.29.0.tar.gz |
| StartedAt: 2019-04-09 08:46:21 -0400 (Tue, 09 Apr 2019) |
| EndedAt: 2019-04-09 08:47:04 -0400 (Tue, 09 Apr 2019) |
| EllapsedTime: 43.5 seconds |
| RetCode: 0 |
| Status: OK |
| PackageFile: randPack_1.29.0.zip |
| PackageFileSize: 274.4 KiB |
##############################################################################
##############################################################################
###
### Running command:
###
### rm -rf randPack.buildbin-libdir && mkdir randPack.buildbin-libdir && C:\Users\biocbuild\bbs-3.9-bioc\R\bin\R.exe CMD INSTALL --merge-multiarch --build --library=randPack.buildbin-libdir randPack_1.29.0.tar.gz
###
##############################################################################
##############################################################################
install for i386
* installing *source* package 'randPack' ...
** R
** data
** inst
** byte-compile and prepare package for lazy loading
** help
*** installing help indices
converting help for package 'randPack'
finding HTML links ... done
CT1 html
ClinicalExperiment-class html
ClinicalTrial-class html
PatientData-class html
PatientID-class html
Randomizer-class html
SampleData html
createTrial html
getEnrolleeInfo html
getTreatment html
makeRandomizer html
minimizePocSim html
simPats html
treatmentNames html
** building package indices
** installing vignettes
** testing if installed package can be loaded from temporary location
** testing if installed package can be loaded from final location
** testing if installed package keeps a record of temporary installation path
install for x64
* installing *source* package 'randPack' ...
** testing if installed package can be loaded
* MD5 sums
packaged installation of 'randPack' as randPack_1.29.0.zip
* DONE (randPack)