| Back to Multiple platform build/check report for BioC 3.9 |
|
This page was generated on 2019-04-09 12:21:05 -0400 (Tue, 09 Apr 2019).
| Package 1280/1703 | Hostname | OS / Arch | INSTALL | BUILD | CHECK | BUILD BIN | ||||||
| rain 1.17.0 Paul F. Thaben
| malbec2 | Linux (Ubuntu 18.04.2 LTS) / x86_64 | OK | OK | OK | |||||||
| tokay2 | Windows Server 2012 R2 Standard / x64 | OK | OK | OK | [ OK ] | |||||||
| celaya2 | OS X 10.11.6 El Capitan / x86_64 | OK | OK | OK | OK | |||||||
| merida2 | OS X 10.11.6 El Capitan / x86_64 | OK | OK | OK | OK |
| Package: rain |
| Version: 1.17.0 |
| Command: rm -rf rain.buildbin-libdir && mkdir rain.buildbin-libdir && C:\Users\biocbuild\bbs-3.9-bioc\R\bin\R.exe CMD INSTALL --merge-multiarch --build --library=rain.buildbin-libdir rain_1.17.0.tar.gz |
| StartedAt: 2019-04-09 08:46:06 -0400 (Tue, 09 Apr 2019) |
| EndedAt: 2019-04-09 08:46:37 -0400 (Tue, 09 Apr 2019) |
| EllapsedTime: 30.8 seconds |
| RetCode: 0 |
| Status: OK |
| PackageFile: rain_1.17.0.zip |
| PackageFileSize: 626 KiB |
##############################################################################
##############################################################################
###
### Running command:
###
### rm -rf rain.buildbin-libdir && mkdir rain.buildbin-libdir && C:\Users\biocbuild\bbs-3.9-bioc\R\bin\R.exe CMD INSTALL --merge-multiarch --build --library=rain.buildbin-libdir rain_1.17.0.tar.gz
###
##############################################################################
##############################################################################
install for i386
* installing *source* package 'rain' ...
** R
** data
** inst
** byte-compile and prepare package for lazy loading
** help
*** installing help indices
converting help for package 'rain'
finding HTML links ... done
menetRNASeqMouseLiver html
rain-package html
rain html
** building package indices
** installing vignettes
** testing if installed package can be loaded from temporary location
** testing if installed package can be loaded from final location
** testing if installed package keeps a record of temporary installation path
install for x64
* installing *source* package 'rain' ...
** testing if installed package can be loaded
* MD5 sums
packaged installation of 'rain' as rain_1.17.0.zip
* DONE (rain)