Back to Multiple platform build/check report for BioC 3.9 |
|
This page was generated on 2019-04-09 12:43:12 -0400 (Tue, 09 Apr 2019).
Package 1395/1703 | Hostname | OS / Arch | INSTALL | BUILD | CHECK | BUILD BIN | ||||||
rScudo 0.99.6 Matteo Ciciani
| malbec2 | Linux (Ubuntu 18.04.2 LTS) / x86_64 | OK | OK | OK | ![]() | ||||||
tokay2 | Windows Server 2012 R2 Standard / x64 | OK | OK | OK | [ OK ] | ![]() | ||||||
celaya2 | OS X 10.11.6 El Capitan / x86_64 | OK | OK | OK | OK | ![]() | ||||||
merida2 | OS X 10.11.6 El Capitan / x86_64 | OK | OK | OK | OK |
Package: rScudo |
Version: 0.99.6 |
Command: rm -rf rScudo.buildbin-libdir && mkdir rScudo.buildbin-libdir && C:\Users\biocbuild\bbs-3.9-bioc\R\bin\R.exe CMD INSTALL --merge-multiarch --build --library=rScudo.buildbin-libdir rScudo_0.99.6.tar.gz |
StartedAt: 2019-04-09 08:53:01 -0400 (Tue, 09 Apr 2019) |
EndedAt: 2019-04-09 08:53:40 -0400 (Tue, 09 Apr 2019) |
EllapsedTime: 39.3 seconds |
RetCode: 0 |
Status: OK |
PackageFile: rScudo_0.99.6.zip |
PackageFileSize: 398.7 KiB |
############################################################################## ############################################################################## ### ### Running command: ### ### rm -rf rScudo.buildbin-libdir && mkdir rScudo.buildbin-libdir && C:\Users\biocbuild\bbs-3.9-bioc\R\bin\R.exe CMD INSTALL --merge-multiarch --build --library=rScudo.buildbin-libdir rScudo_0.99.6.tar.gz ### ############################################################################## ############################################################################## install for i386 * installing *source* package 'rScudo' ... ** R ** inst ** byte-compile and prepare package for lazy loading ** help *** installing help indices converting help for package 'rScudo' finding HTML links ... done ScudoResults-class html rScudo-package html scudoClassify html scudoCytoscape html scudoModel html scudoNetwork-methods html scudoPlot html scudoTest html scudoTrain html ** building package indices ** installing vignettes ** testing if installed package can be loaded from temporary location ** testing if installed package can be loaded from final location ** testing if installed package keeps a record of temporary installation path install for x64 * installing *source* package 'rScudo' ... ** testing if installed package can be loaded * MD5 sums packaged installation of 'rScudo' as rScudo_0.99.6.zip * DONE (rScudo)