| Back to Multiple platform build/check report for BioC 3.9 | 
  | 
This page was generated on 2019-04-09 11:55:37 -0400 (Tue, 09 Apr 2019).
| Package 1349/1703 | Hostname | OS / Arch | INSTALL | BUILD | CHECK | BUILD BIN | ||||||
| rHVDM 1.49.0 Martino Barenco 
  | malbec2 | Linux (Ubuntu 18.04.2 LTS) / x86_64 | OK | OK | ERROR | |||||||
| tokay2 | Windows Server 2012 R2 Standard / x64 | OK | OK | ERROR | [ OK ] | |||||||
| celaya2 | OS X 10.11.6 El Capitan / x86_64 | OK | OK | ERROR | OK | |||||||
| merida2 | OS X 10.11.6 El Capitan / x86_64 | OK | OK | ERROR | OK | 
| Package: rHVDM | 
| Version: 1.49.0 | 
| Command: rm -rf rHVDM.buildbin-libdir && mkdir rHVDM.buildbin-libdir && C:\Users\biocbuild\bbs-3.9-bioc\R\bin\R.exe CMD INSTALL --merge-multiarch --build --library=rHVDM.buildbin-libdir rHVDM_1.49.0.tar.gz | 
| StartedAt: 2019-04-09 08:50:17 -0400 (Tue, 09 Apr 2019) | 
| EndedAt: 2019-04-09 08:50:52 -0400 (Tue, 09 Apr 2019) | 
| EllapsedTime: 35.8 seconds | 
| RetCode: 0 | 
| Status: OK | 
| PackageFile: rHVDM_1.49.0.zip | 
| PackageFileSize: 5.582 MiB | 
##############################################################################
##############################################################################
###
### Running command:
###
###   rm -rf rHVDM.buildbin-libdir && mkdir rHVDM.buildbin-libdir && C:\Users\biocbuild\bbs-3.9-bioc\R\bin\R.exe CMD INSTALL --merge-multiarch --build --library=rHVDM.buildbin-libdir rHVDM_1.49.0.tar.gz
###
##############################################################################
##############################################################################
install for i386
* installing *source* package 'rHVDM' ...
** R
** data
** inst
** byte-compile and prepare package for lazy loading
Note: break used in wrong context: no loop is visible 
** help
*** installing help indices
  converting help for package 'rHVDM'
    finding HTML links ... done
    HVDMcheck                               html  
    HVDMreport                              html  
    estimerrors                             html  
    fitgene                                 html  
    fitgene.lin                             html  
    fitgene.nl                              html  
    fiveGyMAS5                              html  
    genestoscreen                           html  
    leastnoisychips                         html  
    p53traingenes                           html  
    rHVDMplattforms                         html  
    screening                               html  
    screening.nl                            html  
    training                                html  
    training.nl                             html  
    twodosesMAS5                            html  
** building package indices
** installing vignettes
** testing if installed package can be loaded from temporary location
** testing if installed package can be loaded from final location
** testing if installed package keeps a record of temporary installation path
install for x64
* installing *source* package 'rHVDM' ...
** testing if installed package can be loaded
* MD5 sums
packaged installation of 'rHVDM' as rHVDM_1.49.0.zip
* DONE (rHVDM)