| Back to Multiple platform build/check report for BioC 3.9 |
|
This page was generated on 2019-04-09 13:23:52 -0400 (Tue, 09 Apr 2019).
| Package 1249/1703 | Hostname | OS / Arch | INSTALL | BUILD | CHECK | BUILD BIN | ||||||
| puma 3.25.0 Xuejun Liu
| malbec2 | Linux (Ubuntu 18.04.2 LTS) / x86_64 | ERROR | ERROR | skipped | |||||||
| tokay2 | Windows Server 2012 R2 Standard / x64 | ERROR | ERROR | skipped | skipped | |||||||
| celaya2 | OS X 10.11.6 El Capitan / x86_64 | ERROR | ERROR | skipped | skipped | |||||||
| merida2 | OS X 10.11.6 El Capitan / x86_64 | OK | [ OK ] | WARNINGS | OK |
| Package: puma |
| Version: 3.25.0 |
| Command: /Library/Frameworks/R.framework/Versions/Current/Resources/bin/R CMD build --keep-empty-dirs --no-resave-data puma |
| StartedAt: 2019-04-08 19:49:29 -0400 (Mon, 08 Apr 2019) |
| EndedAt: 2019-04-08 19:51:28 -0400 (Mon, 08 Apr 2019) |
| EllapsedTime: 118.9 seconds |
| RetCode: 0 |
| Status: OK |
| PackageFile: puma_3.25.0.tar.gz |
| PackageFileSize: 3.233 MiB |
##############################################################################
##############################################################################
###
### Running command:
###
### /Library/Frameworks/R.framework/Versions/Current/Resources/bin/R CMD build --keep-empty-dirs --no-resave-data puma
###
##############################################################################
##############################################################################
* checking for file ‘puma/DESCRIPTION’ ... OK
* preparing ‘puma’:
* checking DESCRIPTION meta-information ... OK
* cleaning src
* installing the package to build vignettes
* creating vignettes ... OK
Warning: ‘inst/doc’ files
‘puma.Rnw’, ‘puma.pdf’
ignored as vignettes have been rebuilt.
Run R CMD build with --no-build-vignettes to prevent rebuilding.
* cleaning src
* checking for LF line-endings in source and make files and shell scripts
* checking for empty or unneeded directories
* looking to see if a ‘data/datalist’ file should be added
* building ‘puma_3.25.0.tar.gz’