| Back to Multiple platform build/check report for BioC 3.9 |
|
This page was generated on 2019-04-09 12:45:28 -0400 (Tue, 09 Apr 2019).
| Package 1233/1703 | Hostname | OS / Arch | INSTALL | BUILD | CHECK | BUILD BIN | ||||||
| projectR 0.99.628 Genevieve Stein-O'Brien
| malbec2 | Linux (Ubuntu 18.04.2 LTS) / x86_64 | OK | OK | OK | |||||||
| tokay2 | Windows Server 2012 R2 Standard / x64 | OK | OK | [ OK ] | OK | |||||||
| celaya2 | OS X 10.11.6 El Capitan / x86_64 | OK | OK | OK | OK | |||||||
| merida2 | OS X 10.11.6 El Capitan / x86_64 | OK | OK | OK | OK |
| Package: projectR |
| Version: 0.99.628 |
| Command: C:\Users\biocbuild\bbs-3.9-bioc\R\bin\R.exe CMD check --force-multiarch --install=check:projectR.install-out.txt --library=C:\Users\biocbuild\bbs-3.9-bioc\R\library --no-vignettes --timings projectR_0.99.628.tar.gz |
| StartedAt: 2019-04-09 05:05:09 -0400 (Tue, 09 Apr 2019) |
| EndedAt: 2019-04-09 05:09:45 -0400 (Tue, 09 Apr 2019) |
| EllapsedTime: 276.1 seconds |
| RetCode: 0 |
| Status: OK |
| CheckDir: projectR.Rcheck |
| Warnings: 0 |
##############################################################################
##############################################################################
###
### Running command:
###
### C:\Users\biocbuild\bbs-3.9-bioc\R\bin\R.exe CMD check --force-multiarch --install=check:projectR.install-out.txt --library=C:\Users\biocbuild\bbs-3.9-bioc\R\library --no-vignettes --timings projectR_0.99.628.tar.gz
###
##############################################################################
##############################################################################
* using log directory 'C:/Users/biocbuild/bbs-3.9-bioc/meat/projectR.Rcheck'
* using R Under development (unstable) (2019-03-09 r76216)
* using platform: x86_64-w64-mingw32 (64-bit)
* using session charset: ISO8859-1
* using option '--no-vignettes'
* checking for file 'projectR/DESCRIPTION' ... OK
* checking extension type ... Package
* this is package 'projectR' version '0.99.628'
* package encoding: UTF-8
* checking package namespace information ... OK
* checking package dependencies ... OK
* checking if this is a source package ... OK
* checking if there is a namespace ... OK
* checking for hidden files and directories ... NOTE
Found the following hidden files and directories:
.travis.yml
These were most likely included in error. See section 'Package
structure' in the 'Writing R Extensions' manual.
* checking for portable file names ... OK
* checking whether package 'projectR' can be installed ... OK
* checking installed package size ... OK
* checking package directory ... OK
* checking 'build' directory ... OK
* checking DESCRIPTION meta-information ... OK
* checking top-level files ... OK
* checking for left-over files ... OK
* checking index information ... OK
* checking package subdirectories ... OK
* checking R files for non-ASCII characters ... OK
* checking R files for syntax errors ... OK
* loading checks for arch 'i386'
** checking whether the package can be loaded ... OK
** checking whether the package can be loaded with stated dependencies ... OK
** checking whether the package can be unloaded cleanly ... OK
** checking whether the namespace can be loaded with stated dependencies ... OK
** checking whether the namespace can be unloaded cleanly ... OK
* loading checks for arch 'x64'
** checking whether the package can be loaded ... OK
** checking whether the package can be loaded with stated dependencies ... OK
** checking whether the package can be unloaded cleanly ... OK
** checking whether the namespace can be loaded with stated dependencies ... OK
** checking whether the namespace can be unloaded cleanly ... OK
* checking dependencies in R code ... OK
* checking S3 generic/method consistency ... OK
* checking replacement functions ... OK
* checking foreign function calls ... OK
* checking R code for possible problems ... OK
* checking Rd files ... OK
* checking Rd metadata ... OK
* checking Rd cross-references ... OK
* checking for missing documentation entries ... OK
* checking for code/documentation mismatches ... OK
* checking Rd \usage sections ... OK
* checking Rd contents ... OK
* checking for unstated dependencies in examples ... OK
* checking contents of 'data' directory ... OK
* checking data for non-ASCII characters ... OK
* checking data for ASCII and uncompressed saves ... OK
* checking files in 'vignettes' ... OK
* checking examples ...
** running examples for arch 'i386' ... OK
Examples with CPU or elapsed time > 5s
user system elapsed
projectR-methods 6.39 0 6.39
** running examples for arch 'x64' ... OK
* checking for unstated dependencies in 'tests' ... OK
* checking tests ...
** running tests for arch 'i386' ...
Running 'testthat.R'
OK
** running tests for arch 'x64' ...
Running 'testthat.R'
OK
* checking for unstated dependencies in vignettes ... OK
* checking package vignettes in 'inst/doc' ... OK
* checking running R code from vignettes ... SKIPPED
* checking re-building of vignette outputs ... SKIPPED
* checking PDF version of manual ... OK
* DONE
Status: 1 NOTE
See
'C:/Users/biocbuild/bbs-3.9-bioc/meat/projectR.Rcheck/00check.log'
for details.
projectR.Rcheck/00install.out
##############################################################################
##############################################################################
###
### Running command:
###
### C:\cygwin\bin\curl.exe -O https://malbec2.bioconductor.org/BBS/3.9/bioc/src/contrib/projectR_0.99.628.tar.gz && rm -rf projectR.buildbin-libdir && mkdir projectR.buildbin-libdir && C:\Users\biocbuild\bbs-3.9-bioc\R\bin\R.exe CMD INSTALL --merge-multiarch --build --library=projectR.buildbin-libdir projectR_0.99.628.tar.gz && C:\Users\biocbuild\bbs-3.9-bioc\R\bin\R.exe CMD INSTALL projectR_0.99.628.zip && rm projectR_0.99.628.tar.gz projectR_0.99.628.zip
###
##############################################################################
##############################################################################
% Total % Received % Xferd Average Speed Time Time Time Current
Dload Upload Total Spent Left Speed
0 0 0 0 0 0 0 0 --:--:-- --:--:-- --:--:-- 0
100 859k 100 859k 0 0 11.7M 0 --:--:-- --:--:-- --:--:-- 12.9M
install for i386
* installing *source* package 'projectR' ...
** R
** data
*** moving datasets to lazyload DB
** byte-compile and prepare package for lazy loading
** help
*** installing help indices
converting help for package 'projectR'
finding HTML links ... done
AP.RNAseq6l3c3t html
auc_mat html
cluster2pattern-methods html
clusterPlotR-methods html
correlateR-class html
correlateR html
geneMatchR html
initialize-correlateR-method html
initialize-rotatoR-method html
intersectoR-methods html
map.ESepiGen4c1l html
map.RNAseq6l3c3t html
p.ESepiGen4c1l html
p.RNAseq6l3c3t html
pd.ESepiGen4c1l html
pd.RNAseq6l3c3t html
projectR-methods html
rotatoR-class html
rotatoR html
** building package indices
** installing vignettes
** testing if installed package can be loaded from temporary location
** testing if installed package can be loaded from final location
** testing if installed package keeps a record of temporary installation path
install for x64
* installing *source* package 'projectR' ...
** testing if installed package can be loaded
* MD5 sums
packaged installation of 'projectR' as projectR_0.99.628.zip
* DONE (projectR)
* installing to library 'C:/Users/biocbuild/bbs-3.9-bioc/R/library'
package 'projectR' successfully unpacked and MD5 sums checked
|
projectR.Rcheck/tests_i386/testthat.Rout
R Under development (unstable) (2019-03-09 r76216) -- "Unsuffered Consequences"
Copyright (C) 2019 The R Foundation for Statistical Computing
Platform: i386-w64-mingw32/i386 (32-bit)
R is free software and comes with ABSOLUTELY NO WARRANTY.
You are welcome to redistribute it under certain conditions.
Type 'license()' or 'licence()' for distribution details.
R is a collaborative project with many contributors.
Type 'contributors()' for more information and
'citation()' on how to cite R or R packages in publications.
Type 'demo()' for some demos, 'help()' for on-line help, or
'help.start()' for an HTML browser interface to help.
Type 'q()' to quit R.
> library(testthat)
> library(projectR)
>
> test_check("projectR")
This is CoGAPS version 3.3.40
Running Standard CoGAPS on 108 genes and 54 samples with parameters:
-- Standard Parameters --
nPatterns 5
nIterations 5000
seed 598
singleCell FALSE
sparseOptimization FALSE
-- Sparsity Parameters --
alpha 0.01
maxGibbsMass 100
Loading Data...Done! (00:00:00)
-- Calibration Phase --
2500 of 5000, Atoms: 535(238), ChiSq: 28218, Time: 00:00:01 / 00:00:04
5000 of 5000, Atoms: 506(232), ChiSq: 28173, Time: 00:00:02 / 00:00:04
-- Sampling Phase --
2500 of 5000, Atoms: 490(226), ChiSq: 28181, Time: 00:00:03 / 00:00:04
5000 of 5000, Atoms: 507(248), ChiSq: 28165, Time: 00:00:04 / 00:00:04
[1] "93 row names matched between data and loadings"
[1] "Updated dimension of data: 93 9"
[1] "93 row names matched between data and loadings"
[1] "Updated dimension of data: 93 9"
[1] "93 row names matched between data and loadings"
[1] "Updated dimension of data: 93 9"
== testthat results ===========================================================
OK: 24 SKIPPED: 0 FAILED: 0
>
> proc.time()
user system elapsed
12.53 0.90 13.42
|
projectR.Rcheck/tests_x64/testthat.Rout
R Under development (unstable) (2019-03-09 r76216) -- "Unsuffered Consequences"
Copyright (C) 2019 The R Foundation for Statistical Computing
Platform: x86_64-w64-mingw32/x64 (64-bit)
R is free software and comes with ABSOLUTELY NO WARRANTY.
You are welcome to redistribute it under certain conditions.
Type 'license()' or 'licence()' for distribution details.
R is a collaborative project with many contributors.
Type 'contributors()' for more information and
'citation()' on how to cite R or R packages in publications.
Type 'demo()' for some demos, 'help()' for on-line help, or
'help.start()' for an HTML browser interface to help.
Type 'q()' to quit R.
> library(testthat)
> library(projectR)
>
> test_check("projectR")
This is CoGAPS version 3.3.40
Running Standard CoGAPS on 108 genes and 54 samples with parameters:
-- Standard Parameters --
nPatterns 5
nIterations 5000
seed 676
singleCell FALSE
sparseOptimization FALSE
-- Sparsity Parameters --
alpha 0.01
maxGibbsMass 100
Loading Data...Done! (00:00:00)
-- Calibration Phase --
2500 of 5000, Atoms: 487(229), ChiSq: 28284, Time: 00:00:00 / 00:00:00
5000 of 5000, Atoms: 504(219), ChiSq: 28273, Time: 00:00:01 / 00:00:02
-- Sampling Phase --
2500 of 5000, Atoms: 492(239), ChiSq: 28203, Time: 00:00:02 / 00:00:02
5000 of 5000, Atoms: 495(222), ChiSq: 28300, Time: 00:00:03 / 00:00:03
[1] "93 row names matched between data and loadings"
[1] "Updated dimension of data: 93 9"
[1] "93 row names matched between data and loadings"
[1] "Updated dimension of data: 93 9"
[1] "93 row names matched between data and loadings"
[1] "Updated dimension of data: 93 9"
== testthat results ===========================================================
OK: 24 SKIPPED: 0 FAILED: 0
>
> proc.time()
user system elapsed
11.60 0.39 11.98
|
|
projectR.Rcheck/examples_i386/projectR-Ex.timings
|
projectR.Rcheck/examples_x64/projectR-Ex.timings
|