| Back to Multiple platform build/check report for BioC 3.9 | 
 | 
This page was generated on 2019-04-09 13:28:07 -0400 (Tue, 09 Apr 2019).
| Package 1217/1703 | Hostname | OS / Arch | INSTALL | BUILD | CHECK | BUILD BIN | ||||||
| prebs 1.23.1 Karolis Uziela 
 | malbec2 | Linux (Ubuntu 18.04.2 LTS) / x86_64 | OK | OK | OK |  | ||||||
| tokay2 | Windows Server 2012 R2 Standard / x64 | OK | OK | OK | OK |  | ||||||
| celaya2 | OS X 10.11.6 El Capitan / x86_64 | OK | OK | OK | OK |  | ||||||
| merida2 | OS X 10.11.6 El Capitan / x86_64 | OK | OK | OK | [ OK ] | 
| Package: prebs | 
| Version: 1.23.1 | 
| Command: rm -rf prebs.buildbin-libdir && mkdir prebs.buildbin-libdir && /Users/biocbuild/BBS/utils/build-universal.sh prebs_1.23.1.tar.gz /Library/Frameworks/R.framework/Versions/Current/Resources/bin/R prebs.buildbin-libdir | 
| StartedAt: 2019-04-09 06:10:33 -0400 (Tue, 09 Apr 2019) | 
| EndedAt: 2019-04-09 06:11:50 -0400 (Tue, 09 Apr 2019) | 
| EllapsedTime: 77.4 seconds | 
| RetCode: 0 | 
| Status: OK | 
| PackageFile: prebs_1.23.1.tgz | 
| PackageFileSize: 337.6 KiB | 
############################################################################## ############################################################################## ### ### Running command: ### ### rm -rf prebs.buildbin-libdir && mkdir prebs.buildbin-libdir && /Users/biocbuild/BBS/utils/build-universal.sh prebs_1.23.1.tar.gz /Library/Frameworks/R.framework/Versions/Current/Resources/bin/R prebs.buildbin-libdir ### ############################################################################## ############################################################################## >>>>>>> >>>>>>> INSTALLATION WITH 'R CMD INSTALL --preclean --no-multiarch --library=prebs.buildbin-libdir prebs_1.23.1.tar.gz' >>>>>>> * installing *source* package ‘prebs’ ... ** R ** inst ** byte-compile and prepare package for lazy loading ** help *** installing help indices ** building package indices ** installing vignettes ** testing if installed package can be loaded * DONE (prebs)