| Back to Multiple platform build/check report for BioC 3.9 |
|
This page was generated on 2019-04-09 11:53:53 -0400 (Tue, 09 Apr 2019).
| Package 1215/1703 | Hostname | OS / Arch | INSTALL | BUILD | CHECK | BUILD BIN | ||||||
| prada 1.59.1 Florian Hahne
| malbec2 | Linux (Ubuntu 18.04.2 LTS) / x86_64 | OK | OK | OK | |||||||
| tokay2 | Windows Server 2012 R2 Standard / x64 | OK | OK | WARNINGS | [ OK ] | |||||||
| celaya2 | OS X 10.11.6 El Capitan / x86_64 | OK | OK | OK | OK | |||||||
| merida2 | OS X 10.11.6 El Capitan / x86_64 | OK | OK | OK | OK |
| Package: prada |
| Version: 1.59.1 |
| Command: rm -rf prada.buildbin-libdir && mkdir prada.buildbin-libdir && C:\Users\biocbuild\bbs-3.9-bioc\R\bin\R.exe CMD INSTALL --merge-multiarch --build --library=prada.buildbin-libdir prada_1.59.1.tar.gz |
| StartedAt: 2019-04-09 08:42:18 -0400 (Tue, 09 Apr 2019) |
| EndedAt: 2019-04-09 08:43:07 -0400 (Tue, 09 Apr 2019) |
| EllapsedTime: 48.1 seconds |
| RetCode: 0 |
| Status: OK |
| PackageFile: prada_1.59.1.zip |
| PackageFileSize: 986 KiB |
##############################################################################
##############################################################################
###
### Running command:
###
### rm -rf prada.buildbin-libdir && mkdir prada.buildbin-libdir && C:\Users\biocbuild\bbs-3.9-bioc\R\bin\R.exe CMD INSTALL --merge-multiarch --build --library=prada.buildbin-libdir prada_1.59.1.tar.gz
###
##############################################################################
##############################################################################
install for i386
* installing *source* package 'prada' ...
** libs
C:/Rtools/mingw_32/bin/gcc -I"C:/Users/BIOCBU˜1/BBS-3˜1.9-B/R/include" -DNDEBUG -I"C:/extsoft/include" -O3 -Wall -std=gnu99 -mtune=generic -c inPolygon.c -o inPolygon.o
C:/Rtools/mingw_32/bin/gcc -shared -s -static-libgcc -o prada.dll tmp.def inPolygon.o -LC:/extsoft/lib/i386 -LC:/extsoft/lib -LC:/Users/BIOCBU˜1/BBS-3˜1.9-B/R/bin/i386 -lR
installing to C:/Users/biocbuild/bbs-3.9-bioc/meat/prada.buildbin-libdir/00LOCK-prada/00new/prada/libs/i386
** R
** data
** inst
** byte-compile and prepare package for lazy loading
** help
*** installing help indices
converting help for package 'prada'
finding HTML links ... done
analysePlate html
as.all html
barploterrbar html
combineFrames html
csApply html
cytoFrame-class html
cytoSet-class html
finding level-2 HTML links ... done
Rd warning: C:/Users/biocbuild/bbs-3.9-bioc/tmpdir/RtmpWwCb13/R.INSTALL169c52995a19/prada/man/cytoSet-class.Rd:88: file link 'phenoData-class' in package 'Biobase' does not exist and so has been treated as a topic
data-cytoFrame html
data-cytoSet html
devDims html
devRes html
fitNorm2 html
gate-class html
gateSet-class html
getAlphaNumeric html
getPradaPar html
new-internal html
plotNorm2 html
plotPlate html
readCytoSet html
Rd warning: C:/Users/biocbuild/bbs-3.9-bioc/tmpdir/RtmpWwCb13/R.INSTALL169c52995a19/prada/man/readCytoSet.Rd:11: file link 'dir' in package 'base' does not exist and so has been treated as a topic
readFCS html
readFCSaux html
removeCensored html
tcltkProgress html
threePanelPlot html
thresholds html
touchFCS html
vpLocation html
** building package indices
** installing vignettes
** testing if installed package can be loaded from temporary location
** testing if installed package can be loaded from final location
** testing if installed package keeps a record of temporary installation path
install for x64
* installing *source* package 'prada' ...
** libs
C:/Rtools/mingw_64/bin/gcc -I"C:/Users/BIOCBU˜1/BBS-3˜1.9-B/R/include" -DNDEBUG -I"C:/extsoft/include" -O2 -Wall -std=gnu99 -mtune=generic -c inPolygon.c -o inPolygon.o
C:/Rtools/mingw_64/bin/gcc -shared -s -static-libgcc -o prada.dll tmp.def inPolygon.o -LC:/extsoft/lib/x64 -LC:/extsoft/lib -LC:/Users/BIOCBU˜1/BBS-3˜1.9-B/R/bin/x64 -lR
installing to C:/Users/biocbuild/bbs-3.9-bioc/meat/prada.buildbin-libdir/prada/libs/x64
** testing if installed package can be loaded
* MD5 sums
packaged installation of 'prada' as prada_1.59.1.zip
* DONE (prada)