| Back to Multiple platform build/check report for BioC 3.9 |
|
This page was generated on 2019-04-09 13:31:18 -0400 (Tue, 09 Apr 2019).
| Package 1203/1703 | Hostname | OS / Arch | INSTALL | BUILD | CHECK | BUILD BIN | ||||||
| pmm 1.15.0 Anna Drewek
| malbec2 | Linux (Ubuntu 18.04.2 LTS) / x86_64 | OK | OK | OK | |||||||
| tokay2 | Windows Server 2012 R2 Standard / x64 | OK | OK | OK | OK | |||||||
| celaya2 | OS X 10.11.6 El Capitan / x86_64 | OK | OK | OK | OK | |||||||
| merida2 | OS X 10.11.6 El Capitan / x86_64 | OK | OK | OK | [ OK ] |
| Package: pmm |
| Version: 1.15.0 |
| Command: rm -rf pmm.buildbin-libdir && mkdir pmm.buildbin-libdir && /Users/biocbuild/BBS/utils/build-universal.sh pmm_1.15.0.tar.gz /Library/Frameworks/R.framework/Versions/Current/Resources/bin/R pmm.buildbin-libdir |
| StartedAt: 2019-04-09 06:09:23 -0400 (Tue, 09 Apr 2019) |
| EndedAt: 2019-04-09 06:10:42 -0400 (Tue, 09 Apr 2019) |
| EllapsedTime: 78.4 seconds |
| RetCode: 0 |
| Status: OK |
| PackageFile: pmm_1.15.0.tgz |
| PackageFileSize: 723.6 KiB |
############################################################################## ############################################################################## ### ### Running command: ### ### rm -rf pmm.buildbin-libdir && mkdir pmm.buildbin-libdir && /Users/biocbuild/BBS/utils/build-universal.sh pmm_1.15.0.tar.gz /Library/Frameworks/R.framework/Versions/Current/Resources/bin/R pmm.buildbin-libdir ### ############################################################################## ############################################################################## >>>>>>> >>>>>>> INSTALLATION WITH 'R CMD INSTALL --preclean --no-multiarch --library=pmm.buildbin-libdir pmm_1.15.0.tar.gz' >>>>>>> * installing *source* package ‘pmm’ ... ** R ** data ** inst ** byte-compile and prepare package for lazy loading ** help *** installing help indices ** building package indices ** installing vignettes ** testing if installed package can be loaded * DONE (pmm)