| Back to Multiple platform build/check report for BioC 3.9 |
|
This page was generated on 2019-04-09 11:54:17 -0400 (Tue, 09 Apr 2019).
| Package 1196/1703 | Hostname | OS / Arch | INSTALL | BUILD | CHECK | BUILD BIN | ||||||
| plgem 1.55.1 Norman Pavelka
| malbec2 | Linux (Ubuntu 18.04.2 LTS) / x86_64 | OK | OK | OK | |||||||
| tokay2 | Windows Server 2012 R2 Standard / x64 | OK | OK | OK | [ OK ] | |||||||
| celaya2 | OS X 10.11.6 El Capitan / x86_64 | OK | OK | OK | OK | |||||||
| merida2 | OS X 10.11.6 El Capitan / x86_64 | OK | OK | OK | OK |
| Package: plgem |
| Version: 1.55.1 |
| Command: rm -rf plgem.buildbin-libdir && mkdir plgem.buildbin-libdir && C:\Users\biocbuild\bbs-3.9-bioc\R\bin\R.exe CMD INSTALL --merge-multiarch --build --library=plgem.buildbin-libdir plgem_1.55.1.tar.gz |
| StartedAt: 2019-04-09 08:41:08 -0400 (Tue, 09 Apr 2019) |
| EndedAt: 2019-04-09 08:41:52 -0400 (Tue, 09 Apr 2019) |
| EllapsedTime: 43.9 seconds |
| RetCode: 0 |
| Status: OK |
| PackageFile: plgem_1.55.1.zip |
| PackageFileSize: 505.7 KiB |
##############################################################################
##############################################################################
###
### Running command:
###
### rm -rf plgem.buildbin-libdir && mkdir plgem.buildbin-libdir && C:\Users\biocbuild\bbs-3.9-bioc\R\bin\R.exe CMD INSTALL --merge-multiarch --build --library=plgem.buildbin-libdir plgem_1.55.1.tar.gz
###
##############################################################################
##############################################################################
install for i386
* installing *source* package 'plgem' ...
** R
** data
** inst
** byte-compile and prepare package for lazy loading
** help
*** installing help indices
converting help for package 'plgem'
finding HTML links ... done
LPSeset html
plgem.deg html
plgem.fit html
plgem.obsStn html
plgem.pValue html
plgem.resampledStn html
plgem.write.summary html
run.plgem html
setGpar html
** building package indices
** installing vignettes
** testing if installed package can be loaded from temporary location
** testing if installed package can be loaded from final location
** testing if installed package keeps a record of temporary installation path
install for x64
* installing *source* package 'plgem' ...
** testing if installed package can be loaded
* MD5 sums
packaged installation of 'plgem' as plgem_1.55.1.zip
* DONE (plgem)