| Back to Multiple platform build/check report for BioC 3.9 | 
 | 
This page was generated on 2019-04-09 13:28:13 -0400 (Tue, 09 Apr 2019).
| Package 1195/1703 | Hostname | OS / Arch | INSTALL | BUILD | CHECK | BUILD BIN | ||||||
| plethy 1.21.0 Daniel Bottomly 
 | malbec2 | Linux (Ubuntu 18.04.2 LTS) / x86_64 | OK | OK | OK |  | ||||||
| tokay2 | Windows Server 2012 R2 Standard / x64 | OK | OK | OK | OK |  | ||||||
| celaya2 | OS X 10.11.6 El Capitan / x86_64 | OK | OK | OK | OK |  | ||||||
| merida2 | OS X 10.11.6 El Capitan / x86_64 | OK | OK | OK | [ OK ] | 
| Package: plethy | 
| Version: 1.21.0 | 
| Command: rm -rf plethy.buildbin-libdir && mkdir plethy.buildbin-libdir && /Users/biocbuild/BBS/utils/build-universal.sh plethy_1.21.0.tar.gz /Library/Frameworks/R.framework/Versions/Current/Resources/bin/R plethy.buildbin-libdir | 
| StartedAt: 2019-04-09 06:08:46 -0400 (Tue, 09 Apr 2019) | 
| EndedAt: 2019-04-09 06:10:06 -0400 (Tue, 09 Apr 2019) | 
| EllapsedTime: 80.5 seconds | 
| RetCode: 0 | 
| Status: OK | 
| PackageFile: plethy_1.21.0.tgz | 
| PackageFileSize: 1.216 MiB | 
############################################################################## ############################################################################## ### ### Running command: ### ### rm -rf plethy.buildbin-libdir && mkdir plethy.buildbin-libdir && /Users/biocbuild/BBS/utils/build-universal.sh plethy_1.21.0.tar.gz /Library/Frameworks/R.framework/Versions/Current/Resources/bin/R plethy.buildbin-libdir ### ############################################################################## ############################################################################## >>>>>>> >>>>>>> INSTALLATION WITH 'R CMD INSTALL --preclean --no-multiarch --library=plethy.buildbin-libdir plethy_1.21.0.tar.gz' >>>>>>> * installing *source* package ‘plethy’ ... ** R ** inst ** byte-compile and prepare package for lazy loading ** help *** installing help indices ** building package indices ** installing vignettes ** testing if installed package can be loaded * DONE (plethy)