| Back to Multiple platform build/check report for BioC 3.9 | 
  | 
This page was generated on 2019-04-09 12:27:12 -0400 (Tue, 09 Apr 2019).
| Package 1183/1703 | Hostname | OS / Arch | INSTALL | BUILD | CHECK | BUILD BIN | ||||||
| philr 1.9.1 Justin Silverman 
  | malbec2 | Linux (Ubuntu 18.04.2 LTS) / x86_64 | OK | OK | OK | |||||||
| tokay2 | Windows Server 2012 R2 Standard / x64 | OK | OK | WARNINGS | [ OK ] | |||||||
| celaya2 | OS X 10.11.6 El Capitan / x86_64 | OK | OK | OK | OK | |||||||
| merida2 | OS X 10.11.6 El Capitan / x86_64 | OK | OK | OK | OK | 
| Package: philr | 
| Version: 1.9.1 | 
| Command: rm -rf philr.buildbin-libdir && mkdir philr.buildbin-libdir && C:\Users\biocbuild\bbs-3.9-bioc\R\bin\R.exe CMD INSTALL --merge-multiarch --build --library=philr.buildbin-libdir philr_1.9.1.tar.gz | 
| StartedAt: 2019-04-09 08:40:21 -0400 (Tue, 09 Apr 2019) | 
| EndedAt: 2019-04-09 08:41:08 -0400 (Tue, 09 Apr 2019) | 
| EllapsedTime: 46.8 seconds | 
| RetCode: 0 | 
| Status: OK | 
| PackageFile: philr_1.9.1.zip | 
| PackageFileSize: 385.8 KiB | 
##############################################################################
##############################################################################
###
### Running command:
###
###   rm -rf philr.buildbin-libdir && mkdir philr.buildbin-libdir && C:\Users\biocbuild\bbs-3.9-bioc\R\bin\R.exe CMD INSTALL --merge-multiarch --build --library=philr.buildbin-libdir philr_1.9.1.tar.gz
###
##############################################################################
##############################################################################
install for i386
* installing *source* package 'philr' ...
** R
** inst
** byte-compile and prepare package for lazy loading
** help
*** installing help indices
  converting help for package 'philr'
    finding HTML links ... done
    annotate_balance                        html  
    buildilrBasep                           html  
Rd warning: C:/Users/biocbuild/bbs-3.9-bioc/tmpdir/Rtmp4SwbUK/R.INSTALL219070527a/philr/man/buildilrBasep.Rd:33: file link 'gsi.buildilrBase' in package 'compositions' does not exist and so has been treated as a topic
    calculate.blw                           html  
    convert_to_long                         html  
    g.colMeans                              html  
    g.rowMeans                              html  
    mean_dist_to_tips                       html  
    miniclo                                 html  
    name.balance                            html  
    name_nodenumber_conversion              html  
    named_rtree                             html  
    philr                                   html  
    philrInv                                html  
    phylo2sbp                               html  
    shift                                   html  
    weighted_clr                            html  
    weighted_ilr                            html  
** building package indices
** installing vignettes
** testing if installed package can be loaded from temporary location
** testing if installed package can be loaded from final location
** testing if installed package keeps a record of temporary installation path
install for x64
* installing *source* package 'philr' ...
** testing if installed package can be loaded
* MD5 sums
packaged installation of 'philr' as philr_1.9.1.zip
* DONE (philr)