| Back to Multiple platform build/check report for BioC 3.9 | 
 | 
This page was generated on 2019-04-09 12:31:41 -0400 (Tue, 09 Apr 2019).
| Package 1180/1703 | Hostname | OS / Arch | INSTALL | BUILD | CHECK | BUILD BIN | ||||||
| phenopath 1.7.2 Kieran Campbell 
 | malbec2 | Linux (Ubuntu 18.04.2 LTS) / x86_64 | OK | OK | OK |  | ||||||
| tokay2 | Windows Server 2012 R2 Standard / x64 | OK | OK | OK | [ OK ] |  | ||||||
| celaya2 | OS X 10.11.6 El Capitan / x86_64 | OK | OK | OK | OK |  | ||||||
| merida2 | OS X 10.11.6 El Capitan / x86_64 | OK | OK | OK | OK | 
| Package: phenopath | 
| Version: 1.7.2 | 
| Command: rm -rf phenopath.buildbin-libdir && mkdir phenopath.buildbin-libdir && C:\Users\biocbuild\bbs-3.9-bioc\R\bin\R.exe CMD INSTALL --merge-multiarch --build --library=phenopath.buildbin-libdir phenopath_1.7.2.tar.gz | 
| StartedAt: 2019-04-09 08:40:10 -0400 (Tue, 09 Apr 2019) | 
| EndedAt: 2019-04-09 08:41:01 -0400 (Tue, 09 Apr 2019) | 
| EllapsedTime: 50.3 seconds | 
| RetCode: 0 | 
| Status: OK | 
| PackageFile: phenopath_1.7.2.zip | 
| PackageFileSize: 1.33 MiB | 
##############################################################################
##############################################################################
###
### Running command:
###
###   rm -rf phenopath.buildbin-libdir && mkdir phenopath.buildbin-libdir && C:\Users\biocbuild\bbs-3.9-bioc\R\bin\R.exe CMD INSTALL --merge-multiarch --build --library=phenopath.buildbin-libdir phenopath_1.7.2.tar.gz
###
##############################################################################
##############################################################################
install for i386
* installing *source* package 'phenopath' ...
** libs
C:/Rtools/mingw_32/bin/g++  -I"C:/Users/BIOCBU˜1/BBS-3˜1.9-B/R/include" -DNDEBUG  -I"C:/Users/biocbuild/bbs-3.9-bioc/R/library/Rcpp/include"   -I"C:/extsoft/include"     -O2 -Wall  -mtune=generic -c RcppExports.cpp -o RcppExports.o
C:/Rtools/mingw_32/bin/g++  -I"C:/Users/BIOCBU˜1/BBS-3˜1.9-B/R/include" -DNDEBUG  -I"C:/Users/biocbuild/bbs-3.9-bioc/R/library/Rcpp/include"   -I"C:/extsoft/include"     -O2 -Wall  -mtune=generic -c cavi.cpp -o cavi.o
C:/Rtools/mingw_32/bin/g++ -shared -s -static-libgcc -o phenopath.dll tmp.def RcppExports.o cavi.o -LC:/extsoft/lib/i386 -LC:/extsoft/lib -LC:/Users/BIOCBU˜1/BBS-3˜1.9-B/R/bin/i386 -lR
installing to C:/Users/biocbuild/bbs-3.9-bioc/meat/phenopath.buildbin-libdir/00LOCK-phenopath/00new/phenopath/libs/i386
** R
** inst
** byte-compile and prepare package for lazy loading
** help
*** installing help indices
  converting help for package 'phenopath'
    finding HTML links ... done
    clvm                                    html  
    interaction_effects                     html  
    interaction_sds                         html  
    interactions                            html  
    phenopath                               html  
    finding level-2 HTML links ... done
    plot_elbo                               html  
    print.phenopath_fit                     html  
    sample_fns                              html  
    scale_vec                               html  
    significant_interactions                html  
    simulate_one_gene                       html  
    simulate_phenopath                      html  
    trajectory                              html  
** building package indices
** installing vignettes
** testing if installed package can be loaded from temporary location
** testing if installed package can be loaded from final location
** testing if installed package keeps a record of temporary installation path
install for x64
* installing *source* package 'phenopath' ...
** libs
C:/Rtools/mingw_64/bin/g++  -I"C:/Users/BIOCBU˜1/BBS-3˜1.9-B/R/include" -DNDEBUG  -I"C:/Users/biocbuild/bbs-3.9-bioc/R/library/Rcpp/include"   -I"C:/extsoft/include"     -O2 -Wall  -mtune=generic -c RcppExports.cpp -o RcppExports.o
C:/Rtools/mingw_64/bin/g++  -I"C:/Users/BIOCBU˜1/BBS-3˜1.9-B/R/include" -DNDEBUG  -I"C:/Users/biocbuild/bbs-3.9-bioc/R/library/Rcpp/include"   -I"C:/extsoft/include"     -O2 -Wall  -mtune=generic -c cavi.cpp -o cavi.o
C:/Rtools/mingw_64/bin/g++ -shared -s -static-libgcc -o phenopath.dll tmp.def RcppExports.o cavi.o -LC:/extsoft/lib/x64 -LC:/extsoft/lib -LC:/Users/BIOCBU˜1/BBS-3˜1.9-B/R/bin/x64 -lR
installing to C:/Users/biocbuild/bbs-3.9-bioc/meat/phenopath.buildbin-libdir/phenopath/libs/x64
** testing if installed package can be loaded
* MD5 sums
packaged installation of 'phenopath' as phenopath_1.7.2.zip
* DONE (phenopath)