| Back to Multiple platform build/check report for BioC 3.9 |
|
This page was generated on 2019-04-09 11:58:55 -0400 (Tue, 09 Apr 2019).
| Package 1181/1703 | Hostname | OS / Arch | INSTALL | BUILD | CHECK | BUILD BIN | ||||||
| phenoTest 1.31.0 Evarist Planet
| malbec2 | Linux (Ubuntu 18.04.2 LTS) / x86_64 | OK | OK | OK | |||||||
| tokay2 | Windows Server 2012 R2 Standard / x64 | OK | OK | OK | [ OK ] | |||||||
| celaya2 | OS X 10.11.6 El Capitan / x86_64 | OK | OK | OK | OK | |||||||
| merida2 | OS X 10.11.6 El Capitan / x86_64 | OK | OK | OK | OK |
| Package: phenoTest |
| Version: 1.31.0 |
| Command: rm -rf phenoTest.buildbin-libdir && mkdir phenoTest.buildbin-libdir && C:\Users\biocbuild\bbs-3.9-bioc\R\bin\R.exe CMD INSTALL --merge-multiarch --build --library=phenoTest.buildbin-libdir phenoTest_1.31.0.tar.gz |
| StartedAt: 2019-04-09 08:40:14 -0400 (Tue, 09 Apr 2019) |
| EndedAt: 2019-04-09 08:41:48 -0400 (Tue, 09 Apr 2019) |
| EllapsedTime: 94.0 seconds |
| RetCode: 0 |
| Status: OK |
| PackageFile: phenoTest_1.31.0.zip |
| PackageFileSize: 1.828 MiB |
##############################################################################
##############################################################################
###
### Running command:
###
### rm -rf phenoTest.buildbin-libdir && mkdir phenoTest.buildbin-libdir && C:\Users\biocbuild\bbs-3.9-bioc\R\bin\R.exe CMD INSTALL --merge-multiarch --build --library=phenoTest.buildbin-libdir phenoTest_1.31.0.tar.gz
###
##############################################################################
##############################################################################
install for i386
* installing *source* package 'phenoTest' ...
** R
** data
** inst
** byte-compile and prepare package for lazy loading
Warning: replacing previous import 'igraph::union' by 'GSEABase::union' when loading 'HTSanalyzeR'
** help
*** installing help indices
converting help for package 'phenoTest'
finding HTML links ... done
ClusterPhenoTest html
ExpressionPhenoTest html
barplotSignatures-methods html
barplotSignifSignatures-methods html
epheno-class html
finding level-2 HTML links ... done
epheno html
epheno2html html
ephenoGetters html
eset html
eset.genelevel html
eset2genelevel html
export2CSV-methods html
export2CSV html
findCopyNumber html
genesInArea html
getEsPositions html
getGo html
getGseaSignatures html
getKegg html
getVars2test-methods html
getVars2test html
gsea html
gsea.kegg.go html
gsea.subset html
gsea2html html
gseaData-class html
gseaSignatures-class html
gseaSignatures-methods html
gseaSignatures html
gseaSignaturesSign-class html
gseaSignaturesVar-class html
gseaSignificance html
gseaSignificanceSign-class html
gseaSignificanceVar-class html
heatmapPhenoTest-methods html
heatmapPhenoTest html
pAdjust-methods html
pAdjust html
pca html
phenoTest-package html
plot.gsea html
plot.gseaSignatures html
plots4epheno html
show-methods html
smoothCoxph html
summary.gsea html
summary.gseaSignificance html
write.html html
** building package indices
** installing vignettes
** testing if installed package can be loaded from temporary location
Warning: replacing previous import 'igraph::union' by 'GSEABase::union' when loading 'HTSanalyzeR'
** testing if installed package can be loaded from final location
Warning: replacing previous import 'igraph::union' by 'GSEABase::union' when loading 'HTSanalyzeR'
** testing if installed package keeps a record of temporary installation path
install for x64
* installing *source* package 'phenoTest' ...
** testing if installed package can be loaded
Warning: replacing previous import 'igraph::union' by 'GSEABase::union' when loading 'HTSanalyzeR'
* MD5 sums
packaged installation of 'phenoTest' as phenoTest_1.31.0.zip
* DONE (phenoTest)