| Back to Multiple platform build/check report for BioC 3.9 |
|
This page was generated on 2019-04-09 12:44:07 -0400 (Tue, 09 Apr 2019).
| Package 1179/1703 | Hostname | OS / Arch | INSTALL | BUILD | CHECK | BUILD BIN | ||||||
| phemd 0.99.37 William S Chen
| malbec2 | Linux (Ubuntu 18.04.2 LTS) / x86_64 | OK | OK | OK | |||||||
| tokay2 | Windows Server 2012 R2 Standard / x64 | OK | OK | OK | [ OK ] | |||||||
| celaya2 | OS X 10.11.6 El Capitan / x86_64 | OK | OK | OK | OK | |||||||
| merida2 | OS X 10.11.6 El Capitan / x86_64 | OK | OK | OK | OK |
| Package: phemd |
| Version: 0.99.37 |
| Command: rm -rf phemd.buildbin-libdir && mkdir phemd.buildbin-libdir && C:\Users\biocbuild\bbs-3.9-bioc\R\bin\R.exe CMD INSTALL --merge-multiarch --build --library=phemd.buildbin-libdir phemd_0.99.37.tar.gz |
| StartedAt: 2019-04-09 08:40:07 -0400 (Tue, 09 Apr 2019) |
| EndedAt: 2019-04-09 08:40:57 -0400 (Tue, 09 Apr 2019) |
| EllapsedTime: 50.2 seconds |
| RetCode: 0 |
| Status: OK |
| PackageFile: phemd_0.99.37.zip |
| PackageFileSize: 1.004 MiB |
##############################################################################
##############################################################################
###
### Running command:
###
### rm -rf phemd.buildbin-libdir && mkdir phemd.buildbin-libdir && C:\Users\biocbuild\bbs-3.9-bioc\R\bin\R.exe CMD INSTALL --merge-multiarch --build --library=phemd.buildbin-libdir phemd_0.99.37.tar.gz
###
##############################################################################
##############################################################################
install for i386
* installing *source* package 'phemd' ...
** R
** data
*** moving datasets to lazyload DB
** inst
** byte-compile and prepare package for lazy loading
** help
*** installing help indices
converting help for package 'phemd'
finding HTML links ... done
GDM html
Phemd-methods html
Phemd html
aggregateSamples html
all_expn_data html
all_genes html
assignCellClusterNearestNode html
batchIDs html
bindSeuratObj html
celltypeFreqs html
clusterIndividualSamples html
compareSamples html
createDataObj html
drawColnames45 html
embedCells html
gaussianffLocal html
generateGDM html
getArithmeticCentroids html
getCellYield html
getSampleCelltypeFreqs html
getSampleHistsByCluster html
getSampleSizes html
groupSamples html
heatmap_genes html
identifyCentroids html
monocleInfo html
orderCellsMonocle html
plotCellYield html
plotEmbeddings html
plotGroupedSamplesDmap html
plotHeatmaps html
plotSummaryHistograms html
pooledCells html
printClusterAssignments html
rawExpn html
removeTinySamples html
retrieveRefClusters html
sNames html
selectFeatures html
selectMarkers html
selected_genes html
seuratInfo html
snames_data html
subsampledBool html
subsampledIdx html
** building package indices
** installing vignettes
** testing if installed package can be loaded from temporary location
** testing if installed package can be loaded from final location
** testing if installed package keeps a record of temporary installation path
install for x64
* installing *source* package 'phemd' ...
** testing if installed package can be loaded
* MD5 sums
packaged installation of 'phemd' as phemd_0.99.37.zip
* DONE (phemd)