| Back to Multiple platform build/check report for BioC 3.9 |
|
This page was generated on 2019-04-09 13:36:40 -0400 (Tue, 09 Apr 2019).
| Package 1173/1703 | Hostname | OS / Arch | INSTALL | BUILD | CHECK | BUILD BIN | ||||||
| perturbatr 1.3.1 Simon Dirmeier
| malbec2 | Linux (Ubuntu 18.04.2 LTS) / x86_64 | OK | OK | OK | |||||||
| tokay2 | Windows Server 2012 R2 Standard / x64 | OK | OK | OK | OK | |||||||
| celaya2 | OS X 10.11.6 El Capitan / x86_64 | OK | OK | OK | OK | |||||||
| merida2 | OS X 10.11.6 El Capitan / x86_64 | OK | OK | [ OK ] | OK |
| Package: perturbatr |
| Version: 1.3.1 |
| Command: /Library/Frameworks/R.framework/Versions/Current/Resources/bin/R CMD check --install=check:perturbatr.install-out.txt --library=/Library/Frameworks/R.framework/Versions/Current/Resources/library --no-vignettes --timings perturbatr_1.3.1.tar.gz |
| StartedAt: 2019-04-09 02:49:02 -0400 (Tue, 09 Apr 2019) |
| EndedAt: 2019-04-09 02:58:02 -0400 (Tue, 09 Apr 2019) |
| EllapsedTime: 540.0 seconds |
| RetCode: 0 |
| Status: OK |
| CheckDir: perturbatr.Rcheck |
| Warnings: 0 |
##############################################################################
##############################################################################
###
### Running command:
###
### /Library/Frameworks/R.framework/Versions/Current/Resources/bin/R CMD check --install=check:perturbatr.install-out.txt --library=/Library/Frameworks/R.framework/Versions/Current/Resources/library --no-vignettes --timings perturbatr_1.3.1.tar.gz
###
##############################################################################
##############################################################################
* using log directory ‘/Users/biocbuild/bbs-3.9-bioc/meat/perturbatr.Rcheck’
* using R Under development (unstable) (2018-11-27 r75683)
* using platform: x86_64-apple-darwin15.6.0 (64-bit)
* using session charset: UTF-8
* using option ‘--no-vignettes’
* checking for file ‘perturbatr/DESCRIPTION’ ... OK
* checking extension type ... Package
* this is package ‘perturbatr’ version ‘1.3.1’
* checking package namespace information ... OK
* checking package dependencies ... OK
* checking if this is a source package ... OK
* checking if there is a namespace ... OK
* checking for hidden files and directories ... OK
* checking for portable file names ... OK
* checking for sufficient/correct file permissions ... OK
* checking whether package ‘perturbatr’ can be installed ... OK
* checking installed package size ... OK
* checking package directory ... OK
* checking ‘build’ directory ... OK
* checking DESCRIPTION meta-information ... OK
* checking top-level files ... OK
* checking for left-over files ... OK
* checking index information ... OK
* checking package subdirectories ... OK
* checking R files for non-ASCII characters ... OK
* checking R files for syntax errors ... OK
* checking whether the package can be loaded ... OK
* checking whether the package can be loaded with stated dependencies ... OK
* checking whether the package can be unloaded cleanly ... OK
* checking whether the namespace can be loaded with stated dependencies ... OK
* checking whether the namespace can be unloaded cleanly ... OK
* checking dependencies in R code ... OK
* checking S3 generic/method consistency ... OK
* checking replacement functions ... OK
* checking foreign function calls ... OK
* checking R code for possible problems ... OK
* checking Rd files ... OK
* checking Rd metadata ... OK
* checking Rd cross-references ... OK
* checking for missing documentation entries ... OK
* checking for code/documentation mismatches ... OK
* checking Rd \usage sections ... OK
* checking Rd contents ... OK
* checking for unstated dependencies in examples ... OK
* checking contents of ‘data’ directory ... OK
* checking data for non-ASCII characters ... OK
* checking data for ASCII and uncompressed saves ... OK
* checking files in ‘vignettes’ ... OK
* checking examples ... OK
Examples with CPU or elapsed time > 5s
user system elapsed
bootstrap 76.045 26.491 103.275
rnaiscreen 8.224 4.650 12.942
HMAnalysedPerturbationData-class 8.356 4.473 12.918
geneEffects-methods 7.998 4.819 12.961
inference-methods 7.738 4.737 12.521
NetworkAnalysedPerturbationData-class 8.034 4.407 12.526
graph-methods 7.800 4.619 12.456
diffuse-methods 7.526 4.536 12.195
params-methods 7.342 4.513 11.889
hm-methods 7.500 4.298 11.833
isBootstrapped-methods 7.310 4.447 11.811
modelFit-methods 7.106 4.432 11.569
nestedGeneEffects-methods 6.959 4.082 11.070
* checking for unstated dependencies in ‘tests’ ... OK
* checking tests ...
Running ‘testthat.R’
OK
* checking for unstated dependencies in vignettes ... OK
* checking package vignettes in ‘inst/doc’ ... OK
* checking running R code from vignettes ... SKIPPED
* checking re-building of vignette outputs ... SKIPPED
* checking PDF version of manual ... OK
* DONE
Status: OK
perturbatr.Rcheck/00install.out
############################################################################## ############################################################################## ### ### Running command: ### ### /Library/Frameworks/R.framework/Versions/Current/Resources/bin/R CMD INSTALL perturbatr ### ############################################################################## ############################################################################## * installing to library ‘/Library/Frameworks/R.framework/Versions/3.6/Resources/library’ * installing *source* package ‘perturbatr’ ... ** R ** data *** moving datasets to lazyload DB ** inst ** byte-compile and prepare package for lazy loading ** help *** installing help indices ** building package indices ** installing vignettes ** testing if installed package can be loaded * DONE (perturbatr)
perturbatr.Rcheck/tests/testthat.Rout
R Under development (unstable) (2018-11-27 r75683) -- "Unsuffered Consequences"
Copyright (C) 2018 The R Foundation for Statistical Computing
Platform: x86_64-apple-darwin15.6.0 (64-bit)
R is free software and comes with ABSOLUTELY NO WARRANTY.
You are welcome to redistribute it under certain conditions.
Type 'license()' or 'licence()' for distribution details.
R is a collaborative project with many contributors.
Type 'contributors()' for more information and
'citation()' on how to cite R or R packages in publications.
Type 'demo()' for some demos, 'help()' for on-line help, or
'help.start()' for an HTML browser interface to help.
Type 'q()' to quit R.
> # perturbatr: analysis of high-throughput gene perturbation screens
> #
> # Copyright (C) 2018 Simon Dirmeier
> #
> # This file is part of perturbatr
> #
> # perturbatr is free software: you can redistribute it and/or modify
> # it under the terms of the GNU General Public License as published by
> # the Free Software Foundation, either version 3 of the License, or
> # (at your option) any later version.
> #
> # perturbatr is distributed in the hope that it will be useful,
> # but WITHOUT ANY WARRANTY; without even the implied warranty of
> # MERCHANTABILITY or FITNESS FOR A PARTICULAR PURPOSE. See the
> # GNU General Public License for more details.
> #
> # You should have received a copy of the GNU General Public License
> # along with perturbatr If not, see <http://www.gnu.org/licenses/>.
>
>
> library(testthat)
> library(perturbatr)
Attaching package: 'perturbatr'
The following object is masked from 'package:stats':
filter
>
> test_check("perturbatr")
══ testthat results ═══════════════════════════════════════════════════════════
OK: 42 SKIPPED: 0 FAILED: 0
>
> proc.time()
user system elapsed
144.111 54.798 200.271
perturbatr.Rcheck/perturbatr-Ex.timings
| name | user | system | elapsed | |
| HMAnalysedPerturbationData-class | 8.356 | 4.473 | 12.918 | |
| NetworkAnalysedPerturbationData-class | 8.034 | 4.407 | 12.526 | |
| PerturbationData-class | 0.013 | 0.000 | 0.014 | |
| bootstrap | 76.045 | 26.491 | 103.275 | |
| dataSet-methods | 0.784 | 0.069 | 0.857 | |
| diffuse-methods | 7.526 | 4.536 | 12.195 | |
| filter-methods | 0.409 | 0.059 | 0.471 | |
| geneEffects-methods | 7.998 | 4.819 | 12.961 | |
| graph-methods | 7.800 | 4.619 | 12.456 | |
| hm-methods | 7.500 | 4.298 | 11.833 | |
| inference-methods | 7.738 | 4.737 | 12.521 | |
| isBootstrapped-methods | 7.310 | 4.447 | 11.811 | |
| modelFit-methods | 7.106 | 4.432 | 11.569 | |
| nestedGeneEffects-methods | 6.959 | 4.082 | 11.070 | |
| params-methods | 7.342 | 4.513 | 11.889 | |
| rbind.PerturbationData | 0.738 | 0.092 | 0.832 | |
| rnaiscreen | 8.224 | 4.650 | 12.942 | |