| Back to Multiple platform build/check report for BioC 3.9 | 
 | 
This page was generated on 2019-04-09 13:29:57 -0400 (Tue, 09 Apr 2019).
| Package 1171/1703 | Hostname | OS / Arch | INSTALL | BUILD | CHECK | BUILD BIN | ||||||
| pepStat 1.17.0 Gregory C Imholte 
 | malbec2 | Linux (Ubuntu 18.04.2 LTS) / x86_64 | OK | OK | OK |  | ||||||
| tokay2 | Windows Server 2012 R2 Standard / x64 | OK | OK | OK | OK |  | ||||||
| celaya2 | OS X 10.11.6 El Capitan / x86_64 | OK | OK | OK | OK |  | ||||||
| merida2 | OS X 10.11.6 El Capitan / x86_64 | OK | OK | OK | [ OK ] | 
| Package: pepStat | 
| Version: 1.17.0 | 
| Command: rm -rf pepStat.buildbin-libdir && mkdir pepStat.buildbin-libdir && /Users/biocbuild/BBS/utils/build-universal.sh pepStat_1.17.0.tar.gz /Library/Frameworks/R.framework/Versions/Current/Resources/bin/R pepStat.buildbin-libdir | 
| StartedAt: 2019-04-09 06:06:51 -0400 (Tue, 09 Apr 2019) | 
| EndedAt: 2019-04-09 06:08:08 -0400 (Tue, 09 Apr 2019) | 
| EllapsedTime: 76.6 seconds | 
| RetCode: 0 | 
| Status: OK | 
| PackageFile: pepStat_1.17.0.tgz | 
| PackageFileSize: 657.4 KiB | 
############################################################################## ############################################################################## ### ### Running command: ### ### rm -rf pepStat.buildbin-libdir && mkdir pepStat.buildbin-libdir && /Users/biocbuild/BBS/utils/build-universal.sh pepStat_1.17.0.tar.gz /Library/Frameworks/R.framework/Versions/Current/Resources/bin/R pepStat.buildbin-libdir ### ############################################################################## ############################################################################## >>>>>>> >>>>>>> INSTALLATION WITH 'R CMD INSTALL --preclean --no-multiarch --library=pepStat.buildbin-libdir pepStat_1.17.0.tar.gz' >>>>>>> * installing *source* package ‘pepStat’ ... ** R ** inst ** byte-compile and prepare package for lazy loading No methods found in package ‘GenomicRanges’ for request: ‘mcols<-’ when loading ‘pepStat’ No methods found in package ‘GenomicRanges’ for request: ‘mcols’ when loading ‘pepStat’ ** help *** installing help indices ** building package indices ** installing vignettes ** testing if installed package can be loaded No methods found in package ‘GenomicRanges’ for request: ‘mcols<-’ when loading ‘pepStat’ No methods found in package ‘GenomicRanges’ for request: ‘mcols’ when loading ‘pepStat’ * DONE (pepStat)