| Back to Multiple platform build/check report for BioC 3.9 | 
 | 
This page was generated on 2019-04-09 13:23:41 -0400 (Tue, 09 Apr 2019).
| Package 1168/1703 | Hostname | OS / Arch | INSTALL | BUILD | CHECK | BUILD BIN | ||||||
| pdInfoBuilder 1.47.1 Benilton Carvalho 
 | malbec2 | Linux (Ubuntu 18.04.2 LTS) / x86_64 | OK | OK | OK |  | ||||||
| tokay2 | Windows Server 2012 R2 Standard / x64 | OK | OK | OK | OK |  | ||||||
| celaya2 | OS X 10.11.6 El Capitan / x86_64 | OK | OK | OK | OK |  | ||||||
| merida2 | OS X 10.11.6 El Capitan / x86_64 | OK | [ OK ] | OK | OK | 
| Package: pdInfoBuilder | 
| Version: 1.47.1 | 
| Command: /Library/Frameworks/R.framework/Versions/Current/Resources/bin/R CMD build --keep-empty-dirs --no-resave-data pdInfoBuilder | 
| StartedAt: 2019-04-08 19:47:48 -0400 (Mon, 08 Apr 2019) | 
| EndedAt: 2019-04-08 19:48:47 -0400 (Mon, 08 Apr 2019) | 
| EllapsedTime: 58.2 seconds | 
| RetCode: 0 | 
| Status: OK | 
| PackageFile: pdInfoBuilder_1.47.1.tar.gz | 
| PackageFileSize: 347.5 KiB | 
##############################################################################
##############################################################################
###
### Running command:
###
###   /Library/Frameworks/R.framework/Versions/Current/Resources/bin/R CMD build --keep-empty-dirs --no-resave-data pdInfoBuilder
###
##############################################################################
##############################################################################
* checking for file ‘pdInfoBuilder/DESCRIPTION’ ... OK
* preparing ‘pdInfoBuilder’:
* checking DESCRIPTION meta-information ... OK
* cleaning src
* installing the package to build vignettes
* creating vignettes ... OK
Warning: ‘inst/doc’ files
    ‘BuildingPDInfoPkgs.Rnw’, ‘howto-AffymetrixMapping.Rnw’,  ‘howto-AffymetrixMapping.pdf’
  ignored as vignettes have been rebuilt.
  Run R CMD build with --no-build-vignettes to prevent rebuilding.
* cleaning src
* checking for LF line-endings in source and make files and shell scripts
* checking for empty or unneeded directories
* building ‘pdInfoBuilder_1.47.1.tar.gz’