| Back to Multiple platform build/check report for BioC 3.9 |
|
This page was generated on 2019-04-09 12:26:27 -0400 (Tue, 09 Apr 2019).
| Package 1160/1703 | Hostname | OS / Arch | INSTALL | BUILD | CHECK | BUILD BIN | ||||||
| pcaExplorer 2.9.5 Federico Marini
| malbec2 | Linux (Ubuntu 18.04.2 LTS) / x86_64 | OK | OK | OK | |||||||
| tokay2 | Windows Server 2012 R2 Standard / x64 | [ OK ] | OK | OK | OK | |||||||
| celaya2 | OS X 10.11.6 El Capitan / x86_64 | OK | OK | OK | OK | |||||||
| merida2 | OS X 10.11.6 El Capitan / x86_64 | OK | OK | OK | OK |
| Package: pcaExplorer |
| Version: 2.9.5 |
| Command: C:\cygwin\bin\curl.exe -O https://malbec2.bioconductor.org/BBS/3.9/bioc/src/contrib/pcaExplorer_2.9.5.tar.gz && rm -rf pcaExplorer.buildbin-libdir && mkdir pcaExplorer.buildbin-libdir && C:\Users\biocbuild\bbs-3.9-bioc\R\bin\R.exe CMD INSTALL --merge-multiarch --build --library=pcaExplorer.buildbin-libdir pcaExplorer_2.9.5.tar.gz && C:\Users\biocbuild\bbs-3.9-bioc\R\bin\R.exe CMD INSTALL pcaExplorer_2.9.5.zip && rm pcaExplorer_2.9.5.tar.gz pcaExplorer_2.9.5.zip |
| StartedAt: 2019-04-08 20:45:28 -0400 (Mon, 08 Apr 2019) |
| EndedAt: 2019-04-08 20:46:33 -0400 (Mon, 08 Apr 2019) |
| EllapsedTime: 65.1 seconds |
| RetCode: 0 |
| Status: OK |
##############################################################################
##############################################################################
###
### Running command:
###
### C:\cygwin\bin\curl.exe -O https://malbec2.bioconductor.org/BBS/3.9/bioc/src/contrib/pcaExplorer_2.9.5.tar.gz && rm -rf pcaExplorer.buildbin-libdir && mkdir pcaExplorer.buildbin-libdir && C:\Users\biocbuild\bbs-3.9-bioc\R\bin\R.exe CMD INSTALL --merge-multiarch --build --library=pcaExplorer.buildbin-libdir pcaExplorer_2.9.5.tar.gz && C:\Users\biocbuild\bbs-3.9-bioc\R\bin\R.exe CMD INSTALL pcaExplorer_2.9.5.zip && rm pcaExplorer_2.9.5.tar.gz pcaExplorer_2.9.5.zip
###
##############################################################################
##############################################################################
% Total % Received % Xferd Average Speed Time Time Time Current
Dload Upload Total Spent Left Speed
0 0 0 0 0 0 0 0 --:--:-- --:--:-- --:--:-- 0
27 22.0M 27 6288k 0 0 29.0M 0 --:--:-- --:--:-- --:--:-- 29.8M
100 22.0M 100 22.0M 0 0 26.9M 0 --:--:-- --:--:-- --:--:-- 27.1M
install for i386
* installing *source* package 'pcaExplorer' ...
** R
** inst
** byte-compile and prepare package for lazy loading
** help
*** installing help indices
converting help for package 'pcaExplorer'
finding HTML links ... done
correlatePCs html
distro_expr html
finding level-2 HTML links ... done
geneprofiler html
genespca html
get_annotation html
get_annotation_orgdb html
hi_loadings html
limmaquickpca2go html
makeExampleDESeqDataSet_multifac html
pair_corr html
pca2go html
pcaExplorer-pkg html
pcaExplorer html
pcaplot html
pcaplot3d html
pcascree html
plotPCcorrs html
topGOtable html
** building package indices
** installing vignettes
** testing if installed package can be loaded from temporary location
** testing if installed package can be loaded from final location
** testing if installed package keeps a record of temporary installation path
install for x64
* installing *source* package 'pcaExplorer' ...
** testing if installed package can be loaded
* MD5 sums
packaged installation of 'pcaExplorer' as pcaExplorer_2.9.5.zip
* DONE (pcaExplorer)
* installing to library 'C:/Users/biocbuild/bbs-3.9-bioc/R/library'
package 'pcaExplorer' successfully unpacked and MD5 sums checked