| Back to Multiple platform build/check report for BioC 3.9 |
|
This page was generated on 2019-04-09 13:12:45 -0400 (Tue, 09 Apr 2019).
| Package 1158/1703 | Hostname | OS / Arch | INSTALL | BUILD | CHECK | BUILD BIN | ||||||
| paxtoolsr 1.17.0 Augustin Luna
| malbec2 | Linux (Ubuntu 18.04.2 LTS) / x86_64 | OK | OK | OK | |||||||
| tokay2 | Windows Server 2012 R2 Standard / x64 | OK | OK | OK | OK | |||||||
| celaya2 | OS X 10.11.6 El Capitan / x86_64 | OK | OK | [ OK ] | OK | |||||||
| merida2 | OS X 10.11.6 El Capitan / x86_64 | OK | OK | OK | OK |
| Package: paxtoolsr |
| Version: 1.17.0 |
| Command: /Library/Frameworks/R.framework/Versions/Current/Resources/bin/R CMD check --install=check:paxtoolsr.install-out.txt --library=/Library/Frameworks/R.framework/Versions/Current/Resources/library --no-vignettes --timings paxtoolsr_1.17.0.tar.gz |
| StartedAt: 2019-04-09 04:15:04 -0400 (Tue, 09 Apr 2019) |
| EndedAt: 2019-04-09 04:18:58 -0400 (Tue, 09 Apr 2019) |
| EllapsedTime: 233.9 seconds |
| RetCode: 0 |
| Status: OK |
| CheckDir: paxtoolsr.Rcheck |
| Warnings: 0 |
##############################################################################
##############################################################################
###
### Running command:
###
### /Library/Frameworks/R.framework/Versions/Current/Resources/bin/R CMD check --install=check:paxtoolsr.install-out.txt --library=/Library/Frameworks/R.framework/Versions/Current/Resources/library --no-vignettes --timings paxtoolsr_1.17.0.tar.gz
###
##############################################################################
##############################################################################
* using log directory ‘/Users/biocbuild/bbs-3.9-bioc/meat/paxtoolsr.Rcheck’
* using R Under development (unstable) (2019-03-18 r76245)
* using platform: x86_64-apple-darwin15.6.0 (64-bit)
* using session charset: UTF-8
* using option ‘--no-vignettes’
* checking for file ‘paxtoolsr/DESCRIPTION’ ... OK
* checking extension type ... Package
* this is package ‘paxtoolsr’ version ‘1.17.0’
* checking package namespace information ... OK
* checking package dependencies ... OK
* checking if this is a source package ... OK
* checking if there is a namespace ... OK
* checking for hidden files and directories ... OK
* checking for portable file names ... OK
* checking for sufficient/correct file permissions ... OK
* checking whether package ‘paxtoolsr’ can be installed ... OK
* checking installed package size ... NOTE
installed size is 31.6Mb
sub-directories of 1Mb or more:
extdata 6.8Mb
java 24.5Mb
* checking package directory ... OK
* checking ‘build’ directory ... OK
* checking DESCRIPTION meta-information ... OK
* checking top-level files ... OK
* checking for left-over files ... OK
* checking index information ... OK
* checking package subdirectories ... OK
* checking R files for non-ASCII characters ... OK
* checking R files for syntax errors ... OK
* checking whether the package can be loaded ... OK
* checking whether the package can be loaded with stated dependencies ... OK
* checking whether the package can be unloaded cleanly ... OK
* checking whether the namespace can be loaded with stated dependencies ... OK
* checking whether the namespace can be unloaded cleanly ... OK
* checking dependencies in R code ... NOTE
'library' or 'require' call to ‘org.Hs.eg.db’ in package code.
Please use :: or requireNamespace() instead.
See section 'Suggested packages' in the 'Writing R Extensions' manual.
* checking S3 generic/method consistency ... OK
* checking replacement functions ... OK
* checking foreign function calls ... OK
* checking R code for possible problems ... NOTE
convertIds: no visible global function definition for ‘select’
convertIds: no visible binding for global variable ‘org.Hs.eg.db’
splitSifnxByPathway: no visible global function definition for
‘%dopar%’
Undefined global functions or variables:
%dopar% org.Hs.eg.db select
* checking Rd files ... OK
* checking Rd metadata ... OK
* checking Rd cross-references ... OK
* checking for missing documentation entries ... OK
* checking for code/documentation mismatches ... OK
* checking Rd \usage sections ... OK
* checking Rd contents ... OK
* checking for unstated dependencies in examples ... OK
* checking files in ‘vignettes’ ... OK
* checking examples ... OK
Examples with CPU or elapsed time > 5s
user system elapsed
readPcPathwaysInfo 102.057 22.133 124.371
fetch 6.525 1.765 2.336
integrateBiopax 4.984 1.226 1.594
* checking for unstated dependencies in ‘tests’ ... OK
* checking tests ...
Running ‘testthat.R’
OK
* checking for unstated dependencies in vignettes ... OK
* checking package vignettes in ‘inst/doc’ ... OK
* checking running R code from vignettes ... SKIPPED
* checking re-building of vignette outputs ... SKIPPED
* checking PDF version of manual ... OK
* DONE
Status: 3 NOTEs
See
‘/Users/biocbuild/bbs-3.9-bioc/meat/paxtoolsr.Rcheck/00check.log’
for details.
paxtoolsr.Rcheck/00install.out
############################################################################## ############################################################################## ### ### Running command: ### ### /Library/Frameworks/R.framework/Versions/Current/Resources/bin/R CMD INSTALL paxtoolsr ### ############################################################################## ############################################################################## * installing to library ‘/Library/Frameworks/R.framework/Versions/3.6/Resources/library’ * installing *source* package ‘paxtoolsr’ ... ** using staged installation ** R ** inst ** byte-compile and prepare package for lazy loading ** help *** installing help indices ** building package indices ** installing vignettes ** testing if installed package can be loaded from temporary location ** testing if installed package can be loaded from final location ** testing if installed package keeps a record of temporary installation path * DONE (paxtoolsr)
paxtoolsr.Rcheck/tests/testthat.Rout
R Under development (unstable) (2019-03-18 r76245) -- "Unsuffered Consequences"
Copyright (C) 2019 The R Foundation for Statistical Computing
Platform: x86_64-apple-darwin15.6.0 (64-bit)
R is free software and comes with ABSOLUTELY NO WARRANTY.
You are welcome to redistribute it under certain conditions.
Type 'license()' or 'licence()' for distribution details.
R is a collaborative project with many contributors.
Type 'contributors()' for more information and
'citation()' on how to cite R or R packages in publications.
Type 'demo()' for some demos, 'help()' for on-line help, or
'help.start()' for an HTML browser interface to help.
Type 'q()' to quit R.
> library(testthat)
> library(paxtoolsr)
Loading required package: rJava
Loading required package: XML
Consider citing this package: Luna A, et al. PaxtoolsR: pathway analysis in R using Pathway Commons. PMID: 26685306; citation("paxtoolsr")
>
> test_check("paxtoolsr")
URL: http://www.pathwaycommons.org/pc2/get?uri=http%3A%2F%2Fidentifiers.org%2Funiprot%2FQ06609&uri=http%3A%2F%2Fidentifiers.org%2Funiprot%2FQ96EB6&format=BIOPAX
2019-04-09 04:18:43,052 1706 [main] INFO org.biopax.paxtools.PaxtoolsMain - Collecting proteins for a pathway, the converter will also consider its sub-pathways, their sub-pathways, etc.
2019-04-09 04:18:43,092 1746 [pool-1-thread-1] INFO org.biopax.paxtools.io.gsea.GSEAConverter - Begin converting Glycolysis Pathway pathway, uri=http://www.biopax.org/examples/myExamplePathway50
2019-04-09 04:18:43,108 1762 [pool-1-thread-1] INFO org.biopax.paxtools.io.gsea.GSEAConverter - - fetched PRs: 2
2019-04-09 04:18:43,108 1762 [pool-1-thread-1] INFO org.biopax.paxtools.io.gsea.GSEAConverter - - grouping the PRs by organism...
2019-04-09 04:18:43,129 1783 [pool-1-thread-1] INFO org.biopax.paxtools.io.gsea.GSEAConverter - - creating GSEA/GMT entries...
2019-04-09 04:18:43,132 1786 [pool-2-thread-1] INFO org.biopax.paxtools.io.gsea.GSEAConverter - adding uniprot IDs of proteins (PRs) from 'Glycolysis Pathway', amaze;kegg pathway...
2019-04-09 04:18:43,136 1790 [pool-1-thread-1] INFO org.biopax.paxtools.io.gsea.GSEAConverter - - collected 1entries.
2019-04-09 04:18:43,136 1790 [main] INFO org.biopax.paxtools.io.gsea.GSEAConverter - Creating entries for the rest fo (unused) PRs...
2019-04-09 04:18:44,098 2752 [main] INFO org.biopax.paxtools.client.BiopaxValidatorClient - BioPAX Validator location: http://biopax.baderlab.org/check.html
2019-04-09 04:18:44,680 3334 [main] INFO org.biopax.paxtools.client.BiopaxValidatorClient - BioPAX Validator location: http://biopax.baderlab.org/check.html
2019-04-09 04:18:45,257 3911 [main] INFO org.biopax.paxtools.PaxtoolsMain - Elements in the result model: 240
SBGN-PD Layout is running...
success ratio: 1.0
enhanced ratio: 1.0
Total execution time: 82 miliseconds.
2019-04-09 04:18:46,296 4950 [AWT-AppKit] INFO org.biopax.paxtools.PaxtoolsMain - toSifnx: not blacklisting ubiquitous molecules (no blacklist.txt found)
2019-04-09 04:18:47,484 6138 [AWT-AppKit] INFO org.biopax.paxtools.PaxtoolsMain - toSif: not blacklisting ubiquitous molecules (no blacklist.txt found)
2019-04-09 04:18:48,628 7282 [AWT-AppKit] INFO org.biopax.paxtools.PaxtoolsMain - toSif: not blacklisting ubiquitous molecules (no blacklist.txt found)
══ testthat results ═══════════════════════════════════════════════════════════
OK: 40 SKIPPED: 10 FAILED: 0
>
> proc.time()
user system elapsed
28.863 6.572 18.195
paxtoolsr.Rcheck/paxtoolsr-Ex.timings
| name | user | system | elapsed | |
| addAttributeList | 0.025 | 0.001 | 0.026 | |
| convertDataFrameListsToVectors | 0.006 | 0.001 | 0.008 | |
| convertIds | 4.541 | 0.387 | 4.922 | |
| convertSifToGmt | 0.019 | 0.009 | 0.029 | |
| downloadFile | 0.122 | 0.022 | 0.387 | |
| downloadPc2 | 0.000 | 0.000 | 0.001 | |
| downloadSignedPC | 0.001 | 0.000 | 0.001 | |
| fetch | 6.525 | 1.765 | 2.336 | |
| filterSif | 0.382 | 0.040 | 0.103 | |
| getCacheFiles | 0.001 | 0.000 | 0.001 | |
| getErrorMessage | 0.001 | 0.001 | 0.001 | |
| getNeighbors | 1.541 | 0.568 | 0.492 | |
| getPc | 0.001 | 0.001 | 0.001 | |
| getPcDatabaseNames | 0.612 | 0.173 | 0.629 | |
| getPcUrl | 0.000 | 0.000 | 0.001 | |
| getShortestPathSif | 0.037 | 0.003 | 0.040 | |
| getSifInteractionCategories | 0.001 | 0.001 | 0.002 | |
| graphPc | 0.000 | 0.000 | 0.001 | |
| integrateBiopax | 4.984 | 1.226 | 1.594 | |
| loadSifInIgraph | 0.015 | 0.001 | 0.006 | |
| mapValues | 0.000 | 0.001 | 0.001 | |
| mergeBiopax | 1.764 | 0.287 | 0.739 | |
| pcDirections | 0.010 | 0.000 | 0.001 | |
| pcFormats | 0.001 | 0.001 | 0.002 | |
| pcGraphQueries | 0.000 | 0.001 | 0.001 | |
| processPcRequest | 0.007 | 0.002 | 0.011 | |
| readBiopax | 0.002 | 0.000 | 0.003 | |
| readGmt | 0.091 | 0.003 | 0.096 | |
| readPcPathwaysInfo | 102.057 | 22.133 | 124.371 | |
| readSbgn | 0.002 | 0.001 | 0.004 | |
| readSif | 0.003 | 0.001 | 0.002 | |
| readSifnx | 0.017 | 0.003 | 0.020 | |
| searchListOfVectors | 0.002 | 0.001 | 0.004 | |
| searchPc | 0.000 | 0.000 | 0.001 | |
| summarize | 0.182 | 0.027 | 0.117 | |
| summarizeSif | 0.019 | 0.003 | 0.007 | |
| toCytoscape | 0.038 | 0.002 | 0.039 | |
| toGSEA | 0.187 | 0.028 | 0.075 | |
| toLevel3 | 0.442 | 0.111 | 0.140 | |
| toSBGN | 2.807 | 0.714 | 1.243 | |
| toSif | 3.246 | 0.332 | 0.945 | |
| toSifnx | 2.961 | 1.107 | 0.851 | |
| topPathways | 0.001 | 0.001 | 0.000 | |
| traverse | 0.001 | 0.001 | 0.001 | |
| validate | 3.813 | 0.526 | 2.172 | |