| Back to Multiple platform build/check report for BioC 3.9 |
|
This page was generated on 2019-04-09 12:45:19 -0400 (Tue, 09 Apr 2019).
| Package 1156/1703 | Hostname | OS / Arch | INSTALL | BUILD | CHECK | BUILD BIN | ||||||
| pathwayPCA 0.99.5 Gabriel Odom
| malbec2 | Linux (Ubuntu 18.04.2 LTS) / x86_64 | OK | OK | OK | |||||||
| tokay2 | Windows Server 2012 R2 Standard / x64 | [ OK ] | OK | OK | OK | |||||||
| celaya2 | OS X 10.11.6 El Capitan / x86_64 | OK | OK | OK | OK | |||||||
| merida2 | OS X 10.11.6 El Capitan / x86_64 | OK | OK | OK | OK |
| Package: pathwayPCA |
| Version: 0.99.5 |
| Command: C:\cygwin\bin\curl.exe -O https://malbec2.bioconductor.org/BBS/3.9/bioc/src/contrib/pathwayPCA_0.99.5.tar.gz && rm -rf pathwayPCA.buildbin-libdir && mkdir pathwayPCA.buildbin-libdir && C:\Users\biocbuild\bbs-3.9-bioc\R\bin\R.exe CMD INSTALL --merge-multiarch --build --library=pathwayPCA.buildbin-libdir pathwayPCA_0.99.5.tar.gz && C:\Users\biocbuild\bbs-3.9-bioc\R\bin\R.exe CMD INSTALL pathwayPCA_0.99.5.zip && rm pathwayPCA_0.99.5.tar.gz pathwayPCA_0.99.5.zip |
| StartedAt: 2019-04-08 18:45:26 -0400 (Mon, 08 Apr 2019) |
| EndedAt: 2019-04-08 18:46:38 -0400 (Mon, 08 Apr 2019) |
| EllapsedTime: 72.2 seconds |
| RetCode: 0 |
| Status: OK |
##############################################################################
##############################################################################
###
### Running command:
###
### C:\cygwin\bin\curl.exe -O https://malbec2.bioconductor.org/BBS/3.9/bioc/src/contrib/pathwayPCA_0.99.5.tar.gz && rm -rf pathwayPCA.buildbin-libdir && mkdir pathwayPCA.buildbin-libdir && C:\Users\biocbuild\bbs-3.9-bioc\R\bin\R.exe CMD INSTALL --merge-multiarch --build --library=pathwayPCA.buildbin-libdir pathwayPCA_0.99.5.tar.gz && C:\Users\biocbuild\bbs-3.9-bioc\R\bin\R.exe CMD INSTALL pathwayPCA_0.99.5.zip && rm pathwayPCA_0.99.5.tar.gz pathwayPCA_0.99.5.zip
###
##############################################################################
##############################################################################
% Total % Received % Xferd Average Speed Time Time Time Current
Dload Upload Total Spent Left Speed
0 0 0 0 0 0 0 0 --:--:-- --:--:-- --:--:-- 0
100 3350k 100 3350k 0 0 37.3M 0 --:--:-- --:--:-- --:--:-- 40.3M
install for i386
* installing *source* package 'pathwayPCA' ...
** R
** data
*** moving datasets to lazyload DB
** inst
** byte-compile and prepare package for lazy loading
** help
*** installing help indices
converting help for package 'pathwayPCA'
finding HTML links ... done
AESPCA_pVals html
CheckAssay html
CheckPwyColl html
CheckSampleIDs html
ControlFDR html
CreateOmics html
CreateOmicsPathway html
CreatePathwayCollection html
ExtractAESPCs html
GumbelMixpValues html
IntersectOmicsPwyCollct html
JoinPhenoAssay html
LoadOntoPCs html
OmicsCateg-class html
OmicsPathway-class html
OmicsReg-class html
OmicsSurv-class html
OptimGumbelMixParams html
PathwaytValues html
PermTestCateg html
PermTestReg html
PermTestSurv html
SE2Tidy html
SubsetPathwayCollection html
SubsetPathwayData html
SuperPCA_pVals html
TabulatepValues html
TransposeAssay html
ValidOmicsSurv html
aespca html
colonSurv_df html
colon_pathwayCollection html
coxTrain_fun html
getPathPCLs html
getPathpVals html
get_set_OmicsPathway html
get_set_OmicsRegCateg html
get_set_OmicsSurv html
glmTrain_fun html
lars.lsa html
mysvd html
normalize html
olsTrain_fun html
pathwayPCA-package html
pathway_tControl html
pathway_tScores html
permuteSamps html
print.pathwayCollection html
read_gmt html
show-OmicsPathway-method html
superpc.st html
superpc.train html
wikipwsHS_Entrez_pathwayCollection html
write_gmt html
** building package indices
** installing vignettes
** testing if installed package can be loaded from temporary location
** testing if installed package can be loaded from final location
** testing if installed package keeps a record of temporary installation path
install for x64
* installing *source* package 'pathwayPCA' ...
** testing if installed package can be loaded
* MD5 sums
packaged installation of 'pathwayPCA' as pathwayPCA_0.99.5.zip
* DONE (pathwayPCA)
* installing to library 'C:/Users/biocbuild/bbs-3.9-bioc/R/library'
package 'pathwayPCA' successfully unpacked and MD5 sums checked