| Back to Multiple platform build/check report for BioC 3.9 |
|
This page was generated on 2019-04-09 12:01:56 -0400 (Tue, 09 Apr 2019).
| Package 1155/1703 | Hostname | OS / Arch | INSTALL | BUILD | CHECK | BUILD BIN | ||||||
| pathview 1.23.3 Weijun Luo
| malbec2 | Linux (Ubuntu 18.04.2 LTS) / x86_64 | OK | OK | WARNINGS | |||||||
| tokay2 | Windows Server 2012 R2 Standard / x64 | OK | OK | WARNINGS | [ OK ] | |||||||
| celaya2 | OS X 10.11.6 El Capitan / x86_64 | OK | OK | WARNINGS | OK | |||||||
| merida2 | OS X 10.11.6 El Capitan / x86_64 | OK | OK | WARNINGS | OK |
| Package: pathview |
| Version: 1.23.3 |
| Command: rm -rf pathview.buildbin-libdir && mkdir pathview.buildbin-libdir && C:\Users\biocbuild\bbs-3.9-bioc\R\bin\R.exe CMD INSTALL --merge-multiarch --build --library=pathview.buildbin-libdir pathview_1.23.3.tar.gz |
| StartedAt: 2019-04-09 08:38:41 -0400 (Tue, 09 Apr 2019) |
| EndedAt: 2019-04-09 08:39:27 -0400 (Tue, 09 Apr 2019) |
| EllapsedTime: 46.6 seconds |
| RetCode: 0 |
| Status: OK |
| PackageFile: pathview_1.23.3.zip |
| PackageFileSize: 2.174 MiB |
##############################################################################
##############################################################################
###
### Running command:
###
### rm -rf pathview.buildbin-libdir && mkdir pathview.buildbin-libdir && C:\Users\biocbuild\bbs-3.9-bioc\R\bin\R.exe CMD INSTALL --merge-multiarch --build --library=pathview.buildbin-libdir pathview_1.23.3.tar.gz
###
##############################################################################
##############################################################################
install for i386
* installing *source* package 'pathview' ...
** R
** data
** inst
** byte-compile and prepare package for lazy loading
** help
*** installing help indices
converting help for package 'pathview'
finding HTML links ... done
combineKEGGnodes html
cpd.accs html
cpdidmap html
demo.data html
download.kegg html
eg2id html
kegg.species.code html
korg html
mol.sum html
node.color html
node.info html
node.map html
pathview-internal html
pathview-package html
pathview html
sim.mol.data html
wordwrap html
** building package indices
** installing vignettes
** testing if installed package can be loaded from temporary location
** testing if installed package can be loaded from final location
** testing if installed package keeps a record of temporary installation path
install for x64
* installing *source* package 'pathview' ...
** testing if installed package can be loaded
* MD5 sums
packaged installation of 'pathview' as pathview_1.23.3.zip
* DONE (pathview)