| Back to Multiple platform build/check report for BioC 3.9 |
|
This page was generated on 2019-04-09 12:25:05 -0400 (Tue, 09 Apr 2019).
| Package 1154/1703 | Hostname | OS / Arch | INSTALL | BUILD | CHECK | BUILD BIN | ||||||
| pathVar 1.13.0 Samuel Zimmerman
| malbec2 | Linux (Ubuntu 18.04.2 LTS) / x86_64 | OK | OK | OK | |||||||
| tokay2 | Windows Server 2012 R2 Standard / x64 | [ OK ] | OK | OK | OK | |||||||
| celaya2 | OS X 10.11.6 El Capitan / x86_64 | OK | OK | OK | OK | |||||||
| merida2 | OS X 10.11.6 El Capitan / x86_64 | OK | OK | OK | OK |
| Package: pathVar |
| Version: 1.13.0 |
| Command: C:\cygwin\bin\curl.exe -O https://malbec2.bioconductor.org/BBS/3.9/bioc/src/contrib/pathVar_1.13.0.tar.gz && rm -rf pathVar.buildbin-libdir && mkdir pathVar.buildbin-libdir && C:\Users\biocbuild\bbs-3.9-bioc\R\bin\R.exe CMD INSTALL --merge-multiarch --build --library=pathVar.buildbin-libdir pathVar_1.13.0.tar.gz && C:\Users\biocbuild\bbs-3.9-bioc\R\bin\R.exe CMD INSTALL pathVar_1.13.0.zip && rm pathVar_1.13.0.tar.gz pathVar_1.13.0.zip |
| StartedAt: 2019-04-08 18:51:31 -0400 (Mon, 08 Apr 2019) |
| EndedAt: 2019-04-08 18:52:15 -0400 (Mon, 08 Apr 2019) |
| EllapsedTime: 44.6 seconds |
| RetCode: 0 |
| Status: OK |
##############################################################################
##############################################################################
###
### Running command:
###
### C:\cygwin\bin\curl.exe -O https://malbec2.bioconductor.org/BBS/3.9/bioc/src/contrib/pathVar_1.13.0.tar.gz && rm -rf pathVar.buildbin-libdir && mkdir pathVar.buildbin-libdir && C:\Users\biocbuild\bbs-3.9-bioc\R\bin\R.exe CMD INSTALL --merge-multiarch --build --library=pathVar.buildbin-libdir pathVar_1.13.0.tar.gz && C:\Users\biocbuild\bbs-3.9-bioc\R\bin\R.exe CMD INSTALL pathVar_1.13.0.zip && rm pathVar_1.13.0.tar.gz pathVar_1.13.0.zip
###
##############################################################################
##############################################################################
% Total % Received % Xferd Average Speed Time Time Time Current
Dload Upload Total Spent Left Speed
0 0 0 0 0 0 0 0 --:--:-- --:--:-- --:--:-- 0
100 900k 100 900k 0 0 7116k 0 --:--:-- --:--:-- --:--:-- 7567k
install for i386
* installing *source* package 'pathVar' ...
** R
** data
*** moving datasets to lazyload DB
** inst
** byte-compile and prepare package for lazy loading
** help
*** installing help indices
converting help for package 'pathVar'
finding HTML links ... done
bock html
diagnosticsVarPlots html
diagnosticsVarPlotsTwoSample html
geneDistributionSet-class html
geneDistributionSet2-class html
geneDistributionSet3-class html
geneSet-class html
getGenes html
makeDBList html
pathVar-package html
pathVarOneSample html
pathVarTwoSamplesCont html
pathVarTwoSamplesDisc html
plotAllTwoSampleDistributionCounts html
plotPway html
pways.kegg html
pways.reactome html
saveAsPDF html
sigPway html
significantPathway-class html
significantPathway2-class html
significantPathway3-class html
** building package indices
** installing vignettes
** testing if installed package can be loaded from temporary location
** testing if installed package can be loaded from final location
** testing if installed package keeps a record of temporary installation path
install for x64
* installing *source* package 'pathVar' ...
** testing if installed package can be loaded
* MD5 sums
packaged installation of 'pathVar' as pathVar_1.13.0.zip
* DONE (pathVar)
* installing to library 'C:/Users/biocbuild/bbs-3.9-bioc/R/library'
package 'pathVar' successfully unpacked and MD5 sums checked