| Back to Multiple platform build/check report for BioC 3.9 |
|
This page was generated on 2019-04-09 11:54:45 -0400 (Tue, 09 Apr 2019).
| Package 1153/1703 | Hostname | OS / Arch | INSTALL | BUILD | CHECK | BUILD BIN | ||||||
| pathRender 1.51.0 Vince Carey
| malbec2 | Linux (Ubuntu 18.04.2 LTS) / x86_64 | OK | OK | OK | |||||||
| tokay2 | Windows Server 2012 R2 Standard / x64 | OK | OK | OK | [ OK ] | |||||||
| celaya2 | OS X 10.11.6 El Capitan / x86_64 | OK | OK | OK | OK | |||||||
| merida2 | OS X 10.11.6 El Capitan / x86_64 | OK | OK | OK | OK |
| Package: pathRender |
| Version: 1.51.0 |
| Command: rm -rf pathRender.buildbin-libdir && mkdir pathRender.buildbin-libdir && C:\Users\biocbuild\bbs-3.9-bioc\R\bin\R.exe CMD INSTALL --merge-multiarch --build --library=pathRender.buildbin-libdir pathRender_1.51.0.tar.gz |
| StartedAt: 2019-04-09 08:38:34 -0400 (Tue, 09 Apr 2019) |
| EndedAt: 2019-04-09 08:39:17 -0400 (Tue, 09 Apr 2019) |
| EllapsedTime: 43.3 seconds |
| RetCode: 0 |
| Status: OK |
| PackageFile: pathRender_1.51.0.zip |
| PackageFileSize: 247.7 KiB |
##############################################################################
##############################################################################
###
### Running command:
###
### rm -rf pathRender.buildbin-libdir && mkdir pathRender.buildbin-libdir && C:\Users\biocbuild\bbs-3.9-bioc\R\bin\R.exe CMD INSTALL --merge-multiarch --build --library=pathRender.buildbin-libdir pathRender_1.51.0.tar.gz
###
##############################################################################
##############################################################################
install for i386
* installing *source* package 'pathRender' ...
** R
** inst
** byte-compile and prepare package for lazy loading
** help
*** installing help indices
converting help for package 'pathRender'
finding HTML links ... done
colorNodes html
coloredGraph-class html
graphcMAP html
plotExGraph html
pwayGraph-class html
reduceES html
rendercMAP html
** building package indices
** installing vignettes
** testing if installed package can be loaded from temporary location
** testing if installed package can be loaded from final location
** testing if installed package keeps a record of temporary installation path
install for x64
* installing *source* package 'pathRender' ...
** testing if installed package can be loaded
* MD5 sums
packaged installation of 'pathRender' as pathRender_1.51.0.zip
* DONE (pathRender)