| Back to Multiple platform build/check report for BioC 3.9 |
|
This page was generated on 2019-04-09 12:05:56 -0400 (Tue, 09 Apr 2019).
| Package 1139/1703 | Hostname | OS / Arch | INSTALL | BUILD | CHECK | BUILD BIN | ||||||
| paircompviz 1.21.0 Michal Burda
| malbec2 | Linux (Ubuntu 18.04.2 LTS) / x86_64 | OK | OK | OK | |||||||
| tokay2 | Windows Server 2012 R2 Standard / x64 | OK | OK | OK | [ OK ] | |||||||
| celaya2 | OS X 10.11.6 El Capitan / x86_64 | OK | OK | OK | OK | |||||||
| merida2 | OS X 10.11.6 El Capitan / x86_64 | OK | OK | OK | OK |
| Package: paircompviz |
| Version: 1.21.0 |
| Command: rm -rf paircompviz.buildbin-libdir && mkdir paircompviz.buildbin-libdir && C:\Users\biocbuild\bbs-3.9-bioc\R\bin\R.exe CMD INSTALL --merge-multiarch --build --library=paircompviz.buildbin-libdir paircompviz_1.21.0.tar.gz |
| StartedAt: 2019-04-09 08:37:43 -0400 (Tue, 09 Apr 2019) |
| EndedAt: 2019-04-09 08:38:01 -0400 (Tue, 09 Apr 2019) |
| EllapsedTime: 18.8 seconds |
| RetCode: 0 |
| Status: OK |
| PackageFile: paircompviz_1.21.0.zip |
| PackageFileSize: 360.7 KiB |
##############################################################################
##############################################################################
###
### Running command:
###
### rm -rf paircompviz.buildbin-libdir && mkdir paircompviz.buildbin-libdir && C:\Users\biocbuild\bbs-3.9-bioc\R\bin\R.exe CMD INSTALL --merge-multiarch --build --library=paircompviz.buildbin-libdir paircompviz_1.21.0.tar.gz
###
##############################################################################
##############################################################################
install for i386
* installing *source* package 'paircompviz' ...
** R
** data
** inst
** byte-compile and prepare package for lazy loading
** help
*** installing help indices
converting help for package 'paircompviz'
finding HTML links ... done
brokentrans html
hasse html
paircomp html
paircompviz-package html
transReduct html
** building package indices
** installing vignettes
** testing if installed package can be loaded from temporary location
** testing if installed package can be loaded from final location
** testing if installed package keeps a record of temporary installation path
install for x64
* installing *source* package 'paircompviz' ...
** testing if installed package can be loaded
* MD5 sums
packaged installation of 'paircompviz' as paircompviz_1.21.0.zip
* DONE (paircompviz)