| Back to Multiple platform build/check report for BioC 3.9 |
|
This page was generated on 2019-04-09 12:01:28 -0400 (Tue, 09 Apr 2019).
| Package 1234/1703 | Hostname | OS / Arch | INSTALL | BUILD | CHECK | BUILD BIN | ||||||
| pRoloc 1.23.2 Laurent Gatto
| malbec2 | Linux (Ubuntu 18.04.2 LTS) / x86_64 | OK | ERROR | skipped | |||||||
| tokay2 | Windows Server 2012 R2 Standard / x64 | [ OK ] | ERROR | skipped | skipped | |||||||
| celaya2 | OS X 10.11.6 El Capitan / x86_64 | OK | OK | OK | OK | |||||||
| merida2 | OS X 10.11.6 El Capitan / x86_64 | OK | ERROR | skipped | skipped |
| Package: pRoloc |
| Version: 1.23.2 |
| Command: C:\cygwin\bin\curl.exe -O https://malbec2.bioconductor.org/BBS/3.9/bioc/src/contrib/pRoloc_1.23.2.tar.gz && rm -rf pRoloc.buildbin-libdir && mkdir pRoloc.buildbin-libdir && C:\Users\biocbuild\bbs-3.9-bioc\R\bin\R.exe CMD INSTALL --merge-multiarch --build --library=pRoloc.buildbin-libdir pRoloc_1.23.2.tar.gz && C:\Users\biocbuild\bbs-3.9-bioc\R\bin\R.exe CMD INSTALL pRoloc_1.23.2.zip && rm pRoloc_1.23.2.tar.gz pRoloc_1.23.2.zip |
| StartedAt: 2019-04-08 20:48:12 -0400 (Mon, 08 Apr 2019) |
| EndedAt: 2019-04-08 20:50:48 -0400 (Mon, 08 Apr 2019) |
| EllapsedTime: 156.0 seconds |
| RetCode: 0 |
| Status: OK |
##############################################################################
##############################################################################
###
### Running command:
###
### C:\cygwin\bin\curl.exe -O https://malbec2.bioconductor.org/BBS/3.9/bioc/src/contrib/pRoloc_1.23.2.tar.gz && rm -rf pRoloc.buildbin-libdir && mkdir pRoloc.buildbin-libdir && C:\Users\biocbuild\bbs-3.9-bioc\R\bin\R.exe CMD INSTALL --merge-multiarch --build --library=pRoloc.buildbin-libdir pRoloc_1.23.2.tar.gz && C:\Users\biocbuild\bbs-3.9-bioc\R\bin\R.exe CMD INSTALL pRoloc_1.23.2.zip && rm pRoloc_1.23.2.tar.gz pRoloc_1.23.2.zip
###
##############################################################################
##############################################################################
% Total % Received % Xferd Average Speed Time Time Time Current
Dload Upload Total Spent Left Speed
0 0 0 0 0 0 0 0 --:--:-- --:--:-- --:--:-- 0
100 2530k 100 2530k 0 0 9303k 0 --:--:-- --:--:-- --:--:-- 9549k
install for i386
* installing *source* package 'pRoloc' ...
** libs
C:/Rtools/mingw_32/bin/g++ -I"C:/Users/BIOCBU˜1/BBS-3˜1.9-B/R/include" -DNDEBUG -I"C:/Users/biocbuild/bbs-3.9-bioc/R/library/Rcpp/include" -I"C:/Users/biocbuild/bbs-3.9-bioc/R/library/RcppArmadillo/include" -I"C:/extsoft/include" -O2 -Wall -mtune=generic -c RcppExports.cpp -o RcppExports.o
C:/Rtools/mingw_32/bin/g++ -I"C:/Users/BIOCBU˜1/BBS-3˜1.9-B/R/include" -DNDEBUG -I"C:/Users/biocbuild/bbs-3.9-bioc/R/library/Rcpp/include" -I"C:/Users/biocbuild/bbs-3.9-bioc/R/library/RcppArmadillo/include" -I"C:/extsoft/include" -O2 -Wall -mtune=generic -c dmvtCpp.cpp -o dmvtCpp.o
C:/Rtools/mingw_32/bin/g++ -I"C:/Users/BIOCBU˜1/BBS-3˜1.9-B/R/include" -DNDEBUG -I"C:/Users/biocbuild/bbs-3.9-bioc/R/library/Rcpp/include" -I"C:/Users/biocbuild/bbs-3.9-bioc/R/library/RcppArmadillo/include" -I"C:/extsoft/include" -O2 -Wall -mtune=generic -c pRoloc.cpp -o pRoloc.o
C:/Rtools/mingw_32/bin/g++ -shared -s -static-libgcc -o pRoloc.dll tmp.def RcppExports.o dmvtCpp.o pRoloc.o -LC:/Users/BIOCBU˜1/BBS-3˜1.9-B/R/bin/i386 -lRlapack -LC:/Users/BIOCBU˜1/BBS-3˜1.9-B/R/bin/i386 -lRblas -lgfortran -lm -lquadmath -LC:/extsoft/lib/i386 -LC:/extsoft/lib -LC:/Users/BIOCBU˜1/BBS-3˜1.9-B/R/bin/i386 -lR
installing to C:/Users/biocbuild/bbs-3.9-bioc/meat/pRoloc.buildbin-libdir/00LOCK-pRoloc/00new/pRoloc/libs/i386
** R
** data
** inst
** byte-compile and prepare package for lazy loading
** help
*** installing help indices
converting help for package 'pRoloc'
finding HTML links ... done
AnnotationParams-class html
ClustDist-class html
ClustDistList-class html
GenRegRes-class html
finding level-2 HTML links ... done
MCMCParams html
MLearn-methods html
MartInstance-class html
QSep-class html
SpatProtVis-class html
addGoAnnotations html
addLegend html
addMarkers html
checkFeatureNamesOverlap html
checkFvarOverlap html
chi2-methods html
classWeights html
clustDist html
defunct html
empPvalues html
exprsToRatios-methods html
fDataToUnknown html
filterBinMSnSet html
filterMaxMarkers html
filterMinMarkers html
filterZeroCols html
getGOFromFeatures html
getMarkerClasses html
getMarkers html
getNormDist html
getPredictions html
getStockcol html
goIdToTerm html
highlightOnPlot html
knnClassification html
knnOptimisation html
knntlClassification html
knntlOptimisation html
ksvmClassification html
ksvmOptimisation html
lopims html
makeGoSet html
markerMSnSet html
markers html
mcmc-helpers html
minMarkers html
move2Ds html
mrkConsProfiles html
mrkHClust html
nbClassification html
nbOptimisation html
nndist-methods html
nnetClassification html
nnetOptimisation html
orderGoAnnotations html
orgQuants html
pRolocmarkers html
perTurboClassification html
perTurboOptimisation html
phenoDisco html
plot2D html
plot2Ds html
plotConsProfiles html
plotDist html
plotEllipse html
plsdaClassification html
plsdaOptimisation html
rfClassification html
rfOptimisation html
sampleMSnSet html
showGOEvidenceCodes html
subsetMarkers html
svmClassification html
svmOptimisation html
tagm-map html
Rd warning: C:/Users/biocbuild/bbs-3.9-bioc/tmpdir/Rtmps1tHjm/R.INSTALL2b7c552510bb/pRoloc/man/tagm-map.Rd:27: file link 'MSnSet' in package 'MSnbase' does not exist and so has been treated as a topic
Rd warning: C:/Users/biocbuild/bbs-3.9-bioc/tmpdir/Rtmps1tHjm/R.INSTALL2b7c552510bb/pRoloc/man/tagm-map.Rd:90: file link 'MSnSet' in package 'MSnbase' does not exist and so has been treated as a topic
Rd warning: C:/Users/biocbuild/bbs-3.9-bioc/tmpdir/Rtmps1tHjm/R.INSTALL2b7c552510bb/pRoloc/man/tagm-map.Rd:79: file link 'MSnSet' in package 'MSnbase' does not exist and so has been treated as a topic
tagm-mcmc html
Rd warning: C:/Users/biocbuild/bbs-3.9-bioc/tmpdir/Rtmps1tHjm/R.INSTALL2b7c552510bb/pRoloc/man/tagm-mcmc.Rd:24: file link 'MSnSet' in package 'MSnbase' does not exist and so has been treated as a topic
Rd warning: C:/Users/biocbuild/bbs-3.9-bioc/tmpdir/Rtmps1tHjm/R.INSTALL2b7c552510bb/pRoloc/man/tagm-mcmc.Rd:115: file link 'MSnSet' in package 'MSnbase' does not exist and so has been treated as a topic
Rd warning: C:/Users/biocbuild/bbs-3.9-bioc/tmpdir/Rtmps1tHjm/R.INSTALL2b7c552510bb/pRoloc/man/tagm-mcmc.Rd:90: file link 'MSnSet' in package 'MSnbase' does not exist and so has been treated as a topic
testMSnSet html
testMarkers html
thetas html
undocumented html
zerosInBinMSnSet html
** building package indices
** installing vignettes
** testing if installed package can be loaded from temporary location
** testing if installed package can be loaded from final location
** testing if installed package keeps a record of temporary installation path
install for x64
* installing *source* package 'pRoloc' ...
** libs
C:/Rtools/mingw_64/bin/g++ -I"C:/Users/BIOCBU˜1/BBS-3˜1.9-B/R/include" -DNDEBUG -I"C:/Users/biocbuild/bbs-3.9-bioc/R/library/Rcpp/include" -I"C:/Users/biocbuild/bbs-3.9-bioc/R/library/RcppArmadillo/include" -I"C:/extsoft/include" -O2 -Wall -mtune=generic -c RcppExports.cpp -o RcppExports.o
C:/Rtools/mingw_64/bin/g++ -I"C:/Users/BIOCBU˜1/BBS-3˜1.9-B/R/include" -DNDEBUG -I"C:/Users/biocbuild/bbs-3.9-bioc/R/library/Rcpp/include" -I"C:/Users/biocbuild/bbs-3.9-bioc/R/library/RcppArmadillo/include" -I"C:/extsoft/include" -O2 -Wall -mtune=generic -c dmvtCpp.cpp -o dmvtCpp.o
C:/Rtools/mingw_64/bin/g++ -I"C:/Users/BIOCBU˜1/BBS-3˜1.9-B/R/include" -DNDEBUG -I"C:/Users/biocbuild/bbs-3.9-bioc/R/library/Rcpp/include" -I"C:/Users/biocbuild/bbs-3.9-bioc/R/library/RcppArmadillo/include" -I"C:/extsoft/include" -O2 -Wall -mtune=generic -c pRoloc.cpp -o pRoloc.o
C:/Rtools/mingw_64/bin/g++ -shared -s -static-libgcc -o pRoloc.dll tmp.def RcppExports.o dmvtCpp.o pRoloc.o -LC:/Users/BIOCBU˜1/BBS-3˜1.9-B/R/bin/x64 -lRlapack -LC:/Users/BIOCBU˜1/BBS-3˜1.9-B/R/bin/x64 -lRblas -lgfortran -lm -lquadmath -LC:/extsoft/lib/x64 -LC:/extsoft/lib -LC:/Users/BIOCBU˜1/BBS-3˜1.9-B/R/bin/x64 -lR
installing to C:/Users/biocbuild/bbs-3.9-bioc/meat/pRoloc.buildbin-libdir/pRoloc/libs/x64
** testing if installed package can be loaded
* MD5 sums
packaged installation of 'pRoloc' as pRoloc_1.23.2.zip
* DONE (pRoloc)
* installing to library 'C:/Users/biocbuild/bbs-3.9-bioc/R/library'
package 'pRoloc' successfully unpacked and MD5 sums checked