| Back to Multiple platform build/check report for BioC 3.9 |
|
This page was generated on 2019-04-09 12:20:21 -0400 (Tue, 09 Apr 2019).
| Package 1123/1703 | Hostname | OS / Arch | INSTALL | BUILD | CHECK | BUILD BIN | ||||||
| oposSOM 2.1.1 Henry Loeffler-Wirth
| malbec2 | Linux (Ubuntu 18.04.2 LTS) / x86_64 | OK | OK | WARNINGS | |||||||
| tokay2 | Windows Server 2012 R2 Standard / x64 | OK | OK | WARNINGS | [ OK ] | |||||||
| celaya2 | OS X 10.11.6 El Capitan / x86_64 | OK | OK | WARNINGS | OK | |||||||
| merida2 | OS X 10.11.6 El Capitan / x86_64 | OK | OK | WARNINGS | OK |
| Package: oposSOM |
| Version: 2.1.1 |
| Command: rm -rf oposSOM.buildbin-libdir && mkdir oposSOM.buildbin-libdir && C:\Users\biocbuild\bbs-3.9-bioc\R\bin\R.exe CMD INSTALL --merge-multiarch --build --library=oposSOM.buildbin-libdir oposSOM_2.1.1.tar.gz |
| StartedAt: 2019-04-09 08:36:45 -0400 (Tue, 09 Apr 2019) |
| EndedAt: 2019-04-09 08:37:54 -0400 (Tue, 09 Apr 2019) |
| EllapsedTime: 69.3 seconds |
| RetCode: 0 |
| Status: OK |
| PackageFile: oposSOM_2.1.1.zip |
| PackageFileSize: 4.559 MiB |
##############################################################################
##############################################################################
###
### Running command:
###
### rm -rf oposSOM.buildbin-libdir && mkdir oposSOM.buildbin-libdir && C:\Users\biocbuild\bbs-3.9-bioc\R\bin\R.exe CMD INSTALL --merge-multiarch --build --library=oposSOM.buildbin-libdir oposSOM_2.1.1.tar.gz
###
##############################################################################
##############################################################################
install for i386
* installing *source* package 'oposSOM' ...
** libs
C:/Rtools/mingw_32/bin/g++ -std=gnu++11 -I"C:/Users/BIOCBU˜1/BBS-3˜1.9-B/R/include" -DNDEBUG -I"C:/Users/biocbuild/bbs-3.9-bioc/R/library/RcppParallel/include" -I"C:/Users/biocbuild/bbs-3.9-bioc/R/library/Rcpp/include" -I"C:/extsoft/include" -DRCPP_PARALLEL_USE_TBB=1 -O2 -Wall -mtune=generic -c DeltaMatrix.cpp -o DeltaMatrix.o
C:/Rtools/mingw_32/bin/g++ -std=gnu++11 -I"C:/Users/BIOCBU˜1/BBS-3˜1.9-B/R/include" -DNDEBUG -I"C:/Users/biocbuild/bbs-3.9-bioc/R/library/RcppParallel/include" -I"C:/Users/biocbuild/bbs-3.9-bioc/R/library/Rcpp/include" -I"C:/extsoft/include" -DRCPP_PARALLEL_USE_TBB=1 -O2 -Wall -mtune=generic -c DistanceCalculator.cpp -o DistanceCalculator.o
C:/Rtools/mingw_32/bin/g++ -std=gnu++11 -I"C:/Users/BIOCBU˜1/BBS-3˜1.9-B/R/include" -DNDEBUG -I"C:/Users/biocbuild/bbs-3.9-bioc/R/library/RcppParallel/include" -I"C:/Users/biocbuild/bbs-3.9-bioc/R/library/Rcpp/include" -I"C:/extsoft/include" -DRCPP_PARALLEL_USE_TBB=1 -O2 -Wall -mtune=generic -c NeighborhoodMatrix.cpp -o NeighborhoodMatrix.o
C:/Rtools/mingw_32/bin/g++ -std=gnu++11 -I"C:/Users/BIOCBU˜1/BBS-3˜1.9-B/R/include" -DNDEBUG -I"C:/Users/biocbuild/bbs-3.9-bioc/R/library/RcppParallel/include" -I"C:/Users/biocbuild/bbs-3.9-bioc/R/library/Rcpp/include" -I"C:/extsoft/include" -DRCPP_PARALLEL_USE_TBB=1 -O2 -Wall -mtune=generic -c RcppExports.cpp -o RcppExports.o
C:/Rtools/mingw_32/bin/g++ -shared -s -static-libgcc -o oposSOM.dll tmp.def DeltaMatrix.o DistanceCalculator.o NeighborhoodMatrix.o RcppExports.o -LC:/Users/biocbuild/bbs-3.9-bioc/R/library/RcppParallel/lib/i386 -ltbb -ltbbmalloc -LC:/extsoft/lib/i386 -LC:/extsoft/lib -LC:/Users/BIOCBU˜1/BBS-3˜1.9-B/R/bin/i386 -lR
installing to C:/Users/biocbuild/bbs-3.9-bioc/meat/oposSOM.buildbin-libdir/00LOCK-oposSOM/00new/oposSOM/libs/i386
** R
** data
** inst
** byte-compile and prepare package for lazy loading
** help
*** installing help indices
converting help for package 'oposSOM'
finding HTML links ... done
oposSOM-package html
opossom.genesets html
opossom.new html
opossom.run html
opossom.tissues html
** building package indices
** installing vignettes
** testing if installed package can be loaded from temporary location
** testing if installed package can be loaded from final location
** testing if installed package keeps a record of temporary installation path
install for x64
* installing *source* package 'oposSOM' ...
** libs
C:/Rtools/mingw_64/bin/g++ -std=gnu++11 -I"C:/Users/BIOCBU˜1/BBS-3˜1.9-B/R/include" -DNDEBUG -I"C:/Users/biocbuild/bbs-3.9-bioc/R/library/RcppParallel/include" -I"C:/Users/biocbuild/bbs-3.9-bioc/R/library/Rcpp/include" -I"C:/extsoft/include" -DRCPP_PARALLEL_USE_TBB=1 -O2 -Wall -mtune=generic -c DeltaMatrix.cpp -o DeltaMatrix.o
C:/Rtools/mingw_64/bin/g++ -std=gnu++11 -I"C:/Users/BIOCBU˜1/BBS-3˜1.9-B/R/include" -DNDEBUG -I"C:/Users/biocbuild/bbs-3.9-bioc/R/library/RcppParallel/include" -I"C:/Users/biocbuild/bbs-3.9-bioc/R/library/Rcpp/include" -I"C:/extsoft/include" -DRCPP_PARALLEL_USE_TBB=1 -O2 -Wall -mtune=generic -c DistanceCalculator.cpp -o DistanceCalculator.o
C:/Rtools/mingw_64/bin/g++ -std=gnu++11 -I"C:/Users/BIOCBU˜1/BBS-3˜1.9-B/R/include" -DNDEBUG -I"C:/Users/biocbuild/bbs-3.9-bioc/R/library/RcppParallel/include" -I"C:/Users/biocbuild/bbs-3.9-bioc/R/library/Rcpp/include" -I"C:/extsoft/include" -DRCPP_PARALLEL_USE_TBB=1 -O2 -Wall -mtune=generic -c NeighborhoodMatrix.cpp -o NeighborhoodMatrix.o
C:/Rtools/mingw_64/bin/g++ -std=gnu++11 -I"C:/Users/BIOCBU˜1/BBS-3˜1.9-B/R/include" -DNDEBUG -I"C:/Users/biocbuild/bbs-3.9-bioc/R/library/RcppParallel/include" -I"C:/Users/biocbuild/bbs-3.9-bioc/R/library/Rcpp/include" -I"C:/extsoft/include" -DRCPP_PARALLEL_USE_TBB=1 -O2 -Wall -mtune=generic -c RcppExports.cpp -o RcppExports.o
C:/Rtools/mingw_64/bin/g++ -shared -s -static-libgcc -o oposSOM.dll tmp.def DeltaMatrix.o DistanceCalculator.o NeighborhoodMatrix.o RcppExports.o -LC:/Users/biocbuild/bbs-3.9-bioc/R/library/RcppParallel/lib/x64 -ltbb -ltbbmalloc -LC:/extsoft/lib/x64 -LC:/extsoft/lib -LC:/Users/BIOCBU˜1/BBS-3˜1.9-B/R/bin/x64 -lR
installing to C:/Users/biocbuild/bbs-3.9-bioc/meat/oposSOM.buildbin-libdir/oposSOM/libs/x64
** testing if installed package can be loaded
* MD5 sums
packaged installation of 'oposSOM' as oposSOM_2.1.1.zip
* DONE (oposSOM)