| Back to Multiple platform build/check report for BioC 3.9 |
|
This page was generated on 2019-04-09 12:32:44 -0400 (Tue, 09 Apr 2019).
| Package 1121/1703 | Hostname | OS / Arch | INSTALL | BUILD | CHECK | BUILD BIN | ||||||
| openPrimeR 1.5.1 Matthias Döring
| malbec2 | Linux (Ubuntu 18.04.2 LTS) / x86_64 | OK | OK | OK | |||||||
| tokay2 | Windows Server 2012 R2 Standard / x64 | [ OK ] | OK | OK | OK | |||||||
| celaya2 | OS X 10.11.6 El Capitan / x86_64 | OK | OK | OK | OK | |||||||
| merida2 | OS X 10.11.6 El Capitan / x86_64 | OK | OK | OK | OK |
| Package: openPrimeR |
| Version: 1.5.1 |
| Command: C:\cygwin\bin\curl.exe -O https://malbec2.bioconductor.org/BBS/3.9/bioc/src/contrib/openPrimeR_1.5.1.tar.gz && rm -rf openPrimeR.buildbin-libdir && mkdir openPrimeR.buildbin-libdir && C:\Users\biocbuild\bbs-3.9-bioc\R\bin\R.exe CMD INSTALL --merge-multiarch --build --library=openPrimeR.buildbin-libdir openPrimeR_1.5.1.tar.gz && C:\Users\biocbuild\bbs-3.9-bioc\R\bin\R.exe CMD INSTALL openPrimeR_1.5.1.zip && rm openPrimeR_1.5.1.tar.gz openPrimeR_1.5.1.zip |
| StartedAt: 2019-04-08 19:37:00 -0400 (Mon, 08 Apr 2019) |
| EndedAt: 2019-04-08 19:40:57 -0400 (Mon, 08 Apr 2019) |
| EllapsedTime: 236.6 seconds |
| RetCode: 0 |
| Status: OK |
##############################################################################
##############################################################################
###
### Running command:
###
### C:\cygwin\bin\curl.exe -O https://malbec2.bioconductor.org/BBS/3.9/bioc/src/contrib/openPrimeR_1.5.1.tar.gz && rm -rf openPrimeR.buildbin-libdir && mkdir openPrimeR.buildbin-libdir && C:\Users\biocbuild\bbs-3.9-bioc\R\bin\R.exe CMD INSTALL --merge-multiarch --build --library=openPrimeR.buildbin-libdir openPrimeR_1.5.1.tar.gz && C:\Users\biocbuild\bbs-3.9-bioc\R\bin\R.exe CMD INSTALL openPrimeR_1.5.1.zip && rm openPrimeR_1.5.1.tar.gz openPrimeR_1.5.1.zip
###
##############################################################################
##############################################################################
% Total % Received % Xferd Average Speed Time Time Time Current
Dload Upload Total Spent Left Speed
0 0 0 0 0 0 0 0 --:--:-- --:--:-- --:--:-- 0
100 1770k 100 1770k 0 0 20.1M 0 --:--:-- --:--:-- --:--:-- 21.8M
install for i386
* installing *source* package 'openPrimeR' ...
** R
** data
** inst
** byte-compile and prepare package for lazy loading
** help
*** installing help indices
converting help for package 'openPrimeR'
finding HTML links ... done
AnalysisStats html
Data html
Input html
Output html
Plots html
PrimerDesign html
PrimerEval html
Primers-method html
Scoring html
Settings html
Templates-method html
TemplatesFunctions html
check_cvg_constraints html
create_report-Primers-Templates-method
html
create_report-list-list-method html
filterLimits-methods html
filters-methods html
get_cvg_stats-Primers-method html
get_cvg_stats-list-method html
openPrimeR-package html
plot_constraint-Primers-method html
plot_constraint-list-method html
plot_constraint_deviation-Primers-method
html
plot_constraint_deviation-list-method html
plot_constraint_fulfillment-Primers-method
html
plot_constraint_fulfillment-list-method
html
plot_cvg_constraints-Primers-method html
plot_cvg_constraints-list-method html
plot_primer_binding_regions-Primers-Templates-method
html
plot_primer_binding_regions-list-list-method
html
plot_primer_cvg-Primers-Templates-method
html
plot_primer_cvg-list-list-method html
plot_template_cvg-Primers-Templates-method
html
plot_template_cvg-list-list-method html
runTutorial html
** building package indices
** installing vignettes
** testing if installed package can be loaded from temporary location
** testing if installed package can be loaded from final location
** testing if installed package keeps a record of temporary installation path
install for x64
* installing *source* package 'openPrimeR' ...
** testing if installed package can be loaded
* MD5 sums
packaged installation of 'openPrimeR' as openPrimeR_1.5.1.zip
* DONE (openPrimeR)
* installing to library 'C:/Users/biocbuild/bbs-3.9-bioc/R/library'
package 'openPrimeR' successfully unpacked and MD5 sums checked