| Back to Multiple platform build/check report for BioC 3.9 | 
 | 
This page was generated on 2019-04-09 13:37:07 -0400 (Tue, 09 Apr 2019).
| Package 1118/1703 | Hostname | OS / Arch | INSTALL | BUILD | CHECK | BUILD BIN | ||||||
| onlineFDR 1.1.1 David Robertson 
 | malbec2 | Linux (Ubuntu 18.04.2 LTS) / x86_64 | OK | OK | ERROR | |||||||
| tokay2 | Windows Server 2012 R2 Standard / x64 | OK | OK | ERROR | OK | |||||||
| celaya2 | OS X 10.11.6 El Capitan / x86_64 | OK | OK | ERROR | OK | |||||||
| merida2 | OS X 10.11.6 El Capitan / x86_64 | OK | OK | OK | [ OK ] | 
| Package: onlineFDR | 
| Version: 1.1.1 | 
| Command: rm -rf onlineFDR.buildbin-libdir && mkdir onlineFDR.buildbin-libdir && /Users/biocbuild/BBS/utils/build-universal.sh onlineFDR_1.1.1.tar.gz /Library/Frameworks/R.framework/Versions/Current/Resources/bin/R onlineFDR.buildbin-libdir | 
| StartedAt: 2019-04-09 06:02:51 -0400 (Tue, 09 Apr 2019) | 
| EndedAt: 2019-04-09 06:04:06 -0400 (Tue, 09 Apr 2019) | 
| EllapsedTime: 75.6 seconds | 
| RetCode: 0 | 
| Status: OK | 
| PackageFile: onlineFDR_1.1.1.tgz | 
| PackageFileSize: 269.8 KiB | 
############################################################################## ############################################################################## ### ### Running command: ### ### rm -rf onlineFDR.buildbin-libdir && mkdir onlineFDR.buildbin-libdir && /Users/biocbuild/BBS/utils/build-universal.sh onlineFDR_1.1.1.tar.gz /Library/Frameworks/R.framework/Versions/Current/Resources/bin/R onlineFDR.buildbin-libdir ### ############################################################################## ############################################################################## >>>>>>> >>>>>>> INSTALLATION WITH 'R CMD INSTALL --preclean --no-multiarch --library=onlineFDR.buildbin-libdir onlineFDR_1.1.1.tar.gz' >>>>>>> * installing *source* package ‘onlineFDR’ ... ** R ** inst ** byte-compile and prepare package for lazy loading ** help *** installing help indices ** building package indices ** installing vignettes ** testing if installed package can be loaded * DONE (onlineFDR)