| Back to Multiple platform build/check report for BioC 3.9 |
|
This page was generated on 2019-04-09 12:35:27 -0400 (Tue, 09 Apr 2019).
| Package 1112/1703 | Hostname | OS / Arch | INSTALL | BUILD | CHECK | BUILD BIN | ||||||
| omicsPrint 1.3.1 Davy Cats
| malbec2 | Linux (Ubuntu 18.04.2 LTS) / x86_64 | OK | OK | OK | |||||||
| tokay2 | Windows Server 2012 R2 Standard / x64 | OK | OK | OK | [ OK ] | |||||||
| celaya2 | OS X 10.11.6 El Capitan / x86_64 | OK | OK | OK | OK | |||||||
| merida2 | OS X 10.11.6 El Capitan / x86_64 | OK | OK | OK | OK |
| Package: omicsPrint |
| Version: 1.3.1 |
| Command: rm -rf omicsPrint.buildbin-libdir && mkdir omicsPrint.buildbin-libdir && C:\Users\biocbuild\bbs-3.9-bioc\R\bin\R.exe CMD INSTALL --merge-multiarch --build --library=omicsPrint.buildbin-libdir omicsPrint_1.3.1.tar.gz |
| StartedAt: 2019-04-09 08:36:03 -0400 (Tue, 09 Apr 2019) |
| EndedAt: 2019-04-09 08:37:23 -0400 (Tue, 09 Apr 2019) |
| EllapsedTime: 79.9 seconds |
| RetCode: 0 |
| Status: OK |
| PackageFile: omicsPrint_1.3.1.zip |
| PackageFileSize: 7.639 MiB |
##############################################################################
##############################################################################
###
### Running command:
###
### rm -rf omicsPrint.buildbin-libdir && mkdir omicsPrint.buildbin-libdir && C:\Users\biocbuild\bbs-3.9-bioc\R\bin\R.exe CMD INSTALL --merge-multiarch --build --library=omicsPrint.buildbin-libdir omicsPrint_1.3.1.tar.gz
###
##############################################################################
##############################################################################
install for i386
* installing *source* package 'omicsPrint' ...
** R
** data
*** moving datasets to lazyload DB
** inst
** byte-compile and prepare package for lazy loading
** help
*** installing help indices
converting help for package 'omicsPrint'
finding HTML links ... done
alleleSharing html
beta2genotype html
hg19.GoNLsnps html
hm450.manifest.pop.GoNL html
inferRelations html
** building package indices
** installing vignettes
** testing if installed package can be loaded from temporary location
** testing if installed package can be loaded from final location
** testing if installed package keeps a record of temporary installation path
install for x64
* installing *source* package 'omicsPrint' ...
** testing if installed package can be loaded
* MD5 sums
packaged installation of 'omicsPrint' as omicsPrint_1.3.1.zip
* DONE (omicsPrint)