| Back to Multiple platform build/check report for BioC 3.9 | 
 | 
This page was generated on 2019-04-09 12:11:32 -0400 (Tue, 09 Apr 2019).
| Package 1106/1703 | Hostname | OS / Arch | INSTALL | BUILD | CHECK | BUILD BIN | ||||||
| omicade4 1.23.0 Chen Meng 
 | malbec2 | Linux (Ubuntu 18.04.2 LTS) / x86_64 | OK | OK | OK |  | ||||||
| tokay2 | Windows Server 2012 R2 Standard / x64 | [ OK ] | OK | WARNINGS | OK |  | ||||||
| celaya2 | OS X 10.11.6 El Capitan / x86_64 | OK | OK | OK | OK |  | ||||||
| merida2 | OS X 10.11.6 El Capitan / x86_64 | OK | OK | OK | OK | 
| Package: omicade4 | 
| Version: 1.23.0 | 
| Command: C:\cygwin\bin\curl.exe -O https://malbec2.bioconductor.org/BBS/3.9/bioc/src/contrib/omicade4_1.23.0.tar.gz && rm -rf omicade4.buildbin-libdir && mkdir omicade4.buildbin-libdir && C:\Users\biocbuild\bbs-3.9-bioc\R\bin\R.exe CMD INSTALL --merge-multiarch --build --library=omicade4.buildbin-libdir omicade4_1.23.0.tar.gz && C:\Users\biocbuild\bbs-3.9-bioc\R\bin\R.exe CMD INSTALL omicade4_1.23.0.zip && rm omicade4_1.23.0.tar.gz omicade4_1.23.0.zip | 
| StartedAt: 2019-04-08 19:00:47 -0400 (Mon, 08 Apr 2019) | 
| EndedAt: 2019-04-08 19:01:10 -0400 (Mon, 08 Apr 2019) | 
| EllapsedTime: 22.0 seconds | 
| RetCode: 0 | 
| Status: OK | 
##############################################################################
##############################################################################
###
### Running command:
###
###   C:\cygwin\bin\curl.exe -O https://malbec2.bioconductor.org/BBS/3.9/bioc/src/contrib/omicade4_1.23.0.tar.gz && rm -rf omicade4.buildbin-libdir && mkdir omicade4.buildbin-libdir && C:\Users\biocbuild\bbs-3.9-bioc\R\bin\R.exe CMD INSTALL --merge-multiarch --build --library=omicade4.buildbin-libdir omicade4_1.23.0.tar.gz && C:\Users\biocbuild\bbs-3.9-bioc\R\bin\R.exe CMD INSTALL omicade4_1.23.0.zip && rm omicade4_1.23.0.tar.gz omicade4_1.23.0.zip
###
##############################################################################
##############################################################################
  % Total    % Received % Xferd  Average Speed   Time    Time     Time  Current
                                 Dload  Upload   Total   Spent    Left  Speed
  0     0    0     0    0     0      0      0 --:--:-- --:--:-- --:--:--     0
100  236k  100  236k    0     0  2927k      0 --:--:-- --:--:-- --:--:-- 3195k
install for i386
* installing *source* package 'omicade4' ...
** R
** data
** inst
** byte-compile and prepare package for lazy loading
** help
*** installing help indices
  converting help for package 'omicade4'
    finding HTML links ... done
    NCI60_4arrays                           html  
    mcia                                    html  
    omicade4-package                        html  
Rd warning: C:/Users/biocbuild/bbs-3.9-bioc/tmpdir/Rtmp21CvOY/R.INSTALL141433d63c74/omicade4/man/omicade4-package.Rd:48: file link 'ade4' in package 'ade4' does not exist and so has been treated as a topic
    plotVar                                 html  
    plotVar.cia                             html  
    plotVar.mcia                            html  
    selectVar                               html  
    selectVar.cia                           html  
    selectVar.mcia                          html  
    topVar                                  html  
    topVar.cia                              html  
    topVar.mcia                             html  
** building package indices
** installing vignettes
   'omicade4.Rnw' 
** testing if installed package can be loaded from temporary location
** testing if installed package can be loaded from final location
** testing if installed package keeps a record of temporary installation path
install for x64
* installing *source* package 'omicade4' ...
** testing if installed package can be loaded
* MD5 sums
packaged installation of 'omicade4' as omicade4_1.23.0.zip
* DONE (omicade4)
* installing to library 'C:/Users/biocbuild/bbs-3.9-bioc/R/library'
package 'omicade4' successfully unpacked and MD5 sums checked