| Back to Multiple platform build/check report for BioC 3.9 | 
 | 
This page was generated on 2019-04-09 12:54:07 -0400 (Tue, 09 Apr 2019).
| Package 1102/1703 | Hostname | OS / Arch | INSTALL | BUILD | CHECK | BUILD BIN | ||||||
| oligoClasses 1.45.0 Benilton Carvalho 
 | malbec2 | Linux (Ubuntu 18.04.2 LTS) / x86_64 | OK | OK | ERROR | |||||||
| tokay2 | Windows Server 2012 R2 Standard / x64 | OK | OK | ERROR | OK | |||||||
| celaya2 | OS X 10.11.6 El Capitan / x86_64 | OK | OK | ERROR | [ OK ] | |||||||
| merida2 | OS X 10.11.6 El Capitan / x86_64 | OK | OK | WARNINGS | OK | 
| Package: oligoClasses | 
| Version: 1.45.0 | 
| Command: rm -rf oligoClasses.buildbin-libdir && mkdir oligoClasses.buildbin-libdir && /Users/biocbuild/BBS/utils/build-universal.sh oligoClasses_1.45.0.tar.gz /Library/Frameworks/R.framework/Versions/Current/Resources/bin/R oligoClasses.buildbin-libdir | 
| StartedAt: 2019-04-09 07:27:52 -0400 (Tue, 09 Apr 2019) | 
| EndedAt: 2019-04-09 07:28:50 -0400 (Tue, 09 Apr 2019) | 
| EllapsedTime: 58.1 seconds | 
| RetCode: 0 | 
| Status: OK | 
| PackageFile: oligoClasses_1.45.0.tgz | 
| PackageFileSize: 1.467 MiB | 
############################################################################## ############################################################################## ### ### Running command: ### ### rm -rf oligoClasses.buildbin-libdir && mkdir oligoClasses.buildbin-libdir && /Users/biocbuild/BBS/utils/build-universal.sh oligoClasses_1.45.0.tar.gz /Library/Frameworks/R.framework/Versions/Current/Resources/bin/R oligoClasses.buildbin-libdir ### ############################################################################## ############################################################################## >>>>>>> >>>>>>> INSTALLATION WITH 'R CMD INSTALL --preclean --no-multiarch --library=oligoClasses.buildbin-libdir oligoClasses_1.45.0.tar.gz' >>>>>>> * installing *source* package ‘oligoClasses’ ... ** using staged installation ** R ** data ** inst ** byte-compile and prepare package for lazy loading ** help *** installing help indices ** building package indices ** installing vignettes ** testing if installed package can be loaded from temporary location ** testing if installed package can be loaded from final location ** testing if installed package keeps a record of temporary installation path * DONE (oligoClasses)