| Back to Multiple platform build/check report for BioC 3.9 | 
 | 
This page was generated on 2019-04-09 13:15:14 -0400 (Tue, 09 Apr 2019).
| Package 1087/1703 | Hostname | OS / Arch | INSTALL | BUILD | CHECK | BUILD BIN | ||||||
| normalize450K 1.11.0 Jonathan Alexander Heiss 
 | malbec2 | Linux (Ubuntu 18.04.2 LTS) / x86_64 | OK | OK | OK |  | ||||||
| tokay2 | Windows Server 2012 R2 Standard / x64 | OK | OK | OK | OK |  | ||||||
| celaya2 | OS X 10.11.6 El Capitan / x86_64 | OK | OK | OK | [ OK ] |  | ||||||
| merida2 | OS X 10.11.6 El Capitan / x86_64 | OK | OK | OK | OK | 
| Package: normalize450K | 
| Version: 1.11.0 | 
| Command: rm -rf normalize450K.buildbin-libdir && mkdir normalize450K.buildbin-libdir && /Users/biocbuild/BBS/utils/build-universal.sh normalize450K_1.11.0.tar.gz /Library/Frameworks/R.framework/Versions/Current/Resources/bin/R normalize450K.buildbin-libdir | 
| StartedAt: 2019-04-09 07:27:08 -0400 (Tue, 09 Apr 2019) | 
| EndedAt: 2019-04-09 07:27:49 -0400 (Tue, 09 Apr 2019) | 
| EllapsedTime: 40.2 seconds | 
| RetCode: 0 | 
| Status: OK | 
| PackageFile: normalize450K_1.11.0.tgz | 
| PackageFileSize: 3.009 MiB | 
############################################################################## ############################################################################## ### ### Running command: ### ### rm -rf normalize450K.buildbin-libdir && mkdir normalize450K.buildbin-libdir && /Users/biocbuild/BBS/utils/build-universal.sh normalize450K_1.11.0.tar.gz /Library/Frameworks/R.framework/Versions/Current/Resources/bin/R normalize450K.buildbin-libdir ### ############################################################################## ############################################################################## >>>>>>> >>>>>>> INSTALLATION WITH 'R CMD INSTALL --preclean --no-multiarch --library=normalize450K.buildbin-libdir normalize450K_1.11.0.tar.gz' >>>>>>> * installing *source* package ‘normalize450K’ ... ** using staged installation ** R ** inst ** byte-compile and prepare package for lazy loading ** help *** installing help indices ** building package indices ** installing vignettes ** testing if installed package can be loaded from temporary location ** testing if installed package can be loaded from final location ** testing if installed package keeps a record of temporary installation path * DONE (normalize450K)