| Back to Multiple platform build/check report for BioC 3.9 | 
 | 
This page was generated on 2019-04-09 12:25:20 -0400 (Tue, 09 Apr 2019).
| Package 1047/1703 | Hostname | OS / Arch | INSTALL | BUILD | CHECK | BUILD BIN | ||||||
| multiClust 1.13.0 Nathan Lawlor 
 | malbec2 | Linux (Ubuntu 18.04.2 LTS) / x86_64 | OK | OK | OK |  | ||||||
| tokay2 | Windows Server 2012 R2 Standard / x64 | OK | OK | OK | [ OK ] |  | ||||||
| celaya2 | OS X 10.11.6 El Capitan / x86_64 | OK | OK | OK | OK |  | ||||||
| merida2 | OS X 10.11.6 El Capitan / x86_64 | OK | OK | OK | OK | 
| Package: multiClust | 
| Version: 1.13.0 | 
| Command: rm -rf multiClust.buildbin-libdir && mkdir multiClust.buildbin-libdir && C:\Users\biocbuild\bbs-3.9-bioc\R\bin\R.exe CMD INSTALL --merge-multiarch --build --library=multiClust.buildbin-libdir multiClust_1.13.0.tar.gz | 
| StartedAt: 2019-04-09 08:32:17 -0400 (Tue, 09 Apr 2019) | 
| EndedAt: 2019-04-09 08:32:57 -0400 (Tue, 09 Apr 2019) | 
| EllapsedTime: 40.2 seconds | 
| RetCode: 0 | 
| Status: OK | 
| PackageFile: multiClust_1.13.0.zip | 
| PackageFileSize: 2.996 MiB | 
##############################################################################
##############################################################################
###
### Running command:
###
###   rm -rf multiClust.buildbin-libdir && mkdir multiClust.buildbin-libdir && C:\Users\biocbuild\bbs-3.9-bioc\R\bin\R.exe CMD INSTALL --merge-multiarch --build --library=multiClust.buildbin-libdir multiClust_1.13.0.tar.gz
###
##############################################################################
##############################################################################
install for i386
* installing *source* package 'multiClust' ...
** R
** inst
** byte-compile and prepare package for lazy loading
** help
*** installing help indices
  converting help for package 'multiClust'
    finding HTML links ... done
    WriteMatrixToFile                       html  
    avg_probe_exp                           html  
    cluster_analysis                        html  
    input_file                              html  
    nor.min.max                             html  
    number_clusters                         html  
    number_probes                           html  
    probe_ranking                           html  
    surv_analysis                           html  
** building package indices
** installing vignettes
** testing if installed package can be loaded from temporary location
** testing if installed package can be loaded from final location
** testing if installed package keeps a record of temporary installation path
install for x64
* installing *source* package 'multiClust' ...
** testing if installed package can be loaded
* MD5 sums
packaged installation of 'multiClust' as multiClust_1.13.0.zip
* DONE (multiClust)