| Back to Multiple platform build/check report for BioC 3.9 |
|
This page was generated on 2019-04-09 13:28:26 -0400 (Tue, 09 Apr 2019).
| Package 1036/1703 | Hostname | OS / Arch | INSTALL | BUILD | CHECK | BUILD BIN | ||||||
| msmsTests 1.21.1 Josep Gregori i Font
| malbec2 | Linux (Ubuntu 18.04.2 LTS) / x86_64 | OK | OK | OK | |||||||
| tokay2 | Windows Server 2012 R2 Standard / x64 | OK | OK | OK | OK | |||||||
| celaya2 | OS X 10.11.6 El Capitan / x86_64 | OK | OK | OK | OK | |||||||
| merida2 | OS X 10.11.6 El Capitan / x86_64 | OK | [ OK ] | OK | OK |
| Package: msmsTests |
| Version: 1.21.1 |
| Command: /Library/Frameworks/R.framework/Versions/Current/Resources/bin/R CMD build --keep-empty-dirs --no-resave-data msmsTests |
| StartedAt: 2019-04-08 20:37:24 -0400 (Mon, 08 Apr 2019) |
| EndedAt: 2019-04-08 20:38:47 -0400 (Mon, 08 Apr 2019) |
| EllapsedTime: 83.2 seconds |
| RetCode: 0 |
| Status: OK |
| PackageFile: msmsTests_1.21.1.tar.gz |
| PackageFileSize: 313.4 KiB |
##############################################################################
##############################################################################
###
### Running command:
###
### /Library/Frameworks/R.framework/Versions/Current/Resources/bin/R CMD build --keep-empty-dirs --no-resave-data msmsTests
###
##############################################################################
##############################################################################
* checking for file ‘msmsTests/DESCRIPTION’ ... OK
* preparing ‘msmsTests’:
* checking DESCRIPTION meta-information ... OK
* installing the package to build vignettes
* creating vignettes ... OK
Warning: ‘inst/doc’ file
‘msmsTests-Vignette2.R’
ignored as vignettes have been rebuilt.
Run R CMD build with --no-build-vignettes to prevent rebuilding.
* checking for LF line-endings in source and make files and shell scripts
* checking for empty or unneeded directories
* looking to see if a ‘data/datalist’ file should be added
* building ‘msmsTests_1.21.1.tar.gz’