| Back to Multiple platform build/check report for BioC 3.9 |
|
This page was generated on 2019-04-09 12:01:09 -0400 (Tue, 09 Apr 2019).
| Package 1026/1703 | Hostname | OS / Arch | INSTALL | BUILD | CHECK | BUILD BIN | ||||||
| motifStack 1.27.4 Jianhong Ou
| malbec2 | Linux (Ubuntu 18.04.2 LTS) / x86_64 | OK | OK | OK | |||||||
| tokay2 | Windows Server 2012 R2 Standard / x64 | OK | OK | OK | [ OK ] | |||||||
| celaya2 | OS X 10.11.6 El Capitan / x86_64 | OK | OK | OK | OK | |||||||
| merida2 | OS X 10.11.6 El Capitan / x86_64 | OK | OK | OK | OK |
| Package: motifStack |
| Version: 1.27.4 |
| Command: rm -rf motifStack.buildbin-libdir && mkdir motifStack.buildbin-libdir && C:\Users\biocbuild\bbs-3.9-bioc\R\bin\R.exe CMD INSTALL --merge-multiarch --build --library=motifStack.buildbin-libdir motifStack_1.27.4.tar.gz |
| StartedAt: 2019-04-09 08:30:59 -0400 (Tue, 09 Apr 2019) |
| EndedAt: 2019-04-09 08:31:44 -0400 (Tue, 09 Apr 2019) |
| EllapsedTime: 45.8 seconds |
| RetCode: 0 |
| Status: OK |
| PackageFile: motifStack_1.27.4.zip |
| PackageFileSize: 1.269 MiB |
##############################################################################
##############################################################################
###
### Running command:
###
### rm -rf motifStack.buildbin-libdir && mkdir motifStack.buildbin-libdir && C:\Users\biocbuild\bbs-3.9-bioc\R\bin\R.exe CMD INSTALL --merge-multiarch --build --library=motifStack.buildbin-libdir motifStack_1.27.4.tar.gz
###
##############################################################################
##############################################################################
install for i386
* installing *source* package 'motifStack' ...
** R
** inst
** byte-compile and prepare package for lazy loading
** help
*** installing help indices
converting help for package 'motifStack'
finding HTML links ... done
DNAmotifAlignment html
browseMotifs-shiny html
browseMotifs html
colorset html
getRankedUniqueMotifs html
highlightCol html
importMatrix html
mergeMotifs html
motifCircos html
motifCloud html
motifPiles html
motifSig-class html
motifSig-methods html
motifSignature html
motifStack-package html
motifStack html
ouNode-class html
pcm-class html
pcm-methods html
pfm-class html
pfm-methods html
pfm2pwm html
plotAffinityLogo html
plotMotifLogo html
plotMotifLogoA html
plotMotifLogoStack html
plotMotifLogoStackWithTree html
plotMotifOverMotif html
plotMotifStackWithPhylog html
plotMotifStackWithRadialPhylog html
plotXaxis html
plotYaxis html
psam-class html
psam-methods html
readPCM html
reorderUPGMAtree html
** building package indices
** installing vignettes
** testing if installed package can be loaded from temporary location
** testing if installed package can be loaded from final location
** testing if installed package keeps a record of temporary installation path
install for x64
* installing *source* package 'motifStack' ...
** testing if installed package can be loaded
* MD5 sums
packaged installation of 'motifStack' as motifStack_1.27.4.zip
* DONE (motifStack)