| Back to Multiple platform build/check report for BioC 3.9 |
|
This page was generated on 2019-04-09 12:00:35 -0400 (Tue, 09 Apr 2019).
| Package 1025/1703 | Hostname | OS / Arch | INSTALL | BUILD | CHECK | BUILD BIN | ||||||
| motifRG 1.27.0 Zizhen Yao
| malbec2 | Linux (Ubuntu 18.04.2 LTS) / x86_64 | OK | OK | OK | |||||||
| tokay2 | Windows Server 2012 R2 Standard / x64 | OK | OK | OK | [ OK ] | |||||||
| celaya2 | OS X 10.11.6 El Capitan / x86_64 | OK | OK | OK | OK | |||||||
| merida2 | OS X 10.11.6 El Capitan / x86_64 | OK | OK | OK | OK |
| Package: motifRG |
| Version: 1.27.0 |
| Command: rm -rf motifRG.buildbin-libdir && mkdir motifRG.buildbin-libdir && C:\Users\biocbuild\bbs-3.9-bioc\R\bin\R.exe CMD INSTALL --merge-multiarch --build --library=motifRG.buildbin-libdir motifRG_1.27.0.tar.gz |
| StartedAt: 2019-04-09 08:30:55 -0400 (Tue, 09 Apr 2019) |
| EndedAt: 2019-04-09 08:31:41 -0400 (Tue, 09 Apr 2019) |
| EllapsedTime: 46.0 seconds |
| RetCode: 0 |
| Status: OK |
| PackageFile: motifRG_1.27.0.zip |
| PackageFileSize: 1.19 MiB |
##############################################################################
##############################################################################
###
### Running command:
###
### rm -rf motifRG.buildbin-libdir && mkdir motifRG.buildbin-libdir && C:\Users\biocbuild\bbs-3.9-bioc\R\bin\R.exe CMD INSTALL --merge-multiarch --build --library=motifRG.buildbin-libdir motifRG_1.27.0.tar.gz
###
##############################################################################
##############################################################################
install for i386
* installing *source* package 'motifRG' ...
** R
** data
** inst
** byte-compile and prepare package for lazy loading
** help
*** installing help indices
converting help for package 'motifRG'
finding HTML links ... done
Motif html
YY1.control html
YY1.peak html
ctcf.motifs html
findMotif html
findMotifFasta html
findMotifFgBg html
getSequence html
motifLatexTable html
plotMotif html
finding level-2 HTML links ... done
refinePWMMotif html
refinePWMMotifExtend html
summaryMotif html
** building package indices
** installing vignettes
** testing if installed package can be loaded from temporary location
** testing if installed package can be loaded from final location
** testing if installed package keeps a record of temporary installation path
install for x64
* installing *source* package 'motifRG' ...
** testing if installed package can be loaded
* MD5 sums
packaged installation of 'motifRG' as motifRG_1.27.0.zip
* DONE (motifRG)