| Back to Multiple platform build/check report for BioC 3.9 |
|
This page was generated on 2019-04-09 13:37:27 -0400 (Tue, 09 Apr 2019).
| Package 999/1703 | Hostname | OS / Arch | INSTALL | BUILD | CHECK | BUILD BIN | ||||||
| miRSM 1.1.3 Junpeng Zhang
| malbec2 | Linux (Ubuntu 18.04.2 LTS) / x86_64 | OK | OK | OK | |||||||
| tokay2 | Windows Server 2012 R2 Standard / x64 | OK | OK | OK | OK | |||||||
| celaya2 | OS X 10.11.6 El Capitan / x86_64 | OK | OK | OK | OK | |||||||
| merida2 | OS X 10.11.6 El Capitan / x86_64 | ERROR | [ ERROR ] | skipped | skipped |
| Package: miRSM |
| Version: 1.1.3 |
| Command: /Library/Frameworks/R.framework/Versions/Current/Resources/bin/R CMD build --keep-empty-dirs --no-resave-data miRSM |
| StartedAt: 2019-04-08 22:38:00 -0400 (Mon, 08 Apr 2019) |
| EndedAt: 2019-04-08 22:38:06 -0400 (Mon, 08 Apr 2019) |
| EllapsedTime: 5.9 seconds |
| RetCode: 1 |
| Status: ERROR |
| PackageFile: None |
| PackageFileSize: NA |
##############################################################################
##############################################################################
###
### Running command:
###
### /Library/Frameworks/R.framework/Versions/Current/Resources/bin/R CMD build --keep-empty-dirs --no-resave-data miRSM
###
##############################################################################
##############################################################################
* checking for file ‘miRSM/DESCRIPTION’ ... OK
* preparing ‘miRSM’:
* checking DESCRIPTION meta-information ... OK
* cleaning src
* installing the package to build vignettes
-----------------------------------
ERROR: dependency ‘BiBitR’ is not available for package ‘miRSM’
* removing ‘/private/tmp/RtmpKbsd3n/Rinst18993096808a/miRSM’
-----------------------------------
ERROR: package installation failed