| Back to Multiple platform build/check report for BioC 3.9 | 
  | 
This page was generated on 2019-04-09 11:56:30 -0400 (Tue, 09 Apr 2019).
| Package 997/1703 | Hostname | OS / Arch | INSTALL | BUILD | CHECK | BUILD BIN | ||||||
| miRNApath 1.43.0 James M. Ward 
  | malbec2 | Linux (Ubuntu 18.04.2 LTS) / x86_64 | OK | OK | OK | |||||||
| tokay2 | Windows Server 2012 R2 Standard / x64 | OK | OK | OK | [ OK ] | |||||||
| celaya2 | OS X 10.11.6 El Capitan / x86_64 | OK | OK | OK | OK | |||||||
| merida2 | OS X 10.11.6 El Capitan / x86_64 | OK | OK | OK | OK | 
| Package: miRNApath | 
| Version: 1.43.0 | 
| Command: rm -rf miRNApath.buildbin-libdir && mkdir miRNApath.buildbin-libdir && C:\Users\biocbuild\bbs-3.9-bioc\R\bin\R.exe CMD INSTALL --merge-multiarch --build --library=miRNApath.buildbin-libdir miRNApath_1.43.0.tar.gz | 
| StartedAt: 2019-04-09 08:29:23 -0400 (Tue, 09 Apr 2019) | 
| EndedAt: 2019-04-09 08:30:09 -0400 (Tue, 09 Apr 2019) | 
| EllapsedTime: 45.8 seconds | 
| RetCode: 0 | 
| Status: OK | 
| PackageFile: miRNApath_1.43.0.zip | 
| PackageFileSize: 743.6 KiB | 
##############################################################################
##############################################################################
###
### Running command:
###
###   rm -rf miRNApath.buildbin-libdir && mkdir miRNApath.buildbin-libdir && C:\Users\biocbuild\bbs-3.9-bioc\R\bin\R.exe CMD INSTALL --merge-multiarch --build --library=miRNApath.buildbin-libdir miRNApath_1.43.0.tar.gz
###
##############################################################################
##############################################################################
install for i386
* installing *source* package 'miRNApath' ...
** R
** data
** inst
** byte-compile and prepare package for lazy loading
** help
*** installing help indices
  converting help for package 'miRNApath'
    finding HTML links ... done
    checkColumns                            html  
    convertFoldChange                       html  
    filtermirnapath                         html  
    loadmirnapath                           html  
    loadmirnapathways                       html  
    loadmirnatogene                         html  
    miRNApath-package                       html  
    mirnaTable                              html  
    mirnaobj                                html  
    mirnapath-class                         html  
    runEnrichment                           html  
** building package indices
** installing vignettes
** testing if installed package can be loaded from temporary location
** testing if installed package can be loaded from final location
** testing if installed package keeps a record of temporary installation path
install for x64
* installing *source* package 'miRNApath' ...
** testing if installed package can be loaded
* MD5 sums
packaged installation of 'miRNApath' as miRNApath_1.43.0.zip
* DONE (miRNApath)