| Back to Multiple platform build/check report for BioC 3.9 |
|
This page was generated on 2019-04-09 13:31:49 -0400 (Tue, 09 Apr 2019).
| Package 994/1703 | Hostname | OS / Arch | INSTALL | BUILD | CHECK | BUILD BIN | ||||||
| miRLAB 1.13.0 Thuc Duy Le
| malbec2 | Linux (Ubuntu 18.04.2 LTS) / x86_64 | OK | OK | OK | |||||||
| tokay2 | Windows Server 2012 R2 Standard / x64 | OK | OK | OK | OK | |||||||
| celaya2 | OS X 10.11.6 El Capitan / x86_64 | OK | OK | OK | OK | |||||||
| merida2 | OS X 10.11.6 El Capitan / x86_64 | ERROR | [ ERROR ] | skipped | skipped |
| Package: miRLAB |
| Version: 1.13.0 |
| Command: /Library/Frameworks/R.framework/Versions/Current/Resources/bin/R CMD build --keep-empty-dirs --no-resave-data miRLAB |
| StartedAt: 2019-04-08 21:14:28 -0400 (Mon, 08 Apr 2019) |
| EndedAt: 2019-04-08 21:14:49 -0400 (Mon, 08 Apr 2019) |
| EllapsedTime: 20.5 seconds |
| RetCode: 1 |
| Status: ERROR |
| PackageFile: None |
| PackageFileSize: NA |
##############################################################################
##############################################################################
###
### Running command:
###
### /Library/Frameworks/R.framework/Versions/Current/Resources/bin/R CMD build --keep-empty-dirs --no-resave-data miRLAB
###
##############################################################################
##############################################################################
* checking for file ‘miRLAB/DESCRIPTION’ ... OK
* preparing ‘miRLAB’:
* checking DESCRIPTION meta-information ... OK
* installing the package to build vignettes
-----------------------------------
ERROR: dependency ‘pcalg’ is not available for package ‘miRLAB’
* removing ‘/private/tmp/Rtmpb9Yc0w/Rinst17fa71ab6307d/miRLAB’
-----------------------------------
ERROR: package installation failed