| Back to Multiple platform build/check report for BioC 3.9 |
|
This page was generated on 2019-04-09 13:19:08 -0400 (Tue, 09 Apr 2019).
| Package 970/1703 | Hostname | OS / Arch | INSTALL | BUILD | CHECK | BUILD BIN | ||||||
| methyvim 1.5.0 Nima Hejazi
| malbec2 | Linux (Ubuntu 18.04.2 LTS) / x86_64 | OK | OK | OK | |||||||
| tokay2 | Windows Server 2012 R2 Standard / x64 | OK | OK | ERROR | OK | |||||||
| celaya2 | OS X 10.11.6 El Capitan / x86_64 | OK | [ OK ] | OK | OK | |||||||
| merida2 | OS X 10.11.6 El Capitan / x86_64 | OK | OK | OK | OK |
| Package: methyvim |
| Version: 1.5.0 |
| Command: /Library/Frameworks/R.framework/Versions/Current/Resources/bin/R CMD build --keep-empty-dirs --no-resave-data methyvim |
| StartedAt: 2019-04-08 22:43:33 -0400 (Mon, 08 Apr 2019) |
| EndedAt: 2019-04-08 22:48:34 -0400 (Mon, 08 Apr 2019) |
| EllapsedTime: 301.2 seconds |
| RetCode: 0 |
| Status: OK |
| PackageFile: methyvim_1.5.0.tar.gz |
| PackageFileSize: 479.4 KiB |
##############################################################################
##############################################################################
###
### Running command:
###
### /Library/Frameworks/R.framework/Versions/Current/Resources/bin/R CMD build --keep-empty-dirs --no-resave-data methyvim
###
##############################################################################
##############################################################################
* checking for file ‘methyvim/DESCRIPTION’ ... OK
* preparing ‘methyvim’:
* checking DESCRIPTION meta-information ... OK
* installing the package to build vignettes
* creating vignettes ... OK
Warning: ‘inst/doc’ files
‘using_methyvim.Rmd’, ‘using_methyvim.html’, ‘using_methyvim.R’
ignored as vignettes have been rebuilt.
Run R CMD build with --no-build-vignettes to prevent rebuilding.
* checking for LF line-endings in source and make files and shell scripts
* checking for empty or unneeded directories
* building ‘methyvim_1.5.0.tar.gz’