| Back to Multiple platform build/check report for BioC 3.9 |
|
This page was generated on 2019-04-09 11:57:13 -0400 (Tue, 09 Apr 2019).
| Package 969/1703 | Hostname | OS / Arch | INSTALL | BUILD | CHECK | BUILD BIN | ||||||
| methylumi 2.29.0 Sean Davis
| malbec2 | Linux (Ubuntu 18.04.2 LTS) / x86_64 | OK | OK | WARNINGS | |||||||
| tokay2 | Windows Server 2012 R2 Standard / x64 | [ OK ] | OK | WARNINGS | OK | |||||||
| celaya2 | OS X 10.11.6 El Capitan / x86_64 | OK | OK | WARNINGS | OK | |||||||
| merida2 | OS X 10.11.6 El Capitan / x86_64 | OK | OK | WARNINGS | OK |
| Package: methylumi |
| Version: 2.29.0 |
| Command: C:\cygwin\bin\curl.exe -O https://malbec2.bioconductor.org/BBS/3.9/bioc/src/contrib/methylumi_2.29.0.tar.gz && rm -rf methylumi.buildbin-libdir && mkdir methylumi.buildbin-libdir && C:\Users\biocbuild\bbs-3.9-bioc\R\bin\R.exe CMD INSTALL --merge-multiarch --build --library=methylumi.buildbin-libdir methylumi_2.29.0.tar.gz && C:\Users\biocbuild\bbs-3.9-bioc\R\bin\R.exe CMD INSTALL methylumi_2.29.0.zip && rm methylumi_2.29.0.tar.gz methylumi_2.29.0.zip |
| StartedAt: 2019-04-08 20:42:07 -0400 (Mon, 08 Apr 2019) |
| EndedAt: 2019-04-08 20:44:03 -0400 (Mon, 08 Apr 2019) |
| EllapsedTime: 115.8 seconds |
| RetCode: 0 |
| Status: OK |
##############################################################################
##############################################################################
###
### Running command:
###
### C:\cygwin\bin\curl.exe -O https://malbec2.bioconductor.org/BBS/3.9/bioc/src/contrib/methylumi_2.29.0.tar.gz && rm -rf methylumi.buildbin-libdir && mkdir methylumi.buildbin-libdir && C:\Users\biocbuild\bbs-3.9-bioc\R\bin\R.exe CMD INSTALL --merge-multiarch --build --library=methylumi.buildbin-libdir methylumi_2.29.0.tar.gz && C:\Users\biocbuild\bbs-3.9-bioc\R\bin\R.exe CMD INSTALL methylumi_2.29.0.zip && rm methylumi_2.29.0.tar.gz methylumi_2.29.0.zip
###
##############################################################################
##############################################################################
% Total % Received % Xferd Average Speed Time Time Time Current
Dload Upload Total Spent Left Speed
0 0 0 0 0 0 0 0 --:--:-- --:--:-- --:--:-- 0
100 5614k 100 5614k 0 0 43.7M 0 --:--:-- --:--:-- --:--:-- 46.0M
install for i386
* installing *source* package 'methylumi' ...
** R
** data
** inst
** byte-compile and prepare package for lazy loading
** help
*** installing help indices
converting help for package 'methylumi'
finding HTML links ... done
CpGs html
MethyLumi-class html
finding level-2 HTML links ... done
MethyLumiM-class html
Rd warning: C:/Users/biocbuild/bbs-3.9-bioc/tmpdir/RtmpOAI6jO/R.INSTALL28bc21a649d3/methylumi/man/MethyLumiM-class.Rd:41: file link 'ExpressionSet-class' in package 'Biobase' does not exist and so has been treated as a topic
Rd warning: C:/Users/biocbuild/bbs-3.9-bioc/tmpdir/RtmpOAI6jO/R.INSTALL28bc21a649d3/methylumi/man/MethyLumiM-class.Rd:41: file link 'eSet-class' in package 'Biobase' does not exist and so has been treated as a topic
Rd warning: C:/Users/biocbuild/bbs-3.9-bioc/tmpdir/RtmpOAI6jO/R.INSTALL28bc21a649d3/methylumi/man/MethyLumiM-class.Rd:53: file link 'eSet-class' in package 'Biobase' does not exist and so has been treated as a topic
Rd warning: C:/Users/biocbuild/bbs-3.9-bioc/tmpdir/RtmpOAI6jO/R.INSTALL28bc21a649d3/methylumi/man/MethyLumiM-class.Rd:54: file link 'eSet-class' in package 'Biobase' does not exist and so has been treated as a topic
Rd warning: C:/Users/biocbuild/bbs-3.9-bioc/tmpdir/RtmpOAI6jO/R.INSTALL28bc21a649d3/methylumi/man/MethyLumiM-class.Rd:55: file link 'eSet-class' in package 'Biobase' does not exist and so has been treated as a topic
Rd warning: C:/Users/biocbuild/bbs-3.9-bioc/tmpdir/RtmpOAI6jO/R.INSTALL28bc21a649d3/methylumi/man/MethyLumiM-class.Rd:56: file link 'eSet-class' in package 'Biobase' does not exist and so has been treated as a topic
Rd warning: C:/Users/biocbuild/bbs-3.9-bioc/tmpdir/RtmpOAI6jO/R.INSTALL28bc21a649d3/methylumi/man/MethyLumiM-class.Rd:57: file link 'eSet-class' in package 'Biobase' does not exist and so has been treated as a topic
Rd warning: C:/Users/biocbuild/bbs-3.9-bioc/tmpdir/RtmpOAI6jO/R.INSTALL28bc21a649d3/methylumi/man/MethyLumiM-class.Rd:58: file link 'eSet-class' in package 'Biobase' does not exist and so has been treated as a topic
Rd warning: C:/Users/biocbuild/bbs-3.9-bioc/tmpdir/RtmpOAI6jO/R.INSTALL28bc21a649d3/methylumi/man/MethyLumiM-class.Rd:70: file link 'eSet-class' in package 'Biobase' does not exist and so has been treated as a topic
MethyLumiQC-class html
MethyLumiSet-class html
estimateM html
extractBarcodeAndPosition html
featureFilter html
generics html
getAssayDataNameSubstitutions html
methylData-class html
methylumIDAT html
methylumi-package html
methylumiGenerics html
methylumiR html
mldat html
normalizeMethyLumiSet html
plotSampleIntensities html
qcplot html
stripBeadExtras html
varFilter html
** building package indices
** installing vignettes
** testing if installed package can be loaded from temporary location
** testing if installed package can be loaded from final location
** testing if installed package keeps a record of temporary installation path
install for x64
* installing *source* package 'methylumi' ...
** testing if installed package can be loaded
* MD5 sums
packaged installation of 'methylumi' as methylumi_2.29.0.zip
* DONE (methylumi)
* installing to library 'C:/Users/biocbuild/bbs-3.9-bioc/R/library'
package 'methylumi' successfully unpacked and MD5 sums checked