| Back to Multiple platform build/check report for BioC 3.9 |
|
This page was generated on 2019-04-09 12:20:54 -0400 (Tue, 09 Apr 2019).
| Package 967/1703 | Hostname | OS / Arch | INSTALL | BUILD | CHECK | BUILD BIN | ||||||
| methylPipe 1.17.1 Kamal Kishore
| malbec2 | Linux (Ubuntu 18.04.2 LTS) / x86_64 | OK | OK | WARNINGS | |||||||
| tokay2 | Windows Server 2012 R2 Standard / x64 | OK | OK | WARNINGS | [ OK ] | |||||||
| celaya2 | OS X 10.11.6 El Capitan / x86_64 | OK | OK | WARNINGS | OK | |||||||
| merida2 | OS X 10.11.6 El Capitan / x86_64 | OK | OK | WARNINGS | OK |
| Package: methylPipe |
| Version: 1.17.1 |
| Command: rm -rf methylPipe.buildbin-libdir && mkdir methylPipe.buildbin-libdir && C:\Users\biocbuild\bbs-3.9-bioc\R\bin\R.exe CMD INSTALL --merge-multiarch --build --library=methylPipe.buildbin-libdir methylPipe_1.17.1.tar.gz |
| StartedAt: 2019-04-09 08:27:35 -0400 (Tue, 09 Apr 2019) |
| EndedAt: 2019-04-09 08:29:19 -0400 (Tue, 09 Apr 2019) |
| EllapsedTime: 104.0 seconds |
| RetCode: 0 |
| Status: OK |
| PackageFile: methylPipe_1.17.1.zip |
| PackageFileSize: 1.12 MiB |
##############################################################################
##############################################################################
###
### Running command:
###
### rm -rf methylPipe.buildbin-libdir && mkdir methylPipe.buildbin-libdir && C:\Users\biocbuild\bbs-3.9-bioc\R\bin\R.exe CMD INSTALL --merge-multiarch --build --library=methylPipe.buildbin-libdir methylPipe_1.17.1.tar.gz
###
##############################################################################
##############################################################################
install for i386
* installing *source* package 'methylPipe' ...
** libs
C:/Rtools/mingw_32/bin/gcc -I"C:/Users/BIOCBU˜1/BBS-3˜1.9-B/R/include" -DNDEBUG -I"C:/extsoft/include" -O3 -Wall -std=gnu99 -mtune=generic -c R_init_methylPipe.c -o R_init_methylPipe.o
C:/Rtools/mingw_32/bin/gcc -I"C:/Users/BIOCBU˜1/BBS-3˜1.9-B/R/include" -DNDEBUG -I"C:/extsoft/include" -O3 -Wall -std=gnu99 -mtune=generic -c binning.c -o binning.o
C:/Rtools/mingw_32/bin/gcc -shared -s -static-libgcc -o methylPipe.dll tmp.def R_init_methylPipe.o binning.o -LC:/extsoft/lib/i386 -LC:/extsoft/lib -LC:/Users/BIOCBU˜1/BBS-3˜1.9-B/R/bin/i386 -lR
installing to C:/Users/biocbuild/bbs-3.9-bioc/meat/methylPipe.buildbin-libdir/00LOCK-methylPipe/00new/methylPipe/libs/i386
** R
** exec
** inst
** byte-compile and prepare package for lazy loading
** help
*** installing help indices
converting help for package 'methylPipe'
finding HTML links ... done
BSdata-class html
finding level-2 HTML links ... done
BSdataSet-class html
BSprepare html
GEcollection-class html
GElist-class html
chiCombP html
consolidateDMRs html
extractBinGRanges html
findDMR html
findPMDs html
getCpos html
getCposDensity html
mCsmoothing html
mapBSdata2GRanges html
meth.call html
methstats html
methylPipe-package html
plotMeth html
pool.reads html
process.hmc html
profileDNAmetBin html
splitChrs html
tabixdata2GR html
** building package indices
** installing vignettes
** testing if installed package can be loaded from temporary location
** testing if installed package can be loaded from final location
** testing if installed package keeps a record of temporary installation path
install for x64
* installing *source* package 'methylPipe' ...
** libs
C:/Rtools/mingw_64/bin/gcc -I"C:/Users/BIOCBU˜1/BBS-3˜1.9-B/R/include" -DNDEBUG -I"C:/extsoft/include" -O2 -Wall -std=gnu99 -mtune=generic -c R_init_methylPipe.c -o R_init_methylPipe.o
C:/Rtools/mingw_64/bin/gcc -I"C:/Users/BIOCBU˜1/BBS-3˜1.9-B/R/include" -DNDEBUG -I"C:/extsoft/include" -O2 -Wall -std=gnu99 -mtune=generic -c binning.c -o binning.o
C:/Rtools/mingw_64/bin/gcc -shared -s -static-libgcc -o methylPipe.dll tmp.def R_init_methylPipe.o binning.o -LC:/extsoft/lib/x64 -LC:/extsoft/lib -LC:/Users/BIOCBU˜1/BBS-3˜1.9-B/R/bin/x64 -lR
installing to C:/Users/biocbuild/bbs-3.9-bioc/meat/methylPipe.buildbin-libdir/methylPipe/libs/x64
** testing if installed package can be loaded
* MD5 sums
packaged installation of 'methylPipe' as methylPipe_1.17.1.zip
* DONE (methylPipe)