| Back to Multiple platform build/check report for BioC 3.9 |
|
This page was generated on 2019-04-09 12:30:57 -0400 (Tue, 09 Apr 2019).
| Package 963/1703 | Hostname | OS / Arch | INSTALL | BUILD | CHECK | BUILD BIN | ||||||
| methylInheritance 1.7.2 Astrid Deschenes
| malbec2 | Linux (Ubuntu 18.04.2 LTS) / x86_64 | OK | OK | OK | |||||||
| tokay2 | Windows Server 2012 R2 Standard / x64 | OK | OK | OK | [ OK ] | |||||||
| celaya2 | OS X 10.11.6 El Capitan / x86_64 | OK | OK | OK | OK | |||||||
| merida2 | OS X 10.11.6 El Capitan / x86_64 | OK | OK | ERROR | OK |
| Package: methylInheritance |
| Version: 1.7.2 |
| Command: rm -rf methylInheritance.buildbin-libdir && mkdir methylInheritance.buildbin-libdir && C:\Users\biocbuild\bbs-3.9-bioc\R\bin\R.exe CMD INSTALL --merge-multiarch --build --library=methylInheritance.buildbin-libdir methylInheritance_1.7.2.tar.gz |
| StartedAt: 2019-04-09 08:27:19 -0400 (Tue, 09 Apr 2019) |
| EndedAt: 2019-04-09 08:28:14 -0400 (Tue, 09 Apr 2019) |
| EllapsedTime: 55.1 seconds |
| RetCode: 0 |
| Status: OK |
| PackageFile: methylInheritance_1.7.2.zip |
| PackageFileSize: 1.817 MiB |
##############################################################################
##############################################################################
###
### Running command:
###
### rm -rf methylInheritance.buildbin-libdir && mkdir methylInheritance.buildbin-libdir && C:\Users\biocbuild\bbs-3.9-bioc\R\bin\R.exe CMD INSTALL --merge-multiarch --build --library=methylInheritance.buildbin-libdir methylInheritance_1.7.2.tar.gz
###
##############################################################################
##############################################################################
install for i386
* installing *source* package 'methylInheritance' ...
** R
** data
** inst
** byte-compile and prepare package for lazy loading
** help
*** installing help indices
converting help for package 'methylInheritance'
finding HTML links ... done
calculateSignificantLevel html
createDataStructure html
createOutputDir html
demoForTransgenerationalAnalysis html
extractInfo html
formatInputMethylData html
getGRangesFromMethylDiff html
interGeneration html
isInterGenerationResults html
loadAllRDSResults html
loadConvergenceData html
mergePermutationAndObservation html
methylInheritance-package html
methylInheritanceAllResults html
methylInheritanceResults html
plotConvergenceGraph html
plotGraph html
readInterGenerationResults html
runObservation html
runOnePermutationOnAllGenerations html
runPermutation html
samplesForTransgenerationalAnalysis html
saveInterGenerationResults html
validateExtractInfo html
validateLoadConvergenceData html
validateMergePermutationAndObservation
html
validateRunObservation html
validateRunPermutation html
** building package indices
** installing vignettes
** testing if installed package can be loaded from temporary location
** testing if installed package can be loaded from final location
** testing if installed package keeps a record of temporary installation path
install for x64
* installing *source* package 'methylInheritance' ...
** testing if installed package can be loaded
* MD5 sums
packaged installation of 'methylInheritance' as methylInheritance_1.7.2.zip
* DONE (methylInheritance)