| Back to Multiple platform build/check report for BioC 3.9 |
|
This page was generated on 2019-04-09 12:40:52 -0400 (Tue, 09 Apr 2019).
| Package 962/1703 | Hostname | OS / Arch | INSTALL | BUILD | CHECK | BUILD BIN | ||||||
| methylGSA 1.1.4 Xu Ren
| malbec2 | Linux (Ubuntu 18.04.2 LTS) / x86_64 | OK | OK | OK | |||||||
| tokay2 | Windows Server 2012 R2 Standard / x64 | OK | OK | OK | [ OK ] | |||||||
| celaya2 | OS X 10.11.6 El Capitan / x86_64 | OK | OK | OK | OK | |||||||
| merida2 | OS X 10.11.6 El Capitan / x86_64 | OK | OK | OK | OK |
| Package: methylGSA |
| Version: 1.1.4 |
| Command: rm -rf methylGSA.buildbin-libdir && mkdir methylGSA.buildbin-libdir && C:\Users\biocbuild\bbs-3.9-bioc\R\bin\R.exe CMD INSTALL --merge-multiarch --build --library=methylGSA.buildbin-libdir methylGSA_1.1.4.tar.gz |
| StartedAt: 2019-04-09 08:27:15 -0400 (Tue, 09 Apr 2019) |
| EndedAt: 2019-04-09 08:28:10 -0400 (Tue, 09 Apr 2019) |
| EllapsedTime: 54.9 seconds |
| RetCode: 0 |
| Status: OK |
| PackageFile: methylGSA_1.1.4.zip |
| PackageFileSize: 3.159 MiB |
##############################################################################
##############################################################################
###
### Running command:
###
### rm -rf methylGSA.buildbin-libdir && mkdir methylGSA.buildbin-libdir && C:\Users\biocbuild\bbs-3.9-bioc\R\bin\R.exe CMD INSTALL --merge-multiarch --build --library=methylGSA.buildbin-libdir methylGSA_1.1.4.tar.gz
###
##############################################################################
##############################################################################
install for i386
* installing *source* package 'methylGSA' ...
** R
** data
** inst
** byte-compile and prepare package for lazy loading
** help
*** installing help indices
converting help for package 'methylGSA'
finding HTML links ... done
CpG2Gene html
GS.list html
barplot html
cpg.pval html
getAnnot html
getDescription html
getGS html
methylRRA html
methylglm html
methylgometh html
prepareAnnot html
** building package indices
** installing vignettes
** testing if installed package can be loaded from temporary location
** testing if installed package can be loaded from final location
** testing if installed package keeps a record of temporary installation path
install for x64
* installing *source* package 'methylGSA' ...
** testing if installed package can be loaded
* MD5 sums
packaged installation of 'methylGSA' as methylGSA_1.1.4.zip
* DONE (methylGSA)