| Back to Multiple platform build/check report for BioC 3.9 |
|
This page was generated on 2019-04-09 12:01:03 -0400 (Tue, 09 Apr 2019).
| Package 960/1703 | Hostname | OS / Arch | INSTALL | BUILD | CHECK | BUILD BIN | ||||||
| methyAnalysis 1.25.0 Pan Du
| malbec2 | Linux (Ubuntu 18.04.2 LTS) / x86_64 | OK | OK | WARNINGS | |||||||
| tokay2 | Windows Server 2012 R2 Standard / x64 | OK | OK | WARNINGS | [ OK ] | |||||||
| celaya2 | OS X 10.11.6 El Capitan / x86_64 | OK | OK | WARNINGS | OK | |||||||
| merida2 | OS X 10.11.6 El Capitan / x86_64 | OK | OK | WARNINGS | OK |
| Package: methyAnalysis |
| Version: 1.25.0 |
| Command: rm -rf methyAnalysis.buildbin-libdir && mkdir methyAnalysis.buildbin-libdir && C:\Users\biocbuild\bbs-3.9-bioc\R\bin\R.exe CMD INSTALL --merge-multiarch --build --library=methyAnalysis.buildbin-libdir methyAnalysis_1.25.0.tar.gz |
| StartedAt: 2019-04-09 08:27:08 -0400 (Tue, 09 Apr 2019) |
| EndedAt: 2019-04-09 08:28:41 -0400 (Tue, 09 Apr 2019) |
| EllapsedTime: 93.3 seconds |
| RetCode: 0 |
| Status: OK |
| PackageFile: methyAnalysis_1.25.0.zip |
| PackageFileSize: 1.94 MiB |
##############################################################################
##############################################################################
###
### Running command:
###
### rm -rf methyAnalysis.buildbin-libdir && mkdir methyAnalysis.buildbin-libdir && C:\Users\biocbuild\bbs-3.9-bioc\R\bin\R.exe CMD INSTALL --merge-multiarch --build --library=methyAnalysis.buildbin-libdir methyAnalysis_1.25.0.tar.gz
###
##############################################################################
##############################################################################
install for i386
* installing *source* package 'methyAnalysis' ...
** R
** data
** inst
** byte-compile and prepare package for lazy loading
No methods found in package 'genoset' for request: 'toGenomeOrder' when loading 'methyAnalysis'
** help
*** installing help indices
converting help for package 'methyAnalysis'
finding HTML links ... done
MethyGenoSet-class html
finding level-2 HTML links ... done
Rd warning: C:/Users/biocbuild/bbs-3.9-bioc/tmpdir/RtmpacNFba/R.INSTALL22303a0dee1/methyAnalysis/man/MethyGenoSet-class.Rd:34: file link 'GenoSet' in package 'genoset' does not exist and so has been treated as a topic
Rd warning: C:/Users/biocbuild/bbs-3.9-bioc/tmpdir/RtmpacNFba/R.INSTALL22303a0dee1/methyAnalysis/man/MethyGenoSet-class.Rd:36: file link 'GenoSet' in package 'genoset' does not exist and so has been treated as a topic
Rd warning: C:/Users/biocbuild/bbs-3.9-bioc/tmpdir/RtmpacNFba/R.INSTALL22303a0dee1/methyAnalysis/man/MethyGenoSet-class.Rd:46: file link 'GenoSet' in package 'genoset' does not exist and so has been treated as a topic
Rd warning: C:/Users/biocbuild/bbs-3.9-bioc/tmpdir/RtmpacNFba/R.INSTALL22303a0dee1/methyAnalysis/man/MethyGenoSet-class.Rd:51: file link 'SummarizedExperiment' in package 'SummarizedExperiment' does not exist and so has been treated as a topic
Rd warning: C:/Users/biocbuild/bbs-3.9-bioc/tmpdir/RtmpacNFba/R.INSTALL22303a0dee1/methyAnalysis/man/MethyGenoSet-class.Rd:57: file link 'SummarizedExperiment' in package 'SummarizedExperiment' does not exist and so has been treated as a topic
Rd warning: C:/Users/biocbuild/bbs-3.9-bioc/tmpdir/RtmpacNFba/R.INSTALL22303a0dee1/methyAnalysis/man/MethyGenoSet-class.Rd:58: file link 'colData' in package 'SummarizedExperiment' does not exist and so has been treated as a topic
Rd warning: C:/Users/biocbuild/bbs-3.9-bioc/tmpdir/RtmpacNFba/R.INSTALL22303a0dee1/methyAnalysis/man/MethyGenoSet-class.Rd:86: file link 'GenoSet' in package 'genoset' does not exist and so has been treated as a topic
Rd warning: C:/Users/biocbuild/bbs-3.9-bioc/tmpdir/RtmpacNFba/R.INSTALL22303a0dee1/methyAnalysis/man/MethyGenoSet-class.Rd:91: file link 'SummarizedExperiment' in package 'SummarizedExperiment' does not exist and so has been treated as a topic
Rd warning: C:/Users/biocbuild/bbs-3.9-bioc/tmpdir/RtmpacNFba/R.INSTALL22303a0dee1/methyAnalysis/man/MethyGenoSet-class.Rd:92: file link 'GenoSet' in package 'genoset' does not exist and so has been treated as a topic
Rd warning: C:/Users/biocbuild/bbs-3.9-bioc/tmpdir/RtmpacNFba/R.INSTALL22303a0dee1/methyAnalysis/man/MethyGenoSet-class.Rd:92: file link 'SummarizedExperiment' in package 'SummarizedExperiment' does not exist and so has been treated as a topic
Rd warning: C:/Users/biocbuild/bbs-3.9-bioc/tmpdir/RtmpacNFba/R.INSTALL22303a0dee1/methyAnalysis/man/MethyGenoSet-class.Rd:100: file link 'GenoSet' in package 'genoset' does not exist and so has been treated as a topic
Rd warning: C:/Users/biocbuild/bbs-3.9-bioc/tmpdir/RtmpacNFba/R.INSTALL22303a0dee1/methyAnalysis/man/MethyGenoSet-class.Rd:100: file link 'SummarizedExperiment' in package 'SummarizedExperiment' does not exist and so has been treated as a topic
MethyLumiM2GenoSet html
annotateDMRInfo html
annotateGRanges html
asBigMatrix-methods html
Rd warning: C:/Users/biocbuild/bbs-3.9-bioc/tmpdir/RtmpacNFba/R.INSTALL22303a0dee1/methyAnalysis/man/asBigMatrix-methods.Rd:15: file link 'GenoSet' in package 'genoset' does not exist and so has been treated as a topic
buildAnnotationTracks html
checkChrName html
createTranscriptTrack html
detectDMR.slideWin html
estimateCMR.methylation html
estimateMethySeq html
exampleMethyGenoSet html
export.DMRInfo html
export.methyGenoSet html
filterBisulfiteVariant html
getContinuousRegion html
getCoverage html
heatmapByChromosome html
identifyCpG html
identifySigDMR html
plotHeatmapByGene html
plotMethylationHeatmapByGene html
plotTracksWithDataTrackInfo html
smoothMethyData html
updateMethyGenoSet html
** building package indices
** installing vignettes
** testing if installed package can be loaded from temporary location
No methods found in package 'genoset' for request: 'toGenomeOrder' when loading 'methyAnalysis'
** testing if installed package can be loaded from final location
No methods found in package 'genoset' for request: 'toGenomeOrder' when loading 'methyAnalysis'
** testing if installed package keeps a record of temporary installation path
install for x64
* installing *source* package 'methyAnalysis' ...
** testing if installed package can be loaded
No methods found in package 'genoset' for request: 'toGenomeOrder' when loading 'methyAnalysis'
* MD5 sums
packaged installation of 'methyAnalysis' as methyAnalysis_1.25.0.zip
* DONE (methyAnalysis)