| Back to Multiple platform build/check report for BioC 3.9 |
|
This page was generated on 2019-04-09 11:57:50 -0400 (Tue, 09 Apr 2019).
| Package 959/1703 | Hostname | OS / Arch | INSTALL | BUILD | CHECK | BUILD BIN | ||||||
| methVisual 1.35.0 Arie Zackay
| malbec2 | Linux (Ubuntu 18.04.2 LTS) / x86_64 | OK | OK | WARNINGS | |||||||
| tokay2 | Windows Server 2012 R2 Standard / x64 | [ OK ] | OK | WARNINGS | OK | |||||||
| celaya2 | OS X 10.11.6 El Capitan / x86_64 | OK | OK | WARNINGS | OK | |||||||
| merida2 | OS X 10.11.6 El Capitan / x86_64 | OK | OK | WARNINGS | OK |
| Package: methVisual |
| Version: 1.35.0 |
| Command: C:\cygwin\bin\curl.exe -O https://malbec2.bioconductor.org/BBS/3.9/bioc/src/contrib/methVisual_1.35.0.tar.gz && rm -rf methVisual.buildbin-libdir && mkdir methVisual.buildbin-libdir && C:\Users\biocbuild\bbs-3.9-bioc\R\bin\R.exe CMD INSTALL --merge-multiarch --build --library=methVisual.buildbin-libdir methVisual_1.35.0.tar.gz && C:\Users\biocbuild\bbs-3.9-bioc\R\bin\R.exe CMD INSTALL methVisual_1.35.0.zip && rm methVisual_1.35.0.tar.gz methVisual_1.35.0.zip |
| StartedAt: 2019-04-08 19:18:37 -0400 (Mon, 08 Apr 2019) |
| EndedAt: 2019-04-08 19:19:32 -0400 (Mon, 08 Apr 2019) |
| EllapsedTime: 55.7 seconds |
| RetCode: 0 |
| Status: OK |
##############################################################################
##############################################################################
###
### Running command:
###
### C:\cygwin\bin\curl.exe -O https://malbec2.bioconductor.org/BBS/3.9/bioc/src/contrib/methVisual_1.35.0.tar.gz && rm -rf methVisual.buildbin-libdir && mkdir methVisual.buildbin-libdir && C:\Users\biocbuild\bbs-3.9-bioc\R\bin\R.exe CMD INSTALL --merge-multiarch --build --library=methVisual.buildbin-libdir methVisual_1.35.0.tar.gz && C:\Users\biocbuild\bbs-3.9-bioc\R\bin\R.exe CMD INSTALL methVisual_1.35.0.zip && rm methVisual_1.35.0.tar.gz methVisual_1.35.0.zip
###
##############################################################################
##############################################################################
% Total % Received % Xferd Average Speed Time Time Time Current
Dload Upload Total Spent Left Speed
0 0 0 0 0 0 0 0 --:--:-- --:--:-- --:--:-- 0
67 24270 67 16384 0 0 81257 0 --:--:-- --:--:-- --:--:-- 83591
100 24270 100 24270 0 0 117k 0 --:--:-- --:--:-- --:--:-- 120k
install for i386
* installing *source* package 'methVisual' ...
** R
** data
** inst
** byte-compile and prepare package for lazy loading
Note: possible error in 'windows(n, lengthData, ': unused argument (rescale = "fixed")
** help
*** installing help indices
converting help for package 'methVisual'
finding HTML links ... done
Cooccurrence html
MethAlignNW html
MethDataInput html
MethLollipops html
MethylQC html
cgInAlign html
cgMethFinder html
coversionGenom html
findNonAligned html
heatMapMeth html
makeDataMethGFF html
makeLocalExpDir html
makeTabFilePath html
matrixSNP html
methCA html
methData html
methFisherTest html
methWhitneyUTest html
plotAbsMethyl html
plotMatrixSNP html
readBisulfFASTA html
selectRefSeq html
** building package indices
** installing vignettes
** testing if installed package can be loaded from temporary location
** testing if installed package can be loaded from final location
** testing if installed package keeps a record of temporary installation path
install for x64
* installing *source* package 'methVisual' ...
** testing if installed package can be loaded
* MD5 sums
packaged installation of 'methVisual' as methVisual_1.35.0.zip
* DONE (methVisual)
* installing to library 'C:/Users/biocbuild/bbs-3.9-bioc/R/library'
package 'methVisual' successfully unpacked and MD5 sums checked